Report for JIRA-Client-REST-0.06

Back
From: metabase:user:0d96120c-29e2-11e5-b049-ede3035d37de
Subject: UNKNOWN JIRA-Client-REST-0.06 v5.23.1 GNU/Linux
Date: 2015-07-29T09:26:24Z

This distribution has been tested as part of the CPAN Testers
project, supporting the Perl programming language.  See
http://wiki.cpantesters.org/ for more information or email
questions to cpan-testers-discuss@perl.org


--
Dear Cory G Watson,

This is a computer-generated report for JIRA-Client-REST-0.06
on perl 5.23.1, created by CPAN-Reporter-1.2014.

Thank you for uploading your work to CPAN.  However, attempting to
test your distribution gave an inconclusive result.

This could be because your distribution had an error during the make/build
stage, did not define tests, tests could not be found, because your tests were
interrupted before they finished, or because the results of the tests could not
be parsed.  You may wish to consult the CPAN Testers Wiki:

http://wiki.cpantesters.org/wiki/CPANAuthorNotes

Sections of this report:

    * Tester comments
    * Program output
    * Prerequisites
    * Environment and other context

------------------------------
TESTER COMMENTS
------------------------------

Additional comments from tester:

this report is from an automated smoke testing program
and was not reviewed by a human for accuracy

------------------------------
PROGRAM OUTPUT
------------------------------

Output from '/usr/bin/make test':

PERL_DL_NONLAZY=1 "/home/jmaslak/perl5/perlbrew/perls/perl-5.23.1/bin/perl5.23.1" "-MExtUtils::Command::MM" "-MTest::Harness" "-e" "undef *Test::Harness::Switches; test_harness(0, 'blib/lib', 'blib/arch')" t/*.t
Passing a list of values to enum is deprecated. Enum values should be wrapped in an arrayref. at /home/jmaslak/.cpan/build/Net-HTTP-Spore-0.06-EVe2P5/blib/lib/Net/HTTP/Spore/Meta/Types.pm line 18.
	require Net/HTTP/Spore/Meta/Types.pm called at /home/jmaslak/.cpan/build/Net-HTTP-Spore-0.06-EVe2P5/blib/lib/Net/HTTP/Spore/Meta/Method.pm line 16
	Net::HTTP::Spore::Meta::Method::BEGIN() called at /home/jmaslak/.cpan/build/Net-HTTP-Spore-0.06-EVe2P5/blib/lib/Net/HTTP/Spore/Meta/Types.pm line 0
	eval {...} called at /home/jmaslak/.cpan/build/Net-HTTP-Spore-0.06-EVe2P5/blib/lib/Net/HTTP/Spore/Meta/Types.pm line 0
	require Net/HTTP/Spore/Meta/Method.pm called at /home/jmaslak/.cpan/build/Net-HTTP-Spore-0.06-EVe2P5/blib/lib/Net/HTTP/Spore/Meta/Method/Spore.pm line 11
	Net::HTTP::Spore::Meta::Method::Spore::BEGIN() called at /home/jmaslak/.cpan/build/Net-HTTP-Spore-0.06-EVe2P5/blib/lib/Net/HTTP/Spore/Meta/Types.pm line 0
	eval {...} called at /home/jmaslak/.cpan/build/Net-HTTP-Spore-0.06-EVe2P5/blib/lib/Net/HTTP/Spore/Meta/Types.pm line 0
	require Net/HTTP/Spore/Meta/Method/Spore.pm called at /home/jmaslak/perl5/perlbrew/perls/perl-5.23.1/lib/site_perl/5.23.1/Module/Runtime.pm line 317
	Module::Runtime::require_module("Net::HTTP::Spore::Meta::Method::Spore") called at /home/jmaslak/perl5/perlbrew/perls/perl-5.23.1/lib/site_perl/5.23.1/Module/Runtime.pm line 348
	Module::Runtime::use_module("Net::HTTP::Spore::Meta::Method::Spore") called at /home/jmaslak/perl5/perlbrew/perls/perl-5.23.1/lib/site_perl/5.23.1/x86_64-linux/Moose/Util.pm line 147
	Moose::Util::_apply_all_roles(Moose::Meta::Role=HASH(0x38694c0), undef, "Net::HTTP::Spore::Meta::Method::Spore") called at /home/jmaslak/perl5/perlbrew/perls/perl-5.23.1/lib/site_perl/5.23.1/x86_64-linux/Moose/Util.pm line 114
	Moose::Util::apply_all_roles(Moose::Meta::Role=HASH(0x38694c0), "Net::HTTP::Spore::Meta::Method::Spore") called at /home/jmaslak/perl5/perlbrew/perls/perl-5.23.1/lib/site_perl/5.23.1/x86_64-linux/Moose/Role.pm line 25
	Moose::Role::with(Moose::Meta::Role=HASH(0x38694c0), "Net::HTTP::Spore::Meta::Method::Spore") called at /home/jmaslak/perl5/perlbrew/perls/perl-5.23.1/lib/site_perl/5.23.1/x86_64-linux/Moose/Exporter.pm line 419
	Moose::Role::with("Net::HTTP::Spore::Meta::Method::Spore") called at /home/jmaslak/.cpan/build/Net-HTTP-Spore-0.06-EVe2P5/blib/lib/Net/HTTP/Spore/Meta/Class.pm line 10
	require Net/HTTP/Spore/Meta/Class.pm called at /home/jmaslak/perl5/perlbrew/perls/perl-5.23.1/lib/site_perl/5.23.1/Module/Runtime.pm line 317
	Module::Runtime::require_module("Net::HTTP::Spore::Meta::Class") called at /home/jmaslak/perl5/perlbrew/perls/perl-5.23.1/lib/site_perl/5.23.1/Module/Runtime.pm line 348
	Module::Runtime::use_module("Net::HTTP::Spore::Meta::Class") called at /home/jmaslak/perl5/perlbrew/perls/perl-5.23.1/lib/site_perl/5.23.1/x86_64-linux/Moose/Util.pm line 147
	Moose::Util::_apply_all_roles(Moose::Meta::Class=HASH(0x3868980), undef, "Net::HTTP::Spore::Meta::Class") called at /home/jmaslak/perl5/perlbrew/perls/perl-5.23.1/lib/site_perl/5.23.1/x86_64-linux/Moose/Util.pm line 114
	Moose::Util::apply_all_roles(Moose::Meta::Class=HASH(0x3868980), "Net::HTTP::Spore::Meta::Class") called at /home/jmaslak/perl5/perlbrew/perls/perl-5.23.1/lib/site_perl/5.23.1/x86_64-linux/Moose/Meta/Class.pm line 89
	Moose::Meta::Class::create("Moose::Meta::Class", "Moose::Meta::Class::__ANON__::SERIAL::1", "roles", ARRAY(0x3928ee8), "superclasses", ARRAY(0x38679b8), "weaken", "") called at /home/jmaslak/perl5/perlbrew/perls/perl-5.23.1/lib/site_perl/5.23.1/x86_64-linux/Class/MOP/Package.pm line 120
	Class::MOP::Package::create_anon("Moose::Meta::Class", "superclasses", ARRAY(0x38679b8), "roles", ARRAY(0x3928ee8), "cache", 1) called at /home/jmaslak/perl5/perlbrew/perls/perl-5.23.1/lib/site_perl/5.23.1/x86_64-linux/Class/MOP/Class.pm line 472
	Class::MOP::Class::create_anon_class("Moose::Meta::Class", "superclasses", ARRAY(0x38679b8), "roles", ARRAY(0x3928ee8), "cache", 1) called at /home/jmaslak/perl5/perlbrew/perls/perl-5.23.1/lib/site_perl/5.23.1/x86_64-linux/Moose/Util/MetaRole.pm line 108
	Moose::Util::MetaRole::_make_new_class("Moose::Meta::Class", ARRAY(0x3928ee8)) called at /home/jmaslak/perl5/perlbrew/perls/perl-5.23.1/lib/site_perl/5.23.1/x86_64-linux/Moose/Util/MetaRole.pm line 53
	Moose::Util::MetaRole::_make_new_metaclass(Moose::Meta::Class=HASH(0x38677a8), HASH(0x3928a98), "class") called at /home/jmaslak/perl5/perlbrew/perls/perl-5.23.1/lib/site_perl/5.23.1/x86_64-linux/Moose/Util/MetaRole.pm line 21
	Moose::Util::MetaRole::apply_metaroles("for", "Net::HTTP::Spore::Core", "class_metaroles", HASH(0x3928a98)) called at /home/jmaslak/.cpan/build/Net-HTTP-Spore-0.06-EVe2P5/blib/lib/Net/HTTP/Spore/Meta.pm line 28
	Net::HTTP::Spore::Meta::init_meta("Net::HTTP::Spore::Meta", "for_class", "Net::HTTP::Spore::Meta::Types", "metaclass", undef, "meta_name", "meta") called at /home/jmaslak/perl5/perlbrew/perls/perl-5.23.1/lib/site_perl/5.23.1/x86_64-linux/Moose/Exporter.pm line 484
	Net::HTTP::Spore::Meta::import("Net::HTTP::Spore::Meta") called at /home/jmaslak/.cpan/build/Net-HTTP-Spore-0.06-EVe2P5/blib/lib/Net/HTTP/Spore/Core.pm line 6
	Net::HTTP::Spore::Core::BEGIN() called at /home/jmaslak/.cpan/build/Net-HTTP-Spore-0.06-EVe2P5/blib/lib/Net/HTTP/Spore/Meta/Types.pm line 0
	eval {...} called at /home/jmaslak/.cpan/build/Net-HTTP-Spore-0.06-EVe2P5/blib/lib/Net/HTTP/Spore/Meta/Types.pm line 0
	require Net/HTTP/Spore/Core.pm called at /home/jmaslak/.cpan/build/Net-HTTP-Spore-0.06-EVe2P5/blib/lib/Net/HTTP/Spore.pm line 16
	Net::HTTP::Spore::BEGIN() called at /home/jmaslak/.cpan/build/Net-HTTP-Spore-0.06-EVe2P5/blib/lib/Net/HTTP/Spore/Meta/Types.pm line 0
	eval {...} called at /home/jmaslak/.cpan/build/Net-HTTP-Spore-0.06-EVe2P5/blib/lib/Net/HTTP/Spore/Meta/Types.pm line 0
	require Net/HTTP/Spore.pm called at /home/jmaslak/.cpan/build/JIRA-Client-REST-0.06-ixyjTg/blib/lib/JIRA/Client/REST.pm line 10
	JIRA::Client::REST::BEGIN() called at /home/jmaslak/.cpan/build/Net-HTTP-Spore-0.06-EVe2P5/blib/lib/Net/HTTP/Spore/Meta/Types.pm line 0
	eval {...} called at /home/jmaslak/.cpan/build/Net-HTTP-Spore-0.06-EVe2P5/blib/lib/Net/HTTP/Spore/Meta/Types.pm line 0
	require JIRA/Client/REST.pm called at t/issue.t line 3
	main::BEGIN() called at /home/jmaslak/.cpan/build/Net-HTTP-Spore-0.06-EVe2P5/blib/lib/Net/HTTP/Spore/Meta/Types.pm line 0
	eval {...} called at /home/jmaslak/.cpan/build/Net-HTTP-Spore-0.06-EVe2P5/blib/lib/Net/HTTP/Spore/Meta/Types.pm line 0
t/issue.t ............... skipped: Set JIRA_CLIENT_REST_URL
Passing a list of values to enum is deprecated. Enum values should be wrapped in an arrayref. at /home/jmaslak/.cpan/build/Net-HTTP-Spore-0.06-EVe2P5/blib/lib/Net/HTTP/Spore/Meta/Types.pm line 18.
	require Net/HTTP/Spore/Meta/Types.pm called at /home/jmaslak/.cpan/build/Net-HTTP-Spore-0.06-EVe2P5/blib/lib/Net/HTTP/Spore/Meta/Method.pm line 16
	Net::HTTP::Spore::Meta::Method::BEGIN() called at /home/jmaslak/.cpan/build/Net-HTTP-Spore-0.06-EVe2P5/blib/lib/Net/HTTP/Spore/Meta/Types.pm line 0
	eval {...} called at /home/jmaslak/.cpan/build/Net-HTTP-Spore-0.06-EVe2P5/blib/lib/Net/HTTP/Spore/Meta/Types.pm line 0
	require Net/HTTP/Spore/Meta/Method.pm called at /home/jmaslak/.cpan/build/Net-HTTP-Spore-0.06-EVe2P5/blib/lib/Net/HTTP/Spore/Meta/Method/Spore.pm line 11
	Net::HTTP::Spore::Meta::Method::Spore::BEGIN() called at /home/jmaslak/.cpan/build/Net-HTTP-Spore-0.06-EVe2P5/blib/lib/Net/HTTP/Spore/Meta/Types.pm line 0
	eval {...} called at /home/jmaslak/.cpan/build/Net-HTTP-Spore-0.06-EVe2P5/blib/lib/Net/HTTP/Spore/Meta/Types.pm line 0
	require Net/HTTP/Spore/Meta/Method/Spore.pm called at /home/jmaslak/perl5/perlbrew/perls/perl-5.23.1/lib/site_perl/5.23.1/Module/Runtime.pm line 317
	Module::Runtime::require_module("Net::HTTP::Spore::Meta::Method::Spore") called at /home/jmaslak/perl5/perlbrew/perls/perl-5.23.1/lib/site_perl/5.23.1/Module/Runtime.pm line 348
	Module::Runtime::use_module("Net::HTTP::Spore::Meta::Method::Spore") called at /home/jmaslak/perl5/perlbrew/perls/perl-5.23.1/lib/site_perl/5.23.1/x86_64-linux/Moose/Util.pm line 147
	Moose::Util::_apply_all_roles(Moose::Meta::Role=HASH(0x36ca6e8), undef, "Net::HTTP::Spore::Meta::Method::Spore") called at /home/jmaslak/perl5/perlbrew/perls/perl-5.23.1/lib/site_perl/5.23.1/x86_64-linux/Moose/Util.pm line 114
	Moose::Util::apply_all_roles(Moose::Meta::Role=HASH(0x36ca6e8), "Net::HTTP::Spore::Meta::Method::Spore") called at /home/jmaslak/perl5/perlbrew/perls/perl-5.23.1/lib/site_perl/5.23.1/x86_64-linux/Moose/Role.pm line 25
	Moose::Role::with(Moose::Meta::Role=HASH(0x36ca6e8), "Net::HTTP::Spore::Meta::Method::Spore") called at /home/jmaslak/perl5/perlbrew/perls/perl-5.23.1/lib/site_perl/5.23.1/x86_64-linux/Moose/Exporter.pm line 419
	Moose::Role::with("Net::HTTP::Spore::Meta::Method::Spore") called at /home/jmaslak/.cpan/build/Net-HTTP-Spore-0.06-EVe2P5/blib/lib/Net/HTTP/Spore/Meta/Class.pm line 10
	require Net/HTTP/Spore/Meta/Class.pm called at /home/jmaslak/perl5/perlbrew/perls/perl-5.23.1/lib/site_perl/5.23.1/Module/Runtime.pm line 317
	Module::Runtime::require_module("Net::HTTP::Spore::Meta::Class") called at /home/jmaslak/perl5/perlbrew/perls/perl-5.23.1/lib/site_perl/5.23.1/Module/Runtime.pm line 348
	Module::Runtime::use_module("Net::HTTP::Spore::Meta::Class") called at /home/jmaslak/perl5/perlbrew/perls/perl-5.23.1/lib/site_perl/5.23.1/x86_64-linux/Moose/Util.pm line 147
	Moose::Util::_apply_all_roles(Moose::Meta::Class=HASH(0x36c9b90), undef, "Net::HTTP::Spore::Meta::Class") called at /home/jmaslak/perl5/perlbrew/perls/perl-5.23.1/lib/site_perl/5.23.1/x86_64-linux/Moose/Util.pm line 114
	Moose::Util::apply_all_roles(Moose::Meta::Class=HASH(0x36c9b90), "Net::HTTP::Spore::Meta::Class") called at /home/jmaslak/perl5/perlbrew/perls/perl-5.23.1/lib/site_perl/5.23.1/x86_64-linux/Moose/Meta/Class.pm line 89
	Moose::Meta::Class::create("Moose::Meta::Class", "Moose::Meta::Class::__ANON__::SERIAL::1", "superclasses", ARRAY(0x36c8b08), "weaken", "", "roles", ARRAY(0x378a028)) called at /home/jmaslak/perl5/perlbrew/perls/perl-5.23.1/lib/site_perl/5.23.1/x86_64-linux/Class/MOP/Package.pm line 120
	Class::MOP::Package::create_anon("Moose::Meta::Class", "superclasses", ARRAY(0x36c8b08), "roles", ARRAY(0x378a028), "cache", 1) called at /home/jmaslak/perl5/perlbrew/perls/perl-5.23.1/lib/site_perl/5.23.1/x86_64-linux/Class/MOP/Class.pm line 472
	Class::MOP::Class::create_anon_class("Moose::Meta::Class", "superclasses", ARRAY(0x36c8b08), "roles", ARRAY(0x378a028), "cache", 1) called at /home/jmaslak/perl5/perlbrew/perls/perl-5.23.1/lib/site_perl/5.23.1/x86_64-linux/Moose/Util/MetaRole.pm line 108
	Moose::Util::MetaRole::_make_new_class("Moose::Meta::Class", ARRAY(0x378a028)) called at /home/jmaslak/perl5/perlbrew/perls/perl-5.23.1/lib/site_perl/5.23.1/x86_64-linux/Moose/Util/MetaRole.pm line 53
	Moose::Util::MetaRole::_make_new_metaclass(Moose::Meta::Class=HASH(0x36c8898), HASH(0x357d9f8), "class") called at /home/jmaslak/perl5/perlbrew/perls/perl-5.23.1/lib/site_perl/5.23.1/x86_64-linux/Moose/Util/MetaRole.pm line 21
	Moose::Util::MetaRole::apply_metaroles("for", "Net::HTTP::Spore::Core", "class_metaroles", HASH(0x357d9f8)) called at /home/jmaslak/.cpan/build/Net-HTTP-Spore-0.06-EVe2P5/blib/lib/Net/HTTP/Spore/Meta.pm line 28
	Net::HTTP::Spore::Meta::init_meta("Net::HTTP::Spore::Meta", "for_class", "Net::HTTP::Spore::Meta::Types", "metaclass", undef, "meta_name", "meta") called at /home/jmaslak/perl5/perlbrew/perls/perl-5.23.1/lib/site_perl/5.23.1/x86_64-linux/Moose/Exporter.pm line 484
	Net::HTTP::Spore::Meta::import("Net::HTTP::Spore::Meta") called at /home/jmaslak/.cpan/build/Net-HTTP-Spore-0.06-EVe2P5/blib/lib/Net/HTTP/Spore/Core.pm line 6
	Net::HTTP::Spore::Core::BEGIN() called at /home/jmaslak/.cpan/build/Net-HTTP-Spore-0.06-EVe2P5/blib/lib/Net/HTTP/Spore/Meta/Types.pm line 0
	eval {...} called at /home/jmaslak/.cpan/build/Net-HTTP-Spore-0.06-EVe2P5/blib/lib/Net/HTTP/Spore/Meta/Types.pm line 0
	require Net/HTTP/Spore/Core.pm called at /home/jmaslak/.cpan/build/Net-HTTP-Spore-0.06-EVe2P5/blib/lib/Net/HTTP/Spore.pm line 16
	Net::HTTP::Spore::BEGIN() called at /home/jmaslak/.cpan/build/Net-HTTP-Spore-0.06-EVe2P5/blib/lib/Net/HTTP/Spore/Meta/Types.pm line 0
	eval {...} called at /home/jmaslak/.cpan/build/Net-HTTP-Spore-0.06-EVe2P5/blib/lib/Net/HTTP/Spore/Meta/Types.pm line 0
	require Net/HTTP/Spore.pm called at /home/jmaslak/.cpan/build/JIRA-Client-REST-0.06-ixyjTg/blib/lib/JIRA/Client/REST.pm line 10
	JIRA::Client::REST::BEGIN() called at /home/jmaslak/.cpan/build/Net-HTTP-Spore-0.06-EVe2P5/blib/lib/Net/HTTP/Spore/Meta/Types.pm line 0
	eval {...} called at /home/jmaslak/.cpan/build/Net-HTTP-Spore-0.06-EVe2P5/blib/lib/Net/HTTP/Spore/Meta/Types.pm line 0
	require JIRA/Client/REST.pm called at t/project.t line 3
	main::BEGIN() called at /home/jmaslak/.cpan/build/Net-HTTP-Spore-0.06-EVe2P5/blib/lib/Net/HTTP/Spore/Meta/Types.pm line 0
	eval {...} called at /home/jmaslak/.cpan/build/Net-HTTP-Spore-0.06-EVe2P5/blib/lib/Net/HTTP/Spore/Meta/Types.pm line 0
t/project.t ............. skipped: Set JIRA_CLIENT_REST_URL
t/release-pod-syntax.t .. skipped: these tests are for release candidate testing
t/release-synopsis.t .... skipped: these tests are for release candidate testing
Passing a list of values to enum is deprecated. Enum values should be wrapped in an arrayref. at /home/jmaslak/.cpan/build/Net-HTTP-Spore-0.06-EVe2P5/blib/lib/Net/HTTP/Spore/Meta/Types.pm line 18.
	require Net/HTTP/Spore/Meta/Types.pm called at /home/jmaslak/.cpan/build/Net-HTTP-Spore-0.06-EVe2P5/blib/lib/Net/HTTP/Spore/Meta/Method.pm line 16
	Net::HTTP::Spore::Meta::Method::BEGIN() called at /home/jmaslak/.cpan/build/Net-HTTP-Spore-0.06-EVe2P5/blib/lib/Net/HTTP/Spore/Meta/Types.pm line 0
	eval {...} called at /home/jmaslak/.cpan/build/Net-HTTP-Spore-0.06-EVe2P5/blib/lib/Net/HTTP/Spore/Meta/Types.pm line 0
	require Net/HTTP/Spore/Meta/Method.pm called at /home/jmaslak/.cpan/build/Net-HTTP-Spore-0.06-EVe2P5/blib/lib/Net/HTTP/Spore/Meta/Method/Spore.pm line 11
	Net::HTTP::Spore::Meta::Method::Spore::BEGIN() called at /home/jmaslak/.cpan/build/Net-HTTP-Spore-0.06-EVe2P5/blib/lib/Net/HTTP/Spore/Meta/Types.pm line 0
	eval {...} called at /home/jmaslak/.cpan/build/Net-HTTP-Spore-0.06-EVe2P5/blib/lib/Net/HTTP/Spore/Meta/Types.pm line 0
	require Net/HTTP/Spore/Meta/Method/Spore.pm called at /home/jmaslak/perl5/perlbrew/perls/perl-5.23.1/lib/site_perl/5.23.1/Module/Runtime.pm line 317
	Module::Runtime::require_module("Net::HTTP::Spore::Meta::Method::Spore") called at /home/jmaslak/perl5/perlbrew/perls/perl-5.23.1/lib/site_perl/5.23.1/Module/Runtime.pm line 348
	Module::Runtime::use_module("Net::HTTP::Spore::Meta::Method::Spore") called at /home/jmaslak/perl5/perlbrew/perls/perl-5.23.1/lib/site_perl/5.23.1/x86_64-linux/Moose/Util.pm line 147
	Moose::Util::_apply_all_roles(Moose::Meta::Role=HASH(0x1a3c5b8), undef, "Net::HTTP::Spore::Meta::Method::Spore") called at /home/jmaslak/perl5/perlbrew/perls/perl-5.23.1/lib/site_perl/5.23.1/x86_64-linux/Moose/Util.pm line 114
	Moose::Util::apply_all_roles(Moose::Meta::Role=HASH(0x1a3c5b8), "Net::HTTP::Spore::Meta::Method::Spore") called at /home/jmaslak/perl5/perlbrew/perls/perl-5.23.1/lib/site_perl/5.23.1/x86_64-linux/Moose/Role.pm line 25
	Moose::Role::with(Moose::Meta::Role=HASH(0x1a3c5b8), "Net::HTTP::Spore::Meta::Method::Spore") called at /home/jmaslak/perl5/perlbrew/perls/perl-5.23.1/lib/site_perl/5.23.1/x86_64-linux/Moose/Exporter.pm line 419
	Moose::Role::with("Net::HTTP::Spore::Meta::Method::Spore") called at /home/jmaslak/.cpan/build/Net-HTTP-Spore-0.06-EVe2P5/blib/lib/Net/HTTP/Spore/Meta/Class.pm line 10
	require Net/HTTP/Spore/Meta/Class.pm called at /home/jmaslak/perl5/perlbrew/perls/perl-5.23.1/lib/site_perl/5.23.1/Module/Runtime.pm line 317
	Module::Runtime::require_module("Net::HTTP::Spore::Meta::Class") called at /home/jmaslak/perl5/perlbrew/perls/perl-5.23.1/lib/site_perl/5.23.1/Module/Runtime.pm line 348
	Module::Runtime::use_module("Net::HTTP::Spore::Meta::Class") called at /home/jmaslak/perl5/perlbrew/perls/perl-5.23.1/lib/site_perl/5.23.1/x86_64-linux/Moose/Util.pm line 147
	Moose::Util::_apply_all_roles(Moose::Meta::Class=HASH(0x1a3ba30), undef, "Net::HTTP::Spore::Meta::Class") called at /home/jmaslak/perl5/perlbrew/perls/perl-5.23.1/lib/site_perl/5.23.1/x86_64-linux/Moose/Util.pm line 114
	Moose::Util::apply_all_roles(Moose::Meta::Class=HASH(0x1a3ba30), "Net::HTTP::Spore::Meta::Class") called at /home/jmaslak/perl5/perlbrew/perls/perl-5.23.1/lib/site_perl/5.23.1/x86_64-linux/Moose/Meta/Class.pm line 89
	Moose::Meta::Class::create("Moose::Meta::Class", "Moose::Meta::Class::__ANON__::SERIAL::1", "superclasses", ARRAY(0x1a3a9a8), "roles", ARRAY(0x1afbf58), "weaken", "") called at /home/jmaslak/perl5/perlbrew/perls/perl-5.23.1/lib/site_perl/5.23.1/x86_64-linux/Class/MOP/Package.pm line 120
	Class::MOP::Package::create_anon("Moose::Meta::Class", "superclasses", ARRAY(0x1a3a9a8), "roles", ARRAY(0x1afbf58), "cache", 1) called at /home/jmaslak/perl5/perlbrew/perls/perl-5.23.1/lib/site_perl/5.23.1/x86_64-linux/Class/MOP/Class.pm line 472
	Class::MOP::Class::create_anon_class("Moose::Meta::Class", "superclasses", ARRAY(0x1a3a9a8), "roles", ARRAY(0x1afbf58), "cache", 1) called at /home/jmaslak/perl5/perlbrew/perls/perl-5.23.1/lib/site_perl/5.23.1/x86_64-linux/Moose/Util/MetaRole.pm line 108
	Moose::Util::MetaRole::_make_new_class("Moose::Meta::Class", ARRAY(0x1afbf58)) called at /home/jmaslak/perl5/perlbrew/perls/perl-5.23.1/lib/site_perl/5.23.1/x86_64-linux/Moose/Util/MetaRole.pm line 53
	Moose::Util::MetaRole::_make_new_metaclass(Moose::Meta::Class=HASH(0x1a3a720), HASH(0x1905228), "class") called at /home/jmaslak/perl5/perlbrew/perls/perl-5.23.1/lib/site_perl/5.23.1/x86_64-linux/Moose/Util/MetaRole.pm line 21
	Moose::Util::MetaRole::apply_metaroles("for", "Net::HTTP::Spore::Core", "class_metaroles", HASH(0x1905228)) called at /home/jmaslak/.cpan/build/Net-HTTP-Spore-0.06-EVe2P5/blib/lib/Net/HTTP/Spore/Meta.pm line 28
	Net::HTTP::Spore::Meta::init_meta("Net::HTTP::Spore::Meta", "for_class", "Net::HTTP::Spore::Meta::Types", "metaclass", undef, "meta_name", "meta") called at /home/jmaslak/perl5/perlbrew/perls/perl-5.23.1/lib/site_perl/5.23.1/x86_64-linux/Moose/Exporter.pm line 484
	Net::HTTP::Spore::Meta::import("Net::HTTP::Spore::Meta") called at /home/jmaslak/.cpan/build/Net-HTTP-Spore-0.06-EVe2P5/blib/lib/Net/HTTP/Spore/Core.pm line 6
	Net::HTTP::Spore::Core::BEGIN() called at /home/jmaslak/.cpan/build/Net-HTTP-Spore-0.06-EVe2P5/blib/lib/Net/HTTP/Spore/Meta/Types.pm line 0
	eval {...} called at /home/jmaslak/.cpan/build/Net-HTTP-Spore-0.06-EVe2P5/blib/lib/Net/HTTP/Spore/Meta/Types.pm line 0
	require Net/HTTP/Spore/Core.pm called at /home/jmaslak/.cpan/build/Net-HTTP-Spore-0.06-EVe2P5/blib/lib/Net/HTTP/Spore.pm line 16
	Net::HTTP::Spore::BEGIN() called at /home/jmaslak/.cpan/build/Net-HTTP-Spore-0.06-EVe2P5/blib/lib/Net/HTTP/Spore/Meta/Types.pm line 0
	eval {...} called at /home/jmaslak/.cpan/build/Net-HTTP-Spore-0.06-EVe2P5/blib/lib/Net/HTTP/Spore/Meta/Types.pm line 0
	require Net/HTTP/Spore.pm called at /home/jmaslak/.cpan/build/JIRA-Client-REST-0.06-ixyjTg/blib/lib/JIRA/Client/REST.pm line 10
	JIRA::Client::REST::BEGIN() called at /home/jmaslak/.cpan/build/Net-HTTP-Spore-0.06-EVe2P5/blib/lib/Net/HTTP/Spore/Meta/Types.pm line 0
	eval {...} called at /home/jmaslak/.cpan/build/Net-HTTP-Spore-0.06-EVe2P5/blib/lib/Net/HTTP/Spore/Meta/Types.pm line 0
	require JIRA/Client/REST.pm called at t/version.t line 3
	main::BEGIN() called at /home/jmaslak/.cpan/build/Net-HTTP-Spore-0.06-EVe2P5/blib/lib/Net/HTTP/Spore/Meta/Types.pm line 0
	eval {...} called at /home/jmaslak/.cpan/build/Net-HTTP-Spore-0.06-EVe2P5/blib/lib/Net/HTTP/Spore/Meta/Types.pm line 0
t/version.t ............. skipped: Set JIRA_CLIENT_REST_URL
Files=5, Tests=0,  2 wallclock secs ( 0.03 usr  0.03 sys +  1.62 cusr  0.25 csys =  1.93 CPU)
Result: NOTESTS

------------------------------
PREREQUISITES
------------------------------

Prerequisite modules loaded:

requires:

    Module              Need Have    
    ------------------- ---- --------
    JSON                0    2.90    
    JSON::XS            0    3.01    
    Moose               0    2.1405  
    Net::HTTP::Spore    0    0.06    

build_requires:

    Module              Need Have    
    ------------------- ---- --------
    strict              0    1.09    
    Test::More          0    1.001014

configure_requires:

    Module              Need Have    
    ------------------- ---- --------
    ExtUtils::MakeMaker 6.30 7.04_01 


------------------------------
ENVIRONMENT AND OTHER CONTEXT
------------------------------

Environment variables:

    AUTOMATED_TESTING = 1
    LANG = en_US.UTF-8
    NONINTERACTIVE_TESTING = 1
    PATH = /home/jmaslak/sysperl/bin:/home/jmaslak/perl5/perlbrew/bin:/home/jmaslak/perl5/perlbrew/perls/perl-5.23.1/bin:/home/jmaslak/perltest/bin:/home/jmaslak/perltest/bin:/home/jmaslak/perltest/bin:/home/jmaslak/perl5/perlbrew/bin:/home/jmaslak/perl5/perlbrew/perls/perl-5.23.1/bin:/usr/local/bin:/usr/bin:/usr/local/sbin:/usr/sbin:/usr/sbin:~/perltest/bin
    PERL5LIB = /home/jmaslak/.cpan/build/Net-HTTP-Spore-0.06-EVe2P5/blib/arch:/home/jmaslak/.cpan/build/Net-HTTP-Spore-0.06-EVe2P5/blib/lib:/home/jmaslak/.cpan/build/XML-Simple-2.20-Ye3LeR/blib/arch:/home/jmaslak/.cpan/build/XML-Simple-2.20-Ye3LeR/blib/lib:/home/jmaslak/.cpan/build/MooseX-Types-URI-0.07-tI4IMc/blib/arch:/home/jmaslak/.cpan/build/MooseX-Types-URI-0.07-tI4IMc/blib/lib:/home/jmaslak/.cpan/build/URI-FromHash-0.04-4Sic88/blib/arch:/home/jmaslak/.cpan/build/URI-FromHash-0.04-4Sic88/blib/lib:/home/jmaslak/.cpan/build/Test-CheckDeps-0.010-h0ueou/blib/arch:/home/jmaslak/.cpan/build/Test-CheckDeps-0.010-h0ueou/blib/lib:/home/jmaslak/.cpan/build/YAML-Syck-1.29-uFrGo0/blib/arch:/home/jmaslak/.cpan/build/YAML-Syck-1.29-uFrGo0/blib/lib:/home/jmaslak/.cpan/build/Devel-Leak-0.03-n9onwK/blib/arch:/home/jmaslak/.cpan/build/Devel-Leak-0.03-n9onwK/blib/lib:/home/jmaslak/.cpan/build/Text-Levenshtein-0.12-rrHwAR/blib/arch:/home/jmaslak/.cpan/build/Text-Levenshtein-0.12-rrHwAR/blib/lib:/home/jmaslak/.cpan/build/Algorithm-Dependency-1.110-r0xIpW/blib/arch:/home/jmaslak/.cpan/build/Algorithm-Dependency-1.110-r0xIpW/blib/lib:/home/jmaslak/.cpan/build/Test-ClassAPI-1.06-dJ0bDi/blib/arch:/home/jmaslak/.cpan/build/Test-ClassAPI-1.06-dJ0bDi/blib/lib:/home/jmaslak/sysperl/lib/perl5
    PERL5OPT = 
    PERL5_CPANPLUS_IS_RUNNING = 28927
    PERL5_CPAN_IS_RUNNING = 28927
    PERL5_CPAN_IS_RUNNING_IN_RECURSION = 12192,28927
    PERLBREW_BASHRC_VERSION = 0.73
    PERLBREW_HOME = /home/jmaslak/.perlbrew
    PERLBREW_LIB = 
    PERLBREW_MANPATH = /home/jmaslak/perl5/perlbrew/perls/perl-5.23.1/man
    PERLBREW_PATH = /home/jmaslak/perl5/perlbrew/bin:/home/jmaslak/perl5/perlbrew/perls/perl-5.23.1/bin
    PERLBREW_PERL = perl-5.23.1
    PERLBREW_ROOT = /home/jmaslak/perl5/perlbrew
    PERLBREW_VERSION = 0.73
    PERL_CR_SMOKER_CURRENT = App-Gitc-0.60
    PERL_EXTUTILS_AUTOINSTALL = --defaultdeps
    PERL_LOCAL_LIB_ROOT = /home/jmaslak/sysperl:
    PERL_MB_OPT = --install_base "//home/jmaslak/sysperl"
    PERL_MM_OPT = INSTALL_BASE=/home/jmaslak/sysperl
    PERL_MM_USE_DEFAULT = 1
    SHELL = /bin/bash
    TERM = screen

Perl special variables (and OS-specific diagnostics, for MSWin32):

    $^X = /home/jmaslak/perl5/perlbrew/perls/perl-5.23.1/bin/perl5.23.1
    $UID/$EUID = 1000 / 1000
    $GID = 1000 10 1000
    $EGID = 1000 10 1000

Perl module toolchain versions installed:

    Module              Have    
    ------------------- --------
    CPAN                2.11    
    CPAN::Meta          2.150005
    Cwd                 3.56    
    ExtUtils::CBuilder  0.280223
    ExtUtils::Command   1.20    
    ExtUtils::Install   2.04    
    ExtUtils::MakeMaker 7.04_01 
    ExtUtils::Manifest  1.70    
    ExtUtils::ParseXS   3.28    
    File::Spec          3.56    
    JSON                2.90    
    JSON::PP            2.27300 
    Module::Build       0.4214  
    Module::Signature   n/a     
    Parse::CPAN::Meta   1.4417  
    Test::Harness       3.35    
    Test::More          1.001014
    YAML                1.15    
    YAML::Syck          1.29    
    version             0.9909  


--

Summary of my perl5 (revision 5 version 23 subversion 1) configuration:
   
  Platform:
    osname=linux, osvers=4.1.0-x86_64-linode59, archname=x86_64-linux
    uname='linux cpantest.antelope.net 4.1.0-x86_64-linode59 #1 smp mon jun 22 10:39:23 edt 2015 x86_64 x86_64 x86_64 gnulinux '
    config_args='-de -Dprefix=/home/jmaslak/perl5/perlbrew/perls/perl-5.23.1 -Dusedevel -Aeval:scriptdir=/home/jmaslak/perl5/perlbrew/perls/perl-5.23.1/bin'
    hint=recommended, useposix=true, d_sigaction=define
    useithreads=undef, usemultiplicity=undef
    use64bitint=define, use64bitall=define, uselongdouble=undef
    usemymalloc=n, bincompat5005=undef
  Compiler:
    cc='cc', ccflags ='-fwrapv -fno-strict-aliasing -pipe -fstack-protector-strong -I/usr/local/include -D_LARGEFILE_SOURCE -D_FILE_OFFSET_BITS=64 -D_FORTIFY_SOURCE=2',
    optimize='-O2',
    cppflags='-fwrapv -fno-strict-aliasing -pipe -fstack-protector-strong -I/usr/local/include'
    ccversion='', gccversion='4.8.3 20140911 (Red Hat 4.8.3-9)', gccosandvers=''
    intsize=4, longsize=8, ptrsize=8, doublesize=8, byteorder=12345678, doublekind=3
    d_longlong=define, longlongsize=8, d_longdbl=define, longdblsize=16, longdblkind=3
    ivtype='long', ivsize=8, nvtype='double', nvsize=8, Off_t='off_t', lseeksize=8
    alignbytes=8, prototype=define
  Linker and Libraries:
    ld='cc', ldflags =' -fstack-protector-strong -L/usr/local/lib'
    libpth=/usr/local/lib /usr/lib /lib/../lib64 /usr/lib/../lib64 /lib /lib64 /usr/lib64 /usr/local/lib64
    libs=-lpthread -lnsl -ldl -lm -lcrypt -lutil -lc
    perllibs=-lpthread -lnsl -ldl -lm -lcrypt -lutil -lc
    libc=libc-2.17.so, so=so, useshrplib=false, libperl=libperl.a
    gnulibc_version='2.17'
  Dynamic Linking:
    dlsrc=dl_dlopen.xs, dlext=so, d_dlsymun=undef, ccdlflags='-Wl,-E'
    cccdlflags='-fPIC', lddlflags='-shared -O2 -L/usr/local/lib -fstack-protector-strong'


Characteristics of this binary (from libperl): 
  Compile-time options: HAS_TIMES PERLIO_LAYERS PERL_COPY_ON_WRITE
                        PERL_DONT_CREATE_GVSV
                        PERL_HASH_FUNC_ONE_AT_A_TIME_HARD PERL_MALLOC_WRAP
                        PERL_PRESERVE_IVUV PERL_USE_DEVEL USE_64_BIT_ALL
                        USE_64_BIT_INT USE_LARGE_FILES USE_LOCALE
                        USE_LOCALE_COLLATE USE_LOCALE_CTYPE
                        USE_LOCALE_NUMERIC USE_LOCALE_TIME USE_PERLIO
                        USE_PERL_ATOF
  Locally applied patches:
	Devel::PatchPerl 1.38
  Built under linux
  Compiled at Jul 26 2015 04:37:54
  %ENV:
    PERL5LIB="/home/jmaslak/.cpan/build/Net-HTTP-Spore-0.06-EVe2P5/blib/arch:/home/jmaslak/.cpan/build/Net-HTTP-Spore-0.06-EVe2P5/blib/lib:/home/jmaslak/.cpan/build/XML-Simple-2.20-Ye3LeR/blib/arch:/home/jmaslak/.cpan/build/XML-Simple-2.20-Ye3LeR/blib/lib:/home/jmaslak/.cpan/build/MooseX-Types-URI-0.07-tI4IMc/blib/arch:/home/jmaslak/.cpan/build/MooseX-Types-URI-0.07-tI4IMc/blib/lib:/home/jmaslak/.cpan/build/URI-FromHash-0.04-4Sic88/blib/arch:/home/jmaslak/.cpan/build/URI-FromHash-0.04-4Sic88/blib/lib:/home/jmaslak/.cpan/build/Test-CheckDeps-0.010-h0ueou/blib/arch:/home/jmaslak/.cpan/build/Test-CheckDeps-0.010-h0ueou/blib/lib:/home/jmaslak/.cpan/build/YAML-Syck-1.29-uFrGo0/blib/arch:/home/jmaslak/.cpan/build/YAML-Syck-1.29-uFrGo0/blib/lib:/home/jmaslak/.cpan/build/Devel-Leak-0.03-n9onwK/blib/arch:/home/jmaslak/.cpan/build/Devel-Leak-0.03-n9onwK/blib/lib:/home/jmaslak/.cpan/build/Text-Levenshtein-0.12-rrHwAR/blib/arch:/home/jmaslak/.cpan/build/Text-Levenshtein-0.12-rrHwAR/blib/lib:/home/jmaslak/.cpan/build/Algorithm-Dependency-1.110-r0xIpW/blib/arch:/home/jmaslak/.cpan/build/Algorithm-Dependency-1.110-r0xIpW/blib/lib:/home/jmaslak/.cpan/build/Test-ClassAPI-1.06-dJ0bDi/blib/arch:/home/jmaslak/.cpan/build/Test-ClassAPI-1.06-dJ0bDi/blib/lib:/home/jmaslak/sysperl/lib/perl5"
    PERL5OPT=""
    PERL5_CPANPLUS_IS_RUNNING="28927"
    PERL5_CPAN_IS_RUNNING="28927"
    PERL5_CPAN_IS_RUNNING_IN_RECURSION="12192,28927"
    PERLBREW_BASHRC_VERSION="0.73"
    PERLBREW_HOME="/home/jmaslak/.perlbrew"
    PERLBREW_LIB=""
    PERLBREW_MANPATH="/home/jmaslak/perl5/perlbrew/perls/perl-5.23.1/man"
    PERLBREW_PATH="/home/jmaslak/perl5/perlbrew/bin:/home/jmaslak/perl5/perlbrew/perls/perl-5.23.1/bin"
    PERLBREW_PERL="perl-5.23.1"
    PERLBREW_ROOT="/home/jmaslak/perl5/perlbrew"
    PERLBREW_VERSION="0.73"
    PERL_CR_SMOKER_CURRENT="App-Gitc-0.60"
    PERL_EXTUTILS_AUTOINSTALL="--defaultdeps"
    PERL_LOCAL_LIB_ROOT="/home/jmaslak/sysperl:"
    PERL_MB_OPT="--install_base "//home/jmaslak/sysperl""
    PERL_MM_OPT="INSTALL_BASE=/home/jmaslak/sysperl"
    PERL_MM_USE_DEFAULT="1"
  @INC:
    /home/jmaslak/.cpan/build/Net-HTTP-Spore-0.06-EVe2P5/blib/arch
    /home/jmaslak/.cpan/build/Net-HTTP-Spore-0.06-EVe2P5/blib/lib
    /home/jmaslak/.cpan/build/XML-Simple-2.20-Ye3LeR/blib/arch
    /home/jmaslak/.cpan/build/XML-Simple-2.20-Ye3LeR/blib/lib
    /home/jmaslak/.cpan/build/MooseX-Types-URI-0.07-tI4IMc/blib/arch
    /home/jmaslak/.cpan/build/MooseX-Types-URI-0.07-tI4IMc/blib/lib
    /home/jmaslak/.cpan/build/URI-FromHash-0.04-4Sic88/blib/arch
    /home/jmaslak/.cpan/build/URI-FromHash-0.04-4Sic88/blib/lib
    /home/jmaslak/.cpan/build/Test-CheckDeps-0.010-h0ueou/blib/arch
    /home/jmaslak/.cpan/build/Test-CheckDeps-0.010-h0ueou/blib/lib
    /home/jmaslak/.cpan/build/YAML-Syck-1.29-uFrGo0/blib/arch
    /home/jmaslak/.cpan/build/YAML-Syck-1.29-uFrGo0/blib/lib
    /home/jmaslak/.cpan/build/Devel-Leak-0.03-n9onwK/blib/arch
    /home/jmaslak/.cpan/build/Devel-Leak-0.03-n9onwK/blib/lib
    /home/jmaslak/.cpan/build/Text-Levenshtein-0.12-rrHwAR/blib/arch
    /home/jmaslak/.cpan/build/Text-Levenshtein-0.12-rrHwAR/blib/lib
    /home/jmaslak/.cpan/build/Algorithm-Dependency-1.110-r0xIpW/blib/arch
    /home/jmaslak/.cpan/build/Algorithm-Dependency-1.110-r0xIpW/blib/lib
    /home/jmaslak/.cpan/build/Test-ClassAPI-1.06-dJ0bDi/blib/arch
    /home/jmaslak/.cpan/build/Test-ClassAPI-1.06-dJ0bDi/blib/lib
    /home/jmaslak/sysperl/lib/perl5/x86_64-linux
    /home/jmaslak/sysperl/lib/perl5
    /home/jmaslak/perl5/perlbrew/perls/perl-5.23.1/lib/site_perl/5.23.1/x86_64-linux
    /home/jmaslak/perl5/perlbrew/perls/perl-5.23.1/lib/site_perl/5.23.1
    /home/jmaslak/perl5/perlbrew/perls/perl-5.23.1/lib/5.23.1/x86_64-linux
    /home/jmaslak/perl5/perlbrew/perls/perl-5.23.1/lib/5.23.1
    .