SemanticWeb-Schema vv12.0.0 Perl 5 v5.18.2 darwin-2level

Status
Pass
From
Neil Bowers
Dist
SemanticWeb-Schema vv12.0.0
Platform
Perl 5 v5.18.2 darwin-2level
Date
2021-07-08 09:21:30
ID
e16ff8f2-dfcd-11eb-8d70-732c30debfa1
This distribution has been tested as part of the CPAN Testers
project, supporting the Perl programming language.  See
http://wiki.cpantesters.org/ for more information or email
questions to cpan-testers-discuss@perl.org


--
Dear Robert Rothenberg,

This is a computer-generated report for SemanticWeb-Schema-v12.0.0
on perl 5.18.2, created by CPAN-Reporter-1.2018.

Thank you for uploading your work to CPAN.  Congratulations!
All tests were successful.

Sections of this report:

    * Tester comments
    * Program output
    * Prerequisites
    * Environment and other context

------------------------------
TESTER COMMENTS
------------------------------

Additional comments from tester:

none provided

------------------------------
PROGRAM OUTPUT
------------------------------

Output from '/usr/bin/make test':

PERL_DL_NONLAZY=1 "/usr/local/perl/5182/bin/perl" "-MExtUtils::Command::MM" "-MTest::Harness" "-e" "undef *Test::Harness::Switches; test_harness(0, 'blib/lib', 'blib/arch')" t/*.t
# 
# Versions for all modules listed in MYMETA.json (including optional ones):
# 
# === Configure Requires ===
# 
#     Module              Want Have
#     ------------------- ---- ----
#     ExtUtils::MakeMaker  any 7.62
# 
# === Build Requires ===
# 
#     Module              Want Have
#     ------------------- ---- ----
#     ExtUtils::MakeMaker  any 7.62
# 
# === Test Requires ===
# 
#     Module           Want     Have
#     ---------------- ---- --------
#     File::Spec        any     3.40
#     Module::Metadata  any 1.000024
#     Test::JSON::More  any     0.02
#     Test::More        any 1.302177
#     Test::Most        any     0.33
#     aliased           any     0.31
#     strict            any     1.07
#     warnings          any     1.18
# 
# === Test Recommends ===
# 
#     Module         Want     Have
#     ---------- -------- --------
#     CPAN::Meta 2.120900 2.143240
# 
# === Runtime Requires ===
# 
#     Module                  Want     Have
#     -------------------- ------- --------
#     List::Util              1.33     1.55
#     Moo                      any 2.000002
#     MooX::JSON_LD            any    1.0.1
#     MooX::Role::JSON_LD  v0.0.16    1.0.1
#     Ref::Util                any    0.204
#     Types::Standard          any 1.012003
#     namespace::autoclean     any     0.19
#     utf8                     any     1.10
# 
# === Runtime Recommends ===
# 
#     Module            Want    Have
#     ----------------- ---- -------
#     Class::XSAccessor 1.18    1.19
#     Ref::Util::XS      any   0.117
#     Type::Tiny::XS     any missing
#     aliased            any    0.31
# 
t/00-report-prereqs.t ......... ok
t/01-simple.t ................. ok
t/02-conflicting-attriubte.t .. ok
t/03-c3-merge.t ............... ok
t/author-clean-namespaces.t ... skipped: these tests are for testing by the author
t/author-compile.t ............ skipped: these tests are for testing by the author
t/author-eof.t ................ skipped: these tests are for testing by the author
t/author-minimum-version.t .... skipped: these tests are for testing by the author
t/author-pod-syntax.t ......... skipped: these tests are for testing by the author
t/author-portability.t ........ skipped: these tests are for testing by the author
t/release-check-manifest.t .... skipped: these tests are for release candidate testing
t/release-fixme.t ............. skipped: these tests are for release candidate testing
All tests successful.
Files=12, Tests=10,  1 wallclock secs ( 0.04 usr  0.03 sys +  0.72 cusr  0.13 csys =  0.92 CPU)
Result: PASS

------------------------------
PREREQUISITES
------------------------------

Prerequisite modules loaded:

requires:

    Module               Need     Have    
    -------------------- -------- --------
    List::Util           1.33     1.55    
    Moo                  0        2.000002
    MooX::JSON_LD        0        1.0.1   
    MooX::Role::JSON_LD  v0.0.16  1.0.1   
    namespace::autoclean 0        0.19    
    perl                 5.010001 5.018002
    Ref::Util            0        0.204   
    Types::Standard      0        1.012003
    utf8                 0        1.10    

build_requires:

    Module               Need     Have    
    -------------------- -------- --------
    aliased              0        0.31    
    ExtUtils::MakeMaker  0        7.62    
    File::Spec           0        3.40    
    Module::Metadata     0        1.000024
    strict               0        1.07    
    Test::JSON::More     0        0.02    
    Test::More           0        1.302177
    Test::Most           0        0.33    
    warnings             0        1.18    

configure_requires:

    Module               Need     Have    
    -------------------- -------- --------
    ExtUtils::MakeMaker  0        7.62    


------------------------------
ENVIRONMENT AND OTHER CONTEXT
------------------------------

Environment variables:

    PATH = /usr/local/apache/bin:/usr/local/bin:/opt/local/bin:/usr/local/bin:/usr/bin:/bin:/usr/sbin:/sbin:/Applications/VMware Fusion.app/Contents/Public:/usr/local/go/bin:/opt/X11/bin:/usr/local/git/bin
    PERL5LIB = 
    PERL5OPT = 
    PERL5_CPANPLUS_IS_RUNNING = 6122
    PERL5_CPAN_IS_RUNNING = 6122
    SHELL = /bin/sh
    TERM = xterm

Perl special variables (and OS-specific diagnostics, for MSWin32):

    $^X = /usr/local/perl/5182/bin/perl
    $UID/$EUID = 0 / 0
    $GID = 0 0 1 2 3 4 5 8 9 12 20 29 61 80 701 702 33
    $EGID = 0 0 1 2 3 4 5 8 9 12 20 29 61 80 701 702 33

Perl module toolchain versions installed:

    Module              Have    
    ------------------- --------
    CPAN                2.00    
    CPAN::Meta          2.143240
    Cwd                 3.40    
    ExtUtils::CBuilder  0.280236
    ExtUtils::Command   7.62    
    ExtUtils::Install   2.06    
    ExtUtils::MakeMaker 7.62    
    ExtUtils::Manifest  1.70    
    ExtUtils::ParseXS   3.35    
    File::Spec          3.40    
    JSON                2.90    
    JSON::PP            4.06    
    Module::Build       0.4231  
    Module::Signature   n/a     
    Parse::CPAN::Meta   1.4414  
    Test::Harness       3.31    
    Test::More          1.302177
    YAML                1.30    
    YAML::Syck          n/a     
    version             0.9929  


--

Summary of my perl5 (revision 5 version 18 subversion 2) configuration:
   
  Platform:
    osname=darwin, osvers=12.5.0, archname=darwin-2level
    uname='darwin tucumcari.home 12.5.0 darwin kernel version 12.5.0: sun sep 29 13:33:47 pdt 2013; root:xnu-2050.48.12~1release_x86_64 x86_64 '
    config_args='-Dprefix=/usr/local/perl/5182'
    hint=recommended, useposix=true, d_sigaction=define
    useithreads=undef, usemultiplicity=undef
    useperlio=define, d_sfio=undef, uselargefiles=define, usesocks=undef
    use64bitint=define, use64bitall=define, uselongdouble=undef
    usemymalloc=n, bincompat5005=undef
  Compiler:
    cc='gcc', ccflags ='-fno-common -DPERL_DARWIN -fno-strict-aliasing -pipe -fstack-protector -I/usr/local/include -I/opt/local/include',
    optimize='-O3',
    cppflags='-fno-common -DPERL_DARWIN -fno-strict-aliasing -pipe -fstack-protector -I/usr/local/include -I/opt/local/include'
    ccversion='', gccversion='4.2.1 (Based on Apple Inc. build 5658) (LLVM build 2336.11.00)', gccosandvers=''
    intsize=4, longsize=8, ptrsize=8, doublesize=8, byteorder=12345678
    d_longlong=define, longlongsize=8, d_longdbl=define, longdblsize=16
    ivtype='long', ivsize=8, nvtype='double', nvsize=8, Off_t='off_t', lseeksize=8
    alignbytes=8, prototype=define
  Linker and Libraries:
    ld='env MACOSX_DEPLOYMENT_TARGET=10.3 gcc', ldflags =' -fstack-protector -L/usr/local/lib -L/opt/local/lib'
    libpth=/usr/local/lib /opt/local/lib /usr/lib
    libs=-lgdbm -ldbm -ldl -lm -lutil -lc
    perllibs=-ldl -lm -lutil -lc
    libc=, so=dylib, useshrplib=false, libperl=libperl.a
    gnulibc_version=''
  Dynamic Linking:
    dlsrc=dl_dlopen.xs, dlext=bundle, d_dlsymun=undef, ccdlflags=' '
    cccdlflags=' ', lddlflags=' -bundle -undefined dynamic_lookup -L/usr/local/lib -L/opt/local/lib -fstack-protector'


Characteristics of this binary (from libperl): 
  Compile-time options: HAS_TIMES PERLIO_LAYERS PERL_DONT_CREATE_GVSV
                        PERL_HASH_FUNC_ONE_AT_A_TIME_HARD PERL_MALLOC_WRAP
                        PERL_PRESERVE_IVUV PERL_SAWAMPERSAND USE_64_BIT_ALL
                        USE_64_BIT_INT USE_LARGE_FILES USE_LOCALE
                        USE_LOCALE_COLLATE USE_LOCALE_CTYPE
                        USE_LOCALE_NUMERIC USE_PERLIO USE_PERL_ATOF
  Built under darwin
  Compiled at Jun  8 2014 11:39:34
  %ENV:
    PERL5LIB=""
    PERL5OPT=""
    PERL5_CPANPLUS_IS_RUNNING="6122"
    PERL5_CPAN_IS_RUNNING="6122"
  @INC:
    /usr/local/perl/5182/lib/site_perl/5.18.2/darwin-2level
    /usr/local/perl/5182/lib/site_perl/5.18.2
    /usr/local/perl/5182/lib/5.18.2/darwin-2level
    /usr/local/perl/5182/lib/5.18.2
    .