OIDC-Client v0.03 Perl 5 v5.24.0 amd64-freebsd

Status
Pass
From
Slaven Rezić
Dist
OIDC-Client v0.03
Platform
Perl 5 v5.24.0 amd64-freebsd
Date
2025-01-15 00:23:01
ID
e15d407c-d2d6-11ef-b4fb-23396e8775ea
This distribution has been tested as part of the CPAN Testers
project, supporting the Perl programming language.  See
http://wiki.cpantesters.org/ for more information or email
questions to cpan-testers-discuss@perl.org


--
Dear Sebastien Mourlhou,

This is a computer-generated report for OIDC-Client-0.03
on perl 5.24.0, created by CPAN-Reporter-1.2019.

Thank you for uploading your work to CPAN.  Congratulations!
All tests were successful.

Sections of this report:

    * Tester comments
    * Program output
    * Prerequisites
    * Environment and other context

------------------------------
TESTER COMMENTS
------------------------------

Additional comments from tester:

none provided

------------------------------
PROGRAM OUTPUT
------------------------------

Output from '/usr/bin/make test':

PERL_DL_NONLAZY=1 "/usr/perl5.24.0p/bin/perl" "-MExtUtils::Command::MM" "-MTest::Harness" "-e" "undef *Test::Harness::Switches; test_harness(0, 'blib/lib', 'blib/arch')" t/*.t
t/00-compile.t ............................. ok
t/catalyst-plugin-auth-code-flow-IT.t ...... ok
t/client.t ................................. ok
t/error-provider.t ......................... ok
t/mojolicious-plugin-auth-code-flow-IT.t ... ok
t/mojolicious-plugin-resource-server-IT.t .. ok
t/plugin.t ................................. ok
t/response-parser.t ........................ ok
t/token-response-parser.t .................. ok
t/user.t ................................... ok
All tests successful.
Files=10, Tests=168,  9 wallclock secs ( 0.03 usr  0.05 sys +  4.85 cusr  3.73 csys =  8.67 CPU)
Result: PASS

------------------------------
PREREQUISITES
------------------------------

Prerequisite modules loaded:

requires:

    Module                                      Need     Have      
    ------------------------------------------- -------- ----------
    Carp                                        0        1.50      
    Catalyst::Action                            0        0         
    Catalyst::ClassData                         0        0         
    Catalyst::Runtime                           0        5.90132   
    Clone                                       0        0.46      
    Crypt::JWT                                  0        0.033     
    Data::UUID                                  0        1.226     
    List::MoreUtils                             0        0.430     
    List::Util                                  0        1.68      
    Module::Load                                0        0.36      
    Mojolicious                                 0        9.38      
    Moose                                       0        2.2207    
    Moose::Util::TypeConstraints                0        2.2207    
    MooseX::Params::Validate                    0        0.21      
    namespace::autoclean                        0        0.31      
    perl                                        5.020000 5.024000  
    Readonly                                    0        2.05      
    Scalar::Util                                0        1.68      
    Throwable::Error                            0        1.001     
    Try::Tiny                                   0        0.32      

build_requires:

    Module                                      Need     Have      
    ------------------------------------------- -------- ----------
    Catalyst::Action::RenderView                0        0.17      
    Catalyst::Plugin::ConfigLoader              0        0.35      
    Catalyst::Plugin::Session::Store::FastMmap  0        0.16      
    Catalyst::Plugin::Static::Simple            0        0.37      
    Catalyst::View::JSON                        0        0.37      
    Config::General                             0        2.67      
    ExtUtils::MakeMaker                         0        7.70      
    File::Spec                                  0        3.75      
    IO::Handle                                  0        1.55      
    IPC::Open3                                  0        1.20      
    Log::Any                                    0        1.717     
    Log::Any::Test                              0        1.717     
    Test::Deep                                  0        1.204     
    Test::Exception                             0        0.43      
    Test::MockModule                            0        0.178.0   
    Test::MockObject                            0        1.20200122
    Test::More                                  0        1.302206  
    Test::WWW::Mechanize::Catalyst::WithContext 0.03     0.03      

configure_requires:

    Module                                      Need     Have      
    ------------------------------------------- -------- ----------
    ExtUtils::MakeMaker                         0        7.70      


------------------------------
ENVIRONMENT AND OTHER CONTEXT
------------------------------

Environment variables:

    LC_ALL = de_DE.ISO8859-1
    PATH = /usr/local/bin:/usr/bin:/bin:/usr/local/sbin:/usr/sbin:/sbin:/home/cpansand/bin/freebsd10.3:/home/cpansand/bin/sh:/home/cpansand/bin:/usr/games:/home/cpansand/devel:/home/eserte/src/srezic-misc/scripts
    PERL5LIB = 
    PERL5OPT = 
    PERL5_CPANPLUS_IS_RUNNING = 9309
    PERL5_CPAN_IS_RUNNING = 9309
    PERL5_CPAN_IS_RUNNING_IN_RECURSION = 49289,9309
    PERLDOC = -MPod::Perldoc::ToTextOverstrike
    PERL_BATCH = yes
    PERL_CANARY_STABILITY_NOPROMPT = 1
    PERL_CPAN_REPORTER_CONFIG = /var/tmp/cpansmoker-1023/2025011421/cpanreporter_000_config.ini
    PERL_EXTUTILS_AUTOINSTALL = --defaultdeps
    PERL_USE_UNSAFE_INC = 1
    SHELL = /usr/local/bin/zsh
    TERM = screen
    TMPDIR = /var/tmp/cpansmoker-1023/2025011421

Perl special variables (and OS-specific diagnostics, for MSWin32):

    $^X = /usr/perl5.24.0p/bin/perl
    $UID/$EUID = 1023 / 1023
    $GID = 1023 1023
    $EGID = 1023 1023

Perl module toolchain versions installed:

    Module              Have    
    ------------------- --------
    CPAN                2.37    
    CPAN::Meta          2.150010
    Cwd                 3.75    
    ExtUtils::CBuilder  0.280236
    ExtUtils::Command   7.70    
    ExtUtils::Install   2.22    
    ExtUtils::MakeMaker 7.70    
    ExtUtils::Manifest  1.75    
    ExtUtils::ParseXS   3.51    
    File::Spec          3.75    
    JSON                4.10    
    JSON::PP            4.16    
    Module::Build       0.4234  
    Module::Signature   0.89    
    Parse::CPAN::Meta   2.150010
    Test2               1.302206
    Test::Harness       3.50    
    Test::More          1.302206
    YAML                1.30    
    YAML::Syck          1.34    
    version             0.9933  


--

Summary of my perl5 (revision 5 version 24 subversion 0) configuration:
   
  Platform:
    osname=freebsd, osvers=10.1-release, archname=amd64-freebsd
    uname='freebsd cvrsnica-freebsd-101.herceg.de 10.1-release freebsd 10.1-release #0 r274401: tue nov 11 21:02:49 utc 2014 root@releng1.nyi.freebsd.org:usrobjusrsrcsysgeneric amd64 '
    config_args='-ds -e -Dprefix=/usr/perl5.24.0p -Dcf_email=srezic@cpan.org -Doptimize=-O2 -pipe'
    hint=recommended, useposix=true, d_sigaction=define
    useithreads=undef, usemultiplicity=undef
    use64bitint=define, use64bitall=define, uselongdouble=undef
    usemymalloc=n, bincompat5005=undef
  Compiler:
    cc='cc', ccflags ='-DHAS_FPSETMASK -DHAS_FLOATINGPOINT_H -fno-strict-aliasing -pipe -fstack-protector -I/usr/local/include -D_FORTIFY_SOURCE=2',
    optimize='-O2 -pipe',
    cppflags='-DHAS_FPSETMASK -DHAS_FLOATINGPOINT_H -fno-strict-aliasing -pipe -fstack-protector -I/usr/local/include'
    ccversion='', gccversion='4.2.1 Compatible FreeBSD Clang 3.4.1 (tags/RELEASE_34/dot1-final 208032)', gccosandvers=''
    intsize=4, longsize=8, ptrsize=8, doublesize=8, byteorder=12345678, doublekind=3
    d_longlong=define, longlongsize=8, d_longdbl=define, longdblsize=16, longdblkind=3
    ivtype='long', ivsize=8, nvtype='double', nvsize=8, Off_t='off_t', lseeksize=8
    alignbytes=8, prototype=define
  Linker and Libraries:
    ld='cc', ldflags ='-pthread -Wl,-E  -fstack-protector -L/usr/local/lib'
    libpth=/usr/lib /usr/local/lib /usr/include/clang/3.4.1 /usr/lib
    libs=-lpthread -lgdbm -lm -lcrypt -lutil -lc
    perllibs=-lpthread -lm -lcrypt -lutil -lc
    libc=, so=so, useshrplib=false, libperl=libperl.a
    gnulibc_version=''
  Dynamic Linking:
    dlsrc=dl_dlopen.xs, dlext=so, d_dlsymun=undef, ccdlflags=' '
    cccdlflags='-DPIC -fPIC', lddlflags='-shared  -L/usr/local/lib -fstack-protector'


Characteristics of this binary (from libperl): 
  Compile-time options: HAS_TIMES PERLIO_LAYERS PERL_COPY_ON_WRITE
                        PERL_DONT_CREATE_GVSV
                        PERL_HASH_FUNC_ONE_AT_A_TIME_HARD PERL_MALLOC_WRAP
                        PERL_PRESERVE_IVUV USE_64_BIT_ALL USE_64_BIT_INT
                        USE_LARGE_FILES USE_LOCALE USE_LOCALE_COLLATE
                        USE_LOCALE_CTYPE USE_LOCALE_NUMERIC USE_LOCALE_TIME
                        USE_PERLIO USE_PERL_ATOF
  Built under freebsd
  Compiled at May 10 2016 08:49:38
  %ENV:
    PERL5LIB=""
    PERL5OPT=""
    PERL5_CPANPLUS_IS_RUNNING="9309"
    PERL5_CPAN_IS_RUNNING="9309"
    PERL5_CPAN_IS_RUNNING_IN_RECURSION="49289,9309"
    PERLDOC="-MPod::Perldoc::ToTextOverstrike"
    PERL_BATCH="yes"
    PERL_CANARY_STABILITY_NOPROMPT="1"
    PERL_CPAN_REPORTER_CONFIG="/var/tmp/cpansmoker-1023/2025011421/cpanreporter_000_config.ini"
    PERL_EXTUTILS_AUTOINSTALL="--defaultdeps"
    PERL_USE_UNSAFE_INC="1"
  @INC:
    /usr/perl5.24.0p/lib/site_perl/5.24.0/amd64-freebsd
    /usr/perl5.24.0p/lib/site_perl/5.24.0
    /usr/perl5.24.0p/lib/5.24.0/amd64-freebsd
    /usr/perl5.24.0p/lib/5.24.0
    .