Art-World v0.18_14 Perl 5 v5.22.2 x86_64-linux

Status
Pass
From
Chris Williams (BINGOS)
Dist
Art-World v0.18_14
Platform
Perl 5 v5.22.2 x86_64-linux
Date
2021-03-24T09:32:41
ID
e144cf58-8c83-11eb-84bc-edd243e66a77
This distribution has been tested as part of the CPAN Testers
project, supporting the Perl programming language.  See
http://wiki.cpantesters.org/ for more information or email
questions to cpan-testers-discuss@perl.org


--

Dear SMONFF,

This is a computer-generated error report created automatically by
CPANPLUS, version 0.9910. Testers personal comments may appear
at the end of this report.


Thank you for uploading your work to CPAN.  Congratulations!
All tests were successful.

TEST RESULTS:

Below is the error stack from stage 'make test':

t/00_pod.t ............ ok
t/01_basic.t .......... ok
Postfix dereference is experimental at t/02_abstraction.t line 26.
t/02_abstraction.t .... ok
t/03_agent.t .......... ok
t/04_artist.t ......... ok
t/05_collector.t ...... ok
t/06_public.t ......... ok
t/07_manager.t ........ ok
t/11_artwork.t ........ ok
t/12_place.t .......... ok
# This is a very nice Reintermediate
t/14_exhibition.t ..... ok
t/15_gallery.t ........ ok
# quam eum sed libero aliquid eligendi dolorem aliquid ea possimus.
# 2020-02-16T08:18:43
# Lockmanfurt
# Red wine, White wine, Peanuts, Candies
t/16_opening.t ........ ok
t/20_crud.t ........... ok
t/30_introspection.t .. ok
t/40_concept.t ........ ok
# Error messages displayed during tests are part of the testing process
You tried to update reputation to a value smaller than zero. Nothing changed. at t/50_fame.t line 42.
# Can't locate object method "aura" via package "Art::World::Artist" at t/50_fame.t line 48.
# Can't locate object method "reputation" via package "Art::World::Artwork" at t/50_fame.t line 93.
t/50_fame.t ........... ok
All tests successful.
Files=17, Tests=206, 58 wallclock secs ( 0.07 usr  0.01 sys + 54.95 cusr  2.30 csys = 57.33 CPU)
Result: PASS


PREREQUISITES:

Here is a list of prerequisites you specified and versions we
managed to load:

	  Module Name                        Have     Want
	! Config::Tiny                       2.26  == 2.26
	! DBD::SQLite                        1.66  == 1.66
	! DBI                               1.643 == 1.643
	! Data::Printer                  1.000004 == 1.000004
	! DateTimeX::Auto                   0.009 == 0.009
	! Faker                              1.04  == 1.04
	! Math::Round                        0.07  == 0.07
	! PadWalker                           2.5   == 2.5
	! Path::Tiny                        0.118 == 0.118
	! Syntax::Keyword::Try               0.21  == 0.21
	! Teng                               0.32  == 0.32
	! Test::Pod                          1.52  == 1.52
	! Type::Tiny                     1.012001 == 1.012001
	! Type::Tiny::XS                    0.022 == 0.022
	! Types::XSD                        0.007 == 0.007
	! Zydeco                            0.613 == 0.613

Perl module toolchain versions installed:
	Module Name                        Have
	CPANPLUS                         0.9910
	CPANPLUS::Dist::Build              0.90
	Cwd                                3.75
	ExtUtils::CBuilder             0.280236
	ExtUtils::Command                  7.60
	ExtUtils::Install                  2.20
	ExtUtils::MakeMaker                7.60
	ExtUtils::Manifest                 1.73
	ExtUtils::ParseXS                  3.35
	File::Spec                         3.75
	Module::Build                    0.4231
	Pod::Parser                        1.63
	Pod::Simple                        3.29
	Test2                          1.302183
	Test::Harness                      3.42
	Test::More                     1.302183
	version                          0.9928

******************************** NOTE ********************************
The comments above are created mechanically, possibly without manual
checking by the sender.  As there are many people performing automatic
tests on each upload to CPAN, it is likely that you will receive
identical messages about the same problem.

If you believe that the message is mistaken, please reply to the first
one with correction and/or additional informations, and do not take
it personally.  We appreciate your patience. :)
**********************************************************************

Additional comments:


This report was machine-generated by CPANPLUS::Dist::YACSmoke 1.08.
Powered by minismokebox version 0.68

CPANPLUS is prefering Build.PL

------------------------------
ENVIRONMENT AND OTHER CONTEXT
------------------------------

Environment variables:

    AUTOMATED_TESTING = 1
    LANG = C.UTF-8
    LC_COLLATE = C
    NONINTERACTIVE_TESTING = 1
    PATH = /usr/local/sbin:/usr/local/bin:/usr/sbin:/usr/bin:/sbin:/bin
    PERL5LIB = /home/cpan/pit/jail/TWidVKOOM1/lib/perl5:/home/cpan/pit/bare/conf/perl-5.22.2/.cpanplus/5.22.2/build/txBNhIIsQY/Art-World-0.18_14/blib/lib:/home/cpan/pit/bare/conf/perl-5.22.2/.cpanplus/5.22.2/build/txBNhIIsQY/Art-World-0.18_14/blib/arch
    PERL5_CPANPLUS_IS_RUNNING = 6983
    PERL5_CPANPLUS_IS_VERSION = 0.9910
    PERL5_MINISMOKEBOX = 0.68
    PERL5_YACSMOKE_BASE = /home/cpan/pit/bare/conf/perl-5.22.2
    PERL_EXTUTILS_AUTOINSTALL = --defaultdeps
    PERL_LOCAL_LIB_ROOT = /home/cpan/pit/jail/TWidVKOOM1
    PERL_MB_OPT = --install_base "/home/cpan/pit/jail/TWidVKOOM1"
    PERL_MM_OPT = INSTALL_BASE=/home/cpan/pit/jail/TWidVKOOM1
    PERL_MM_USE_DEFAULT = 1
    SHELL = /bin/bash
    TERM = screen

Perl special variables (and OS-specific diagnostics, for MSWin32):

    Perl: $^X = /home/cpan/pit/bare/perl-5.22.2/bin/perl
    UID:  $<  = 1001
    EUID: $>  = 1001
    GID:  $(  = 1001 1001
    EGID: $)  = 1001 1001


-------------------------------


--

Summary of my perl5 (revision 5 version 22 subversion 2) configuration:
   
  Platform:
    osname=linux, osvers=5.10.16-0-lts, archname=x86_64-linux
    uname='linux agaric 5.10.16-0-lts #1-alpine smp wed, 17 feb 2021 08:17:06 utc x86_64 linux '
    config_args='-des -Dprefix=/home/cpan/pit/bare/perl-5.22.2'
    hint=recommended, useposix=true, d_sigaction=define
    useithreads=undef, usemultiplicity=undef
    use64bitint=define, use64bitall=define, uselongdouble=undef
    usemymalloc=n, bincompat5005=undef
  Compiler:
    cc='cc', ccflags ='-D_GNU_SOURCE -fwrapv -fno-strict-aliasing -pipe -fstack-protector-strong -D_LARGEFILE_SOURCE -D_FILE_OFFSET_BITS=64',
    optimize='-O2',
    cppflags='-D_GNU_SOURCE -fwrapv -fno-strict-aliasing -pipe -fstack-protector-strong'
    ccversion='', gccversion='10.2.1 20201203', gccosandvers=''
    intsize=4, longsize=8, ptrsize=8, doublesize=8, byteorder=12345678, doublekind=3
    d_longlong=define, longlongsize=8, d_longdbl=define, longdblsize=16, longdblkind=3
    ivtype='long', ivsize=8, nvtype='double', nvsize=8, Off_t='off_t', lseeksize=8
    alignbytes=8, prototype=define
  Linker and Libraries:
    ld='cc', ldflags =' -fstack-protector-strong -L/usr/local/lib'
    libpth=/usr/include/fortify /usr/lib /usr/local/lib /lib/../lib /usr/lib/../lib /lib
    libs=-lpthread -lgdbm -ldl -lm -lcrypt -lutil -lc -lgdbm_compat
    perllibs=-lpthread -ldl -lm -lcrypt -lutil -lc
    libc=/usr/lib/libc.a, so=so, useshrplib=false, libperl=libperl.a
    gnulibc_version=''
  Dynamic Linking:
    dlsrc=dl_dlopen.xs, dlext=so, d_dlsymun=undef, ccdlflags='-Wl,-E'
    cccdlflags='-fPIC', lddlflags='-shared -O2 -L/usr/local/lib -fstack-protector-strong'


Characteristics of this binary (from libperl): 
  Compile-time options: HAS_TIMES PERLIO_LAYERS PERL_DONT_CREATE_GVSV
                        PERL_HASH_FUNC_ONE_AT_A_TIME_HARD PERL_MALLOC_WRAP
                        PERL_NEW_COPY_ON_WRITE PERL_PRESERVE_IVUV
                        USE_64_BIT_ALL USE_64_BIT_INT USE_LARGE_FILES
                        USE_LOCALE USE_LOCALE_COLLATE USE_LOCALE_CTYPE
                        USE_LOCALE_NUMERIC USE_LOCALE_TIME USE_PERLIO
                        USE_PERL_ATOF
  Locally applied patches:
	Devel::PatchPerl 2.08
  Built under linux
  Compiled at Mar 12 2021 03:40:17
  %ENV:
    PERL5LIB="/home/cpan/pit/jail/TWidVKOOM1/lib/perl5:/home/cpan/pit/bare/conf/perl-5.22.2/.cpanplus/5.22.2/build/txBNhIIsQY/Art-World-0.18_14/blib/lib:/home/cpan/pit/bare/conf/perl-5.22.2/.cpanplus/5.22.2/build/txBNhIIsQY/Art-World-0.18_14/blib/arch"
    PERL5_CPANPLUS_IS_RUNNING="6983"
    PERL5_CPANPLUS_IS_VERSION="0.9910"
    PERL5_MINISMOKEBOX="0.68"
    PERL5_YACSMOKE_BASE="/home/cpan/pit/bare/conf/perl-5.22.2"
    PERL_EXTUTILS_AUTOINSTALL="--defaultdeps"
    PERL_LOCAL_LIB_ROOT="/home/cpan/pit/jail/TWidVKOOM1"
    PERL_MB_OPT="--install_base "/home/cpan/pit/jail/TWidVKOOM1""
    PERL_MM_OPT="INSTALL_BASE=/home/cpan/pit/jail/TWidVKOOM1"
    PERL_MM_USE_DEFAULT="1"
  @INC:
    /home/cpan/pit/jail/TWidVKOOM1/lib/perl5/5.22.2/x86_64-linux
    /home/cpan/pit/jail/TWidVKOOM1/lib/perl5/5.22.2
    /home/cpan/pit/jail/TWidVKOOM1/lib/perl5/x86_64-linux
    /home/cpan/pit/jail/TWidVKOOM1/lib/perl5
    /home/cpan/pit/bare/conf/perl-5.22.2/.cpanplus/5.22.2/build/txBNhIIsQY/Art-World-0.18_14/blib/lib
    /home/cpan/pit/bare/conf/perl-5.22.2/.cpanplus/5.22.2/build/txBNhIIsQY/Art-World-0.18_14/blib/arch
    /home/cpan/pit/bare/perl-5.22.2/lib/site_perl/5.22.2/x86_64-linux
    /home/cpan/pit/bare/perl-5.22.2/lib/site_perl/5.22.2
    /home/cpan/pit/bare/perl-5.22.2/lib/5.22.2/x86_64-linux
    /home/cpan/pit/bare/perl-5.22.2/lib/5.22.2
    .