Report for Music-Tag-M4A-0.4101

Back
From: metabase:user:43459557-6c05-1014-b21f-d9eebe8d1a5a
Subject: PASS Music-Tag-M4A-0.4101 v5.16.3 GNU/Linux
Date: 2013-09-07T23:33:20Z

This distribution has been tested as part of the CPAN Testers
project, supporting the Perl programming language.  See
http://wiki.cpantesters.org/ for more information or email
questions to cpan-testers-discuss@perl.org


--
Dear Edward J. Allen III,

This is a computer-generated report for Music-Tag-M4A-0.4101
on perl 5.16.3, created by CPAN-Reporter-1.2009.

Thank you for uploading your work to CPAN.  Congratulations!
All tests were successful.

Sections of this report:

    * Tester comments
    * Program output
    * Prerequisites
    * Environment and other context

------------------------------
TESTER COMMENTS
------------------------------

Additional comments from tester:

none provided

------------------------------
PROGRAM OUTPUT
------------------------------

Output from '/usr/bin/make test':

PERL_DL_NONLAZY=1 /home/titan/perl5/perlbrew/perls/perl-5.16.2/bin/perl "-MExtUtils::Command::MM" "-e" "test_harness(0, 'blib/lib', 'blib/arch')" t/*.t
Use of uninitialized value $lyrics in substitution (s///) at /home/titan/.cpan/build/Music-Tag-M4A-0.4101-OoNYiH/blib/lib/Music/Tag/M4A.pm line 185.
Use of uninitialized value in subroutine entry at /home/titan/perl5/perlbrew/perls/perl-5.16.2/lib/site_perl/5.16.3/Audio/M4P/QuickTime.pm line 796.
t/1-m4a.t ........... ok
t/2-pod.t ........... ok
t/3-pod-coverage.t .. ok
All tests successful.
Files=3, Tests=27,  2 wallclock secs ( 0.07 usr  0.00 sys +  1.86 cusr  0.13 csys =  2.06 CPU)
Result: PASS

------------------------------
PREREQUISITES
------------------------------

Prerequisite modules loaded:

requires:

    Module                Need   Have  
    --------------------- ------ ------
    Audio::M4P::QuickTime 0.37   0.51  
    MP4::Info             1.12   1.13  
    Music::Tag            0.4101 0.4103
    Tree::Simple          0      1.18  

build_requires:

    Module                Need   Have  
    --------------------- ------ ------
    ExtUtils::MakeMaker   0      6.64  

configure_requires:

    Module                Need   Have  
    --------------------- ------ ------
    ExtUtils::MakeMaker   0      6.64  


------------------------------
ENVIRONMENT AND OTHER CONTEXT
------------------------------

Environment variables:

    LANG = en_US.UTF-8
    LC_ADDRESS = en_US.UTF-8
    LC_COLLATE = en_US.UTF-8
    LC_CTYPE = en_US.UTF-8
    LC_IDENTIFICATION = en_US.UTF-8
    LC_MEASUREMENT = en_US.UTF-8
    LC_MESSAGES = en_US.UTF-8
    LC_MONETARY = en_US.UTF-8
    LC_NAME = en_US.UTF-8
    LC_NUMERIC = en_US.UTF-8
    LC_PAPER = en_US.UTF-8
    LC_TELEPHONE = en_US.UTF-8
    LC_TIME = en_US.UTF-8
    PATH = /usr/local/heroku/bin:/home/titan/perl5/perlbrew/bin:/home/titan/perl5/perlbrew/perls/perl-5.16.2/bin:/usr/bin:/usr/local/heroku/bin:/usr/local/bin:/usr/bin:/bin:/opt/bin:/usr/x86_64-pc-linux-gnu/gcc-bin/4.6.3
    PERL5LIB = 
    PERL5OPT = 
    PERL5_CPANPLUS_IS_RUNNING = 24742
    PERL5_CPAN_IS_RUNNING = 24742
    PERLBREW_BASHRC_VERSION = 0.58
    PERLBREW_HOME = /home/titan/.perlbrew
    PERLBREW_MANPATH = /home/titan/perl5/perlbrew/perls/perl-5.16.2/man
    PERLBREW_PATH = /home/titan/perl5/perlbrew/bin:/home/titan/perl5/perlbrew/perls/perl-5.16.2/bin
    PERLBREW_PERL = perl-5.16.2
    PERLBREW_ROOT = /home/titan/perl5/perlbrew
    PERLBREW_VERSION = 0.58
    SHELL = /bin/bash
    TERM = xterm

Perl special variables (and OS-specific diagnostics, for MSWin32):

    $^X = /home/titan/perl5/perlbrew/perls/perl-5.16.2/bin/perl
    $UID/$EUID = 1000 / 1000
    $GID = 1000 10 70 100 245 250 1000
    $EGID = 1000 10 70 100 245 250 1000

Perl module toolchain versions installed:

    Module              Have    
    ------------------- --------
    CPAN                2.00    
    CPAN::Meta          2.120630
    Cwd                 3.40    
    ExtUtils::CBuilder  0.280206
    ExtUtils::Command   1.17    
    ExtUtils::Install   1.58    
    ExtUtils::MakeMaker 6.64    
    ExtUtils::Manifest  1.61    
    ExtUtils::ParseXS   3.16    
    File::Spec          3.40    
    JSON                2.53    
    JSON::PP            2.27200 
    Module::Build       0.4005  
    Module::Signature   0.70    
    Parse::CPAN::Meta   1.4404  
    Test::Harness       3.26    
    Test::More          0.98    
    YAML                0.84    
    YAML::Syck          n/a     
    version             0.99    


--

Summary of my perl5 (revision 5 version 16 subversion 3) configuration:
   
  Platform:
    osname=linux, osvers=3.7.5-hardened-r1, archname=x86_64-linux
    uname='linux gengoff 3.7.5-hardened-r1 #1 smp mon mar 4 12:11:04 utc 2013 x86_64 amd a4-3300m apu with radeon(tm) hd graphics authenticamd gnulinux '
    config_args='-de -Dprefix=/home/titan/perl5/perlbrew/perls/perl-5.16.2 -Aeval:scriptdir=/home/titan/perl5/perlbrew/perls/perl-5.16.2/bin'
    hint=recommended, useposix=true, d_sigaction=define
    useithreads=undef, usemultiplicity=undef
    useperlio=define, d_sfio=undef, uselargefiles=define, usesocks=undef
    use64bitint=define, use64bitall=define, uselongdouble=undef
    usemymalloc=n, bincompat5005=undef
  Compiler:
    cc='cc', ccflags ='-fno-strict-aliasing -pipe -fstack-protector -I/usr/local/include -D_LARGEFILE_SOURCE -D_FILE_OFFSET_BITS=64',
    optimize='-O2',
    cppflags='-fno-strict-aliasing -pipe -fstack-protector -I/usr/local/include'
    ccversion='', gccversion='4.5.4', gccosandvers=''
    intsize=4, longsize=8, ptrsize=8, doublesize=8, byteorder=12345678
    d_longlong=define, longlongsize=8, d_longdbl=define, longdblsize=16
    ivtype='long', ivsize=8, nvtype='double', nvsize=8, Off_t='off_t', lseeksize=8
    alignbytes=8, prototype=define
  Linker and Libraries:
    ld='cc', ldflags =' -fstack-protector -L/usr/local/lib'
    libpth=/usr/local/lib /lib/../lib64 /usr/lib/../lib64 /lib /usr/lib /lib64 /usr/lib64
    libs=-lnsl -lgdbm -ldb -ldl -lm -lcrypt -lutil -lc -lgdbm_compat
    perllibs=-lnsl -ldl -lm -lcrypt -lutil -lc
    libc=/lib/libc-2.15.so, so=so, useshrplib=false, libperl=libperl.a
    gnulibc_version='2.15'
  Dynamic Linking:
    dlsrc=dl_dlopen.xs, dlext=so, d_dlsymun=undef, ccdlflags='-Wl,-E'
    cccdlflags='-fPIC', lddlflags='-shared -O2 -L/usr/local/lib -fstack-protector'


Characteristics of this binary (from libperl): 
  Compile-time options: HAS_TIMES PERLIO_LAYERS PERL_DONT_CREATE_GVSV
                        PERL_MALLOC_WRAP PERL_PRESERVE_IVUV USE_64_BIT_ALL
                        USE_64_BIT_INT USE_LARGE_FILES USE_LOCALE
                        USE_LOCALE_COLLATE USE_LOCALE_CTYPE
                        USE_LOCALE_NUMERIC USE_PERLIO USE_PERL_ATOF
  Built under linux
  Compiled at Mar 26 2013 01:35:25
  %ENV:
    PERL5LIB=""
    PERL5OPT=""
    PERL5_CPANPLUS_IS_RUNNING="24742"
    PERL5_CPAN_IS_RUNNING="24742"
    PERLBREW_BASHRC_VERSION="0.58"
    PERLBREW_HOME="/home/titan/.perlbrew"
    PERLBREW_MANPATH="/home/titan/perl5/perlbrew/perls/perl-5.16.2/man"
    PERLBREW_PATH="/home/titan/perl5/perlbrew/bin:/home/titan/perl5/perlbrew/perls/perl-5.16.2/bin"
    PERLBREW_PERL="perl-5.16.2"
    PERLBREW_ROOT="/home/titan/perl5/perlbrew"
    PERLBREW_VERSION="0.58"
  @INC:
    /home/titan/perl5/perlbrew/perls/perl-5.16.2/lib/site_perl/5.16.3/x86_64-linux
    /home/titan/perl5/perlbrew/perls/perl-5.16.2/lib/site_perl/5.16.3
    /home/titan/perl5/perlbrew/perls/perl-5.16.2/lib/5.16.3/x86_64-linux
    /home/titan/perl5/perlbrew/perls/perl-5.16.2/lib/5.16.3
    /home/titan/perl5/perlbrew/perls/perl-5.16.2/lib/site_perl/5.16.2
    /home/titan/perl5/perlbrew/perls/perl-5.16.2/lib/site_perl
    .