Catalyst-View-Template-Declare v0.04 Perl 5 v5.20.3 x86_64-linux
- Status
- Pass
- From
- Dist
-
Catalyst-View-Template-Declare v0.04
- Platform
- Perl 5 v5.20.3 x86_64-linux
- Date
- 2019-06-01 16:54:11
- ID
- e1119f7a-848d-11e9-9a72-f939527fc421
This distribution has been tested as part of the CPAN Testers
project, supporting the Perl programming language. See
http://wiki.cpantesters.org/ for more information or email
questions to cpan-testers-discuss@perl.org
--
Dear JROCKWAY,
This is a computer-generated report for Catalyst-View-Template-Declare-0.04
on perl 5.20.3, created by App::cpanminus::reporter 0.17 (1.7040).
Thank you for uploading your work to CPAN. Congratulations!
All tests were successful.
Sections of this report:
* Tester comments
* Program output
* Prerequisites
* Environment and other context
------------------------------
TESTER COMMENTS
------------------------------
Additional comments from tester:
none provided
------------------------------
PROGRAM OUTPUT
------------------------------
Output from '':
Running Makefile.PL
Cannot determine perl version info from lib/Catalyst/View/Template/Declare.pm
LEGAL WARNING: 'All rights reserved' may invalidate Open Source licenses. Consider removing it. at inc/Module/Install/Metadata.pm line 323.
*** Module::AutoInstall version 1.03
*** Checking for Perl dependencies...
[Core Features]
- Test::More ...loaded. (1.302164)
- Catalyst::Runtime ...loaded. (5.90124 >= 5.7000)
- Catalyst::View::Templated ...missing.
- Template::Declare ...loaded. (0.47 >= 0.26)
- Class::C3 ...loaded. (0.34)
- Module::Pluggable::Object ...loaded. (5.2)
- PadWalker ...missing.
==> Auto-install the 2 mandatory module(s) from CPAN? [y] y
*** Since we're running under CPANPLUS, I'll just let it take care
of the dependency's installation later.
*** Module::AutoInstall configuration finished.
Checking if your kit is complete...
Looks good
Warning: prerequisite Catalyst::View::Templated 0 not found.
Warning: prerequisite PadWalker 0 not found.
Generating a Unix-style Makefile
Writing Makefile for Catalyst::View::Template::Declare
Writing MYMETA.yml and MYMETA.json
-> OK
Checking dependencies from MYMETA.json ...
Checking if you have Module::Pluggable::Object 0 ... Yes (5.2)
Checking if you have Test::More 0 ... Yes (1.302164)
Checking if you have Catalyst::Runtime 5.7000 ... Yes (5.90124)
Checking if you have Catalyst::View::Templated 0 ... No
Checking if you have PadWalker 0 ... No
Checking if you have ExtUtils::MakeMaker 0 ... Yes (6.98)
Checking if you have Template::Declare 0.26 ... Yes (0.47)
Checking if you have Class::C3 0 ... Yes (0.34)
==> Found dependencies: Catalyst::View::Templated, PadWalker
Searching Catalyst::View::Templated (0) on cpanmetadb ...
--> Working on Catalyst::View::Templated
Fetching http://www.cpan.org/authors/id/J/JR/JROCKWAY/Catalyst-View-Templated-0.02.tar.gz
-> OK
Unpacking Catalyst-View-Templated-0.02.tar.gz
make[1]: Leaving directory '/root/.cpanm/work/1559394298.6/Imager-1.011/ICO'
make[1]: Entering directory '/root/.cpanm/work/1559394298.6/Imager-1.011/JPEG'
PERL_DL_NONLAZY=1 /usr/local/bin/perl "-MExtUtils::Command::MM" "-MTest::Harness" "-e" "undef *Test::Harness::Switches; test_harness(0, '../blib/lib', '../blib/arch')" t/*.t
t/t00load.t ... ok
libjpeg version: libjpeg-turbo 1.3.1 api 62
t/t10jpeg.t ... ok
t/t20limit.t .. ok
All tests successful.
Files=3, Tests=122, 1 wallclock secs ( 0.05 usr 0.01 sys + 0.67 cusr 0.11 csys = 0.84 CPU)
Result: PASS
------------------------------
PREREQUISITES
------------------------------
Prerequisite modules loaded:
No requirements found
------------------------------
ENVIRONMENT AND OTHER CONTEXT
------------------------------
Environment variables:
PATH = /usr/local/sbin:/usr/local/bin:/usr/sbin:/usr/bin:/sbin:/bin
PERL_CPAN_REPORTER_DIR = /etc/cpanm-reporter
TERM = xterm
Perl special variables (and OS-specific diagnostics, for MSWin32):
EGID = 0
EUID = 0
EXECUTABLE_NAME = /usr/local/bin/perl
GID = 0
UID = 0
Perl module toolchain versions installed:
Module Have
------------------- --------
CPAN 2.05
CPAN::Meta 2.150010
Cwd 3.48_01
ExtUtils::CBuilder 0.280217
ExtUtils::Command 7.36
ExtUtils::Install 2.06
ExtUtils::MakeMaker 7.36
ExtUtils::Manifest 1.70
ExtUtils::ParseXS 3.35
File::Spec 3.48_01
JSON 4.02
JSON::PP 4.02
Module::Build 0.4229
Module::Signature n/a
Parse::CPAN::Meta 2.150010
Test::Harness 3.42
Test::More 1.302164
YAML 1.29
YAML::Syck 1.31
version 0.9924
--
Summary of my perl5 (revision 5 version 20 subversion 3) configuration:
Platform:
osname=linux, osvers=3.16.0-4-amd64, archname=x86_64-linux
uname='linux f416997e8b71 3.16.0-4-amd64 #1 smp debian 3.16.7-ckt25-2 (2016-04-08) x86_64 gnulinux '
config_args='-Duse64bitall -Duseshrplib -des'
hint=recommended, useposix=true, d_sigaction=define
useithreads=undef, usemultiplicity=undef
use64bitint=define, use64bitall=define, uselongdouble=undef
usemymalloc=n, bincompat5005=undef
Compiler:
cc='cc', ccflags ='-fwrapv -fno-strict-aliasing -pipe -fstack-protector -I/usr/local/include -D_LARGEFILE_SOURCE -D_FILE_OFFSET_BITS=64',
optimize='-O2',
cppflags='-fwrapv -fno-strict-aliasing -pipe -fstack-protector -I/usr/local/include'
ccversion='', gccversion='4.9.2', gccosandvers=''
intsize=4, longsize=8, ptrsize=8, doublesize=8, byteorder=12345678
d_longlong=define, longlongsize=8, d_longdbl=define, longdblsize=16
ivtype='long', ivsize=8, nvtype='double', nvsize=8, Off_t='off_t', lseeksize=8
alignbytes=8, prototype=define
Linker and Libraries:
ld='cc', ldflags =' -fstack-protector -L/usr/local/lib'
libpth=/usr/local/lib /usr/lib/gcc/x86_64-linux-gnu/4.9/include-fixed /usr/include/x86_64-linux-gnu /usr/lib /lib/x86_64-linux-gnu /lib/../lib /usr/lib/x86_64-linux-gnu /usr/lib/../lib /lib
libs=-lpthread -lnsl -ldb -ldl -lm -lcrypt -lutil -lc
perllibs=-lpthread -lnsl -ldl -lm -lcrypt -lutil -lc
libc=libc-2.19.so, so=so, useshrplib=true, libperl=libperl.so
gnulibc_version='2.19'
Dynamic Linking:
dlsrc=dl_dlopen.xs, dlext=so, d_dlsymun=undef, ccdlflags='-Wl,-E -Wl,-rpath,/usr/local/lib/perl5/5.20.3/x86_64-linux/CORE'
cccdlflags='-fPIC', lddlflags='-shared -O2 -L/usr/local/lib -fstack-protector'
Characteristics of this binary (from libperl):
Compile-time options: HAS_TIMES PERLIO_LAYERS PERL_DONT_CREATE_GVSV
PERL_HASH_FUNC_ONE_AT_A_TIME_HARD PERL_MALLOC_WRAP
PERL_NEW_COPY_ON_WRITE PERL_PRESERVE_IVUV
USE_64_BIT_ALL USE_64_BIT_INT USE_LARGE_FILES
USE_LOCALE USE_LOCALE_COLLATE USE_LOCALE_CTYPE
USE_LOCALE_NUMERIC USE_PERLIO USE_PERL_ATOF
Locally applied patches:
Devel::PatchPerl 1.38
Built under linux
Compiled at May 5 2016 16:44:08
%ENV:
PERL_CPAN_REPORTER_DIR="/etc/cpanm-reporter"
@INC:
/usr/local/lib/perl5/site_perl/5.20.3/x86_64-linux
/usr/local/lib/perl5/site_perl/5.20.3
/usr/local/lib/perl5/5.20.3/x86_64-linux
/usr/local/lib/perl5/5.20.3
.