Mail-Mbox-MessageParser v1.5111 Perl 5 v5.16.0 x86_64-gnukfreebsd-thread-multi
- Status
- Pass
- From
- Chris Williams (BINGOS)
- Dist
-
Mail-Mbox-MessageParser v1.5111
- Platform
- Perl 5 v5.16.0 x86_64-gnukfreebsd-thread-multi
- Date
- 2018-07-18 17:06:14
- ID
- e105591c-8aac-11e8-919d-ffef68b7f98c
This distribution has been tested as part of the CPAN Testers
project, supporting the Perl programming language. See
http://wiki.cpantesters.org/ for more information or email
questions to cpan-testers-discuss@perl.org
--
Dear DCOPPIT,
This is a computer-generated error report created automatically by
CPANPLUS, version 0.9176. Testers personal comments may appear
at the end of this report.
Thank you for uploading your work to CPAN. Congratulations!
All tests were successful.
TEST RESULTS:
Below is the error stack from stage 'make test':
PERL_DL_NONLAZY=1 "/home/cpan/pit/thr/perl-5.16.0/bin/perl" "-MExtUtils::Command::MM" "-MTest::Harness" "-e" "undef *Test::Harness::Switches; test_harness(1, 'blib/lib', 'blib/arch')" t/*.t
t/000_standard__compile.t .......
1..6
ok 1 - Compile test for blib/lib/Mail/Mbox/MessageParser.pm
ok 2 - Compile test for blib/lib/Mail/Mbox/MessageParser/Perl.pm
ok 3 - Compile test for blib/lib/Mail/Mbox/MessageParser/Grep.pm
ok 4 - Compile test for blib/lib/Mail/Mbox/MessageParser/MetaInfo.pm
ok 5 - Compile test for blib/lib/Mail/Mbox/MessageParser/Cache.pm
ok 6 - Compile test for blib/lib/Mail/Mbox/MessageParser/Config.pm
ok
t/000_standard__perl_critic.t ... skipped: Author test. Set $ENV{TEST_AUTHOR} to a true value to run.
t/000_standard__pod.t ........... skipped: Test::Pod required for testing POD
t/000_standard__pod_coverage.t .. skipped: Test::Pod::Coverage required for testing POD coverage
t/appended_mailbox.t ............
1..6
Testing modified mailbox with Perl implementation
Comparing /tmp/AmQQYBtcG6 to t/mailboxes/mailarc-1.txt
Output /tmp/AmQQYBtcG6 looks good.
ok 1 - Computing differences
Testing modified mailbox with Cache implementation
Comparing /tmp/9jg6F5iw6j to t/mailboxes/mailarc-1.txt
Output /tmp/9jg6F5iw6j looks good.
ok 2 - Computing differences
Testing modified mailbox with Grep implementation
ok 3 # skip GNU grep not available
Testing modified mailbox with Perl implementation
Comparing /tmp/NJNaTusrXk to t/mailboxes/mailarc-1.txt
Output /tmp/NJNaTusrXk looks good.
ok 4 - Computing differences
Testing modified mailbox with Cache implementation
Comparing /tmp/idN8TYCJzX to t/mailboxes/mailarc-1.txt
Output /tmp/idN8TYCJzX looks good.
ok 5 - Computing differences
Testing modified mailbox with Grep implementation
ok 6 # skip GNU grep not available
ok
t/bzip2.t .......................
1..1
Running test:
"/bin/cat" "t/mailboxes/mailarc-2.txt.bz2" | "/bin/bzip2" -cd
Comparing /tmp/JvM7BOHXTk to t/results/mailarc-2.txt
Output /tmp/JvM7BOHXTk looks good.
Comparing /tmp/OMJr21N_wH to t/results/none
Output /tmp/OMJr21N_wH looks good.
ok 1 - Computing differences
ok
t/endline.t .....................
1..8
Testing filename: t/mailboxes/mailarc-1-dos.txt
ok 1 - Dos endline expected
ok 2 - Dos endline expected
ok 3 - Dos endline expected
ok 4 # skip GNU grep not available
Testing filename: t/mailboxes/mailarc-1.txt
ok 5 - Unix endline expected
ok 6 - Unix endline expected
ok 7 - Unix endline expected
ok 8 # skip GNU grep not available
ok
t/filehandle_compressed.t .......
1..16
Testing filename: t/mailboxes/mailarc-2.txt.bz2
Comparing /tmp/oJ0e3C026U to t/mailboxes/mailarc-2.txt
Output /tmp/oJ0e3C026U looks good.
ok 1 - Computing differences
Comparing /tmp/ELqVgjPWiL to t/mailboxes/mailarc-2.txt
Output /tmp/ELqVgjPWiL looks good.
ok 2 - Computing differences
Comparing /tmp/605tvfJ0K_ to t/mailboxes/mailarc-2.txt
Output /tmp/605tvfJ0K_ looks good.
ok 3 - Computing differences
ok 4 # skip GNU grep not available
Testing filename: t/mailboxes/mailarc-2.txt.gz
Comparing /tmp/xzCRDOaGsF to t/mailboxes/mailarc-2.txt
Output /tmp/xzCRDOaGsF looks good.
ok 5 - Computing differences
Comparing /tmp/ntmsKNc9yh to t/mailboxes/mailarc-2.txt
Output /tmp/ntmsKNc9yh looks good.
ok 6 - Computing differences
Comparing /tmp/0XdLyoFCXY to t/mailboxes/mailarc-2.txt
Output /tmp/0XdLyoFCXY looks good.
ok 7 - Computing differences
ok 8 # skip GNU grep not available
Testing filename: t/mailboxes/mailarc-2.txt.lz
ok 9 # skip lzip not available
ok 10 # skip lzip not available
ok 11 # skip lzip not available
ok 12 # skip lzip not available
Testing filename: t/mailboxes/mailarc-2.txt.xz
Comparing /tmp/Ru7t6PrM1W to t/mailboxes/mailarc-2.txt
Output /tmp/Ru7t6PrM1W looks good.
ok 13 - Computing differences
Comparing /tmp/3fmdSFZ4Qb to t/mailboxes/mailarc-2.txt
Output /tmp/3fmdSFZ4Qb looks good.
ok 14 - Computing differences
Comparing /tmp/rtsN7ssPPn to t/mailboxes/mailarc-2.txt
Output /tmp/rtsN7ssPPn looks good.
ok 15 - Computing differences
ok 16 # skip GNU grep not available
ok
t/filehandle_noncompressed.t ....
1..44
Testing filename: t/mailboxes/binary_body.txt
Comparing /tmp/7Vq29TYsrj to t/mailboxes/binary_body.txt
Output /tmp/7Vq29TYsrj looks good.
ok 1 - Computing differences
Comparing /tmp/7Xx6wAisqM to t/mailboxes/binary_body.txt
Output /tmp/7Xx6wAisqM looks good.
ok 2 - Computing differences
Comparing /tmp/lGzxtLq2g0 to t/mailboxes/binary_body.txt
Output /tmp/lGzxtLq2g0 looks good.
ok 3 - Computing differences
ok 4 # skip GNU grep not available
Testing filename: t/mailboxes/hessbug.txt
Comparing /tmp/Z_2RpCdLoS to t/mailboxes/hessbug.txt
Output /tmp/Z_2RpCdLoS looks good.
ok 5 - Computing differences
Comparing /tmp/jAL2H39ck2 to t/mailboxes/hessbug.txt
Output /tmp/jAL2H39ck2 looks good.
ok 6 - Computing differences
Comparing /tmp/M8YGwJy94P to t/mailboxes/hessbug.txt
Output /tmp/M8YGwJy94P looks good.
ok 7 - Computing differences
ok 8 # skip GNU grep not available
Testing filename: t/mailboxes/invalid-boundaries.txt
Comparing /tmp/Tm88GYQvpd to t/mailboxes/invalid-boundaries.txt
Output /tmp/Tm88GYQvpd looks good.
ok 9 - Computing differences
Comparing /tmp/ty9tvetc8V to t/mailboxes/invalid-boundaries.txt
Output /tmp/ty9tvetc8V looks good.
ok 10 - Computing differences
Comparing /tmp/n0615uOHRq to t/mailboxes/invalid-boundaries.txt
Output /tmp/n0615uOHRq looks good.
ok 11 - Computing differences
ok 12 # skip GNU grep not available
Testing filename: t/mailboxes/mailarc-1-dos.txt
Comparing /tmp/mJfROcHohJ to t/mailboxes/mailarc-1-dos.txt
Output /tmp/mJfROcHohJ looks good.
ok 13 - Computing differences
Comparing /tmp/OZVNkQynzm to t/mailboxes/mailarc-1-dos.txt
Output /tmp/OZVNkQynzm looks good.
ok 14 - Computing differences
Comparing /tmp/uQtP86FwKl to t/mailboxes/mailarc-1-dos.txt
Output /tmp/uQtP86FwKl looks good.
ok 15 - Computing differences
ok 16 # skip GNU grep not available
Testing filename: t/mailboxes/mailarc-1.txt
Comparing /tmp/t7bNkcWq4I to t/mailboxes/mailarc-1.txt
Output /tmp/t7bNkcWq4I looks good.
ok 17 - Computing differences
Comparing /tmp/TVVbcI7usc to t/mailboxes/mailarc-1.txt
Output /tmp/TVVbcI7usc looks good.
ok 18 - Computing differences
Comparing /tmp/9XcWSp5fca to t/mailboxes/mailarc-1.txt
Output /tmp/9XcWSp5fca looks good.
ok 19 - Computing differences
ok 20 # skip GNU grep not available
Testing filename: t/mailboxes/mailarc-2.txt
Comparing /tmp/u8bo5A9_ea to t/mailboxes/mailarc-2.txt
Output /tmp/u8bo5A9_ea looks good.
ok 21 - Computing differences
Comparing /tmp/BP0Rd_cwxw to t/mailboxes/mailarc-2.txt
Output /tmp/BP0Rd_cwxw looks good.
ok 22 - Computing differences
Comparing /tmp/Cy6Cc1JmXU to t/mailboxes/mailarc-2.txt
Output /tmp/Cy6Cc1JmXU looks good.
ok 23 - Computing differences
ok 24 # skip GNU grep not available
Testing filename: t/mailboxes/mailarc-3.txt
Comparing /tmp/GSfYZUFLZo to t/mailboxes/mailarc-3.txt
Output /tmp/GSfYZUFLZo looks good.
ok 25 - Computing differences
Comparing /tmp/2XCfftWWj7 to t/mailboxes/mailarc-3.txt
Output /tmp/2XCfftWWj7 looks good.
ok 26 - Computing differences
Comparing /tmp/wqLerK_hKD to t/mailboxes/mailarc-3.txt
Output /tmp/wqLerK_hKD looks good.
ok 27 - Computing differences
ok 28 # skip GNU grep not available
Testing filename: t/mailboxes/mailseparators.txt
Comparing /tmp/LxexqsRH6r to t/mailboxes/mailseparators.txt
Output /tmp/LxexqsRH6r looks good.
ok 29 - Computing differences
Comparing /tmp/HVRxNW7Lrx to t/mailboxes/mailseparators.txt
Output /tmp/HVRxNW7Lrx looks good.
ok 30 - Computing differences
Comparing /tmp/kRqsUuSrrP to t/mailboxes/mailseparators.txt
Output /tmp/kRqsUuSrrP looks good.
ok 31 - Computing differences
ok 32 # skip GNU grep not available
Testing filename: t/mailboxes/malformed.txt
Comparing /tmp/qxPK9uHqu1 to t/mailboxes/malformed.txt
Output /tmp/qxPK9uHqu1 looks good.
ok 33 - Computing differences
Comparing /tmp/VMfR90OOwd to t/mailboxes/malformed.txt
Output /tmp/VMfR90OOwd looks good.
ok 34 - Computing differences
Comparing /tmp/JA37rRudfz to t/mailboxes/malformed.txt
Output /tmp/JA37rRudfz looks good.
ok 35 - Computing differences
ok 36 # skip GNU grep not available
Testing filename: t/mailboxes/newlines_at_beginning.txt
Comparing /tmp/JehnqfbUEq to t/mailboxes/newlines_at_beginning.txt
Output /tmp/JehnqfbUEq looks good.
ok 37 - Computing differences
Comparing /tmp/3hxvrvkvQf to t/mailboxes/newlines_at_beginning.txt
Output /tmp/3hxvrvkvQf looks good.
ok 38 - Computing differences
Comparing /tmp/L1fwkZ1oZr to t/mailboxes/newlines_at_beginning.txt
Output /tmp/L1fwkZ1oZr looks good.
ok 39 - Computing differences
ok 40 # skip GNU grep not available
Testing filename: t/mailboxes/vm-emacs.txt
Comparing /tmp/Wf_KFlIyWF to t/mailboxes/vm-emacs.txt
Output /tmp/Wf_KFlIyWF looks good.
ok 41 - Computing differences
Comparing /tmp/M0GzY0pW9G to t/mailboxes/vm-emacs.txt
Output /tmp/M0GzY0pW9G looks good.
ok 42 - Computing differences
Comparing /tmp/pZ279694ON to t/mailboxes/vm-emacs.txt
Output /tmp/pZ279694ON looks good.
ok 43 - Computing differences
ok 44 # skip GNU grep not available
ok
t/filename_compressed.t .........
1..4
Testing filename: t/mailboxes/mailarc-2.txt.bz2
Comparing /tmp/MRtjXjKcVo to t/mailboxes/mailarc-2.txt
Output /tmp/MRtjXjKcVo looks good.
ok 1 - Computing differences
Testing filename: t/mailboxes/mailarc-2.txt.gz
Comparing /tmp/do_m4uqlZA to t/mailboxes/mailarc-2.txt
Output /tmp/do_m4uqlZA looks good.
ok 2 - Computing differences
Testing filename: t/mailboxes/mailarc-2.txt.lz
ok 3 # skip lzip not available
Testing filename: t/mailboxes/mailarc-2.txt.xz
Comparing /tmp/d2lNy_KImM to t/mailboxes/mailarc-2.txt
Output /tmp/d2lNy_KImM looks good.
ok 4 - Computing differences
ok
t/filename_noncompressed.t ......
1..11
Testing filename: t/mailboxes/binary_body.txt
Comparing /tmp/uw9HLPJ5J2 to t/mailboxes/binary_body.txt
Output /tmp/uw9HLPJ5J2 looks good.
ok 1 - Computing differences
Testing filename: t/mailboxes/hessbug.txt
Comparing /tmp/MW5ClZO1sM to t/mailboxes/hessbug.txt
Output /tmp/MW5ClZO1sM looks good.
ok 2 - Computing differences
Testing filename: t/mailboxes/invalid-boundaries.txt
Comparing /tmp/zUIp7ZvKgv to t/mailboxes/invalid-boundaries.txt
Output /tmp/zUIp7ZvKgv looks good.
ok 3 - Computing differences
Testing filename: t/mailboxes/mailarc-1-dos.txt
Comparing /tmp/Tb7EZHA6T9 to t/mailboxes/mailarc-1-dos.txt
Output /tmp/Tb7EZHA6T9 looks good.
ok 4 - Computing differences
Testing filename: t/mailboxes/mailarc-1.txt
Comparing /tmp/dAzcoQkO94 to t/mailboxes/mailarc-1.txt
Output /tmp/dAzcoQkO94 looks good.
ok 5 - Computing differences
Testing filename: t/mailboxes/mailarc-2.txt
Comparing /tmp/TXdnXl1uxq to t/mailboxes/mailarc-2.txt
Output /tmp/TXdnXl1uxq looks good.
ok 6 - Computing differences
Testing filename: t/mailboxes/mailarc-3.txt
Comparing /tmp/UO30Lyv9T7 to t/mailboxes/mailarc-3.txt
Output /tmp/UO30Lyv9T7 looks good.
ok 7 - Computing differences
Testing filename: t/mailboxes/mailseparators.txt
Comparing /tmp/WCUZXPob7F to t/mailboxes/mailseparators.txt
Output /tmp/WCUZXPob7F looks good.
ok 8 - Computing differences
Testing filename: t/mailboxes/malformed.txt
Comparing /tmp/l9AXOBR4SI to t/mailboxes/malformed.txt
Output /tmp/l9AXOBR4SI looks good.
ok 9 - Computing differences
Testing filename: t/mailboxes/newlines_at_beginning.txt
Comparing /tmp/e0kPyixR6d to t/mailboxes/newlines_at_beginning.txt
Output /tmp/e0kPyixR6d looks good.
ok 10 - Computing differences
Testing filename: t/mailboxes/vm-emacs.txt
Comparing /tmp/FS0whwf_cU to t/mailboxes/vm-emacs.txt
Output /tmp/FS0whwf_cU looks good.
ok 11 - Computing differences
ok
t/grep.t ........................
1..4
Running test:
unset LC_ALL LC_COLLATE LANG LC_CTYPE LC_MESSAGES; grep --extended-regexp --line-number --byte-offset --binary-files=text "^From [^:]+(:[0-9][0-9]){1,2}( *([A-Z]{2,6}|[+-]?[0-9]{4})){1,3}( remote from .*)?
?$" t/mailboxes/mailarc-1.txt
ok 1 # skip 1
Running test:
unset LC_ALL LC_COLLATE LANG LC_CTYPE LC_MESSAGES; grep --extended-regexp --line-number --byte-offset --binary-files=text "^From [^:]+(:[0-9][0-9]){1,2}( *([A-Z]{2,6}|[+-]?[0-9]{4})){1,3}( remote from .*)?
?$" t/mailboxes/mailarc-2.txt
ok 2 # skip 1
Running test:
unset LC_ALL LC_COLLATE LANG LC_CTYPE LC_MESSAGES; grep --extended-regexp --line-number --byte-offset --binary-files=text "^From [^:]+(:[0-9][0-9]){1,2}( *([A-Z]{2,6}|[+-]?[0-9]{4})){1,3}( remote from .*)?
?$" t/mailboxes/mailarc-3.txt
ok 3 # skip 1
Running test:
unset LC_ALL LC_COLLATE LANG LC_CTYPE LC_MESSAGES; grep --extended-regexp --line-number --byte-offset --binary-files=text "^From [^:]+(:[0-9][0-9]){1,2}( *([A-Z]{2,6}|[+-]?[0-9]{4})){1,3}( remote from .*)?
?$" t/mailboxes/mailseparators.txt
ok 4 # skip 1
ok
t/gzip.t ........................
1..1
Running test:
"/bin/cat" "t/mailboxes/mailarc-2.txt.gz" | "/bin/gzip" -cd
Comparing /tmp/m7KBJfuZyK to t/results/mailarc-2.txt
Output /tmp/m7KBJfuZyK looks good.
Comparing /tmp/BdeJXpE9mm to t/results/none
Output /tmp/BdeJXpE9mm looks good.
ok 1 - Computing differences
ok
t/length.t ......................
1..30
Testing filename: t/mailboxes/binary_body.txt
Comparing /tmp/PWPPOGMIrU to t/results/length_binary_body.stdout
Output /tmp/PWPPOGMIrU looks good.
ok 1 - Computing differences
Comparing /tmp/AIZ8ApOi94 to t/results/length_binary_body.stdout
Output /tmp/AIZ8ApOi94 looks good.
ok 2 - Computing differences
ok 3 # skip GNU grep not available
Testing filename: t/mailboxes/hessbug.txt
Comparing /tmp/TeR2IwUO0M to t/results/length_hessbug.stdout
Output /tmp/TeR2IwUO0M looks good.
ok 4 - Computing differences
Comparing /tmp/mcXtYvX7eY to t/results/length_hessbug.stdout
Output /tmp/mcXtYvX7eY looks good.
ok 5 - Computing differences
ok 6 # skip GNU grep not available
Testing filename: t/mailboxes/invalid-boundaries.txt
Comparing /tmp/C3P9rtSnRh to t/results/length_invalid-boundaries.stdout
Output /tmp/C3P9rtSnRh looks good.
ok 7 - Computing differences
Comparing /tmp/1lu3i9tWdx to t/results/length_invalid-boundaries.stdout
Output /tmp/1lu3i9tWdx looks good.
ok 8 - Computing differences
ok 9 # skip GNU grep not available
Testing filename: t/mailboxes/mailarc-1-dos.txt
Comparing /tmp/lXMZqG7G9Z to t/results/length_mailarc-1-dos.stdout
Output /tmp/lXMZqG7G9Z looks good.
ok 10 - Computing differences
Comparing /tmp/LEb0ZNHtw4 to t/results/length_mailarc-1-dos.stdout
Output /tmp/LEb0ZNHtw4 looks good.
ok 11 - Computing differences
ok 12 # skip GNU grep not available
Testing filename: t/mailboxes/mailarc-1.txt
Comparing /tmp/J5LgtAu_nh to t/results/length_mailarc-1.stdout
Output /tmp/J5LgtAu_nh looks good.
ok 13 - Computing differences
Comparing /tmp/GbgPeQvFQk to t/results/length_mailarc-1.stdout
Output /tmp/GbgPeQvFQk looks good.
ok 14 - Computing differences
ok 15 # skip GNU grep not available
Testing filename: t/mailboxes/mailarc-2.txt
Comparing /tmp/zCfT2DY2jh to t/results/length_mailarc-2.stdout
Output /tmp/zCfT2DY2jh looks good.
ok 16 - Computing differences
Comparing /tmp/wcQUI28lQx to t/results/length_mailarc-2.stdout
Output /tmp/wcQUI28lQx looks good.
ok 17 - Computing differences
ok 18 # skip GNU grep not available
Testing filename: t/mailboxes/mailarc-3.txt
Comparing /tmp/XeBGfsdc7P to t/results/length_mailarc-3.stdout
Output /tmp/XeBGfsdc7P looks good.
ok 19 - Computing differences
Comparing /tmp/whLdi1qLER to t/results/length_mailarc-3.stdout
Output /tmp/whLdi1qLER looks good.
ok 20 - Computing differences
ok 21 # skip GNU grep not available
Testing filename: t/mailboxes/mailseparators.txt
Comparing /tmp/eGI1SqHwAJ to t/results/length_mailseparators.stdout
Output /tmp/eGI1SqHwAJ looks good.
ok 22 - Computing differences
Comparing /tmp/JSiGdw7ZbT to t/results/length_mailseparators.stdout
Output /tmp/JSiGdw7ZbT looks good.
ok 23 - Computing differences
ok 24 # skip GNU grep not available
Testing filename: t/mailboxes/malformed.txt
Comparing /tmp/zMMrk9QgiW to t/results/length_malformed.stdout
Output /tmp/zMMrk9QgiW looks good.
ok 25 - Computing differences
Comparing /tmp/B7KUNMiGFf to t/results/length_malformed.stdout
Output /tmp/B7KUNMiGFf looks good.
ok 26 - Computing differences
ok 27 # skip GNU grep not available
Testing filename: t/mailboxes/newlines_at_beginning.txt
Comparing /tmp/aCRbbC6pd8 to t/results/length_newlines_at_beginning.stdout
Output /tmp/aCRbbC6pd8 looks good.
ok 28 - Computing differences
Comparing /tmp/Inc1TGiIbn to t/results/length_newlines_at_beginning.stdout
Output /tmp/Inc1TGiIbn looks good.
ok 29 - Computing differences
ok 30 # skip GNU grep not available
ok
t/line_number.t .................
1..30
Testing filename: t/mailboxes/binary_body.txt
Comparing /tmp/f2qF3Fgsg9 to t/results/line_number_binary_body.stdout
Output /tmp/f2qF3Fgsg9 looks good.
ok 1 - Computing differences
Comparing /tmp/ZAfk5EhIyF to t/results/line_number_binary_body.stdout
Output /tmp/ZAfk5EhIyF looks good.
ok 2 - Computing differences
ok 3 # skip GNU grep not available
Testing filename: t/mailboxes/hessbug.txt
Comparing /tmp/fpkAxiSpXo to t/results/line_number_hessbug.stdout
Output /tmp/fpkAxiSpXo looks good.
ok 4 - Computing differences
Comparing /tmp/P5ZmjddoI5 to t/results/line_number_hessbug.stdout
Output /tmp/P5ZmjddoI5 looks good.
ok 5 - Computing differences
ok 6 # skip GNU grep not available
Testing filename: t/mailboxes/invalid-boundaries.txt
Comparing /tmp/RC7Yp0oLFK to t/results/line_number_invalid-boundaries.stdout
Output /tmp/RC7Yp0oLFK looks good.
ok 7 - Computing differences
Comparing /tmp/DZVaiB5G8V to t/results/line_number_invalid-boundaries.stdout
Output /tmp/DZVaiB5G8V looks good.
ok 8 - Computing differences
ok 9 # skip GNU grep not available
Testing filename: t/mailboxes/mailarc-1-dos.txt
Comparing /tmp/ffYa54L_oj to t/results/line_number_mailarc-1-dos.stdout
Output /tmp/ffYa54L_oj looks good.
ok 10 - Computing differences
Comparing /tmp/7bYtQKC8cw to t/results/line_number_mailarc-1-dos.stdout
Output /tmp/7bYtQKC8cw looks good.
ok 11 - Computing differences
ok 12 # skip GNU grep not available
Testing filename: t/mailboxes/mailarc-1.txt
Comparing /tmp/YEH5vq8wCr to t/results/line_number_mailarc-1.stdout
Output /tmp/YEH5vq8wCr looks good.
ok 13 - Computing differences
Comparing /tmp/uDDCAs1L0l to t/results/line_number_mailarc-1.stdout
Output /tmp/uDDCAs1L0l looks good.
ok 14 - Computing differences
ok 15 # skip GNU grep not available
Testing filename: t/mailboxes/mailarc-2.txt
Comparing /tmp/kTyFGBUjRT to t/results/line_number_mailarc-2.stdout
Output /tmp/kTyFGBUjRT looks good.
ok 16 - Computing differences
Comparing /tmp/unHTFTFqOl to t/results/line_number_mailarc-2.stdout
Output /tmp/unHTFTFqOl looks good.
ok 17 - Computing differences
ok 18 # skip GNU grep not available
Testing filename: t/mailboxes/mailarc-3.txt
Comparing /tmp/GkhSmE16KO to t/results/line_number_mailarc-3.stdout
Output /tmp/GkhSmE16KO looks good.
ok 19 - Computing differences
Comparing /tmp/6iiMoyWrsK to t/results/line_number_mailarc-3.stdout
Output /tmp/6iiMoyWrsK looks good.
ok 20 - Computing differences
ok 21 # skip GNU grep not available
Testing filename: t/mailboxes/mailseparators.txt
Comparing /tmp/I3_kkjxXND to t/results/line_number_mailseparators.stdout
Output /tmp/I3_kkjxXND looks good.
ok 22 - Computing differences
Comparing /tmp/daGxrtVwpy to t/results/line_number_mailseparators.stdout
Output /tmp/daGxrtVwpy looks good.
ok 23 - Computing differences
ok 24 # skip GNU grep not available
Testing filename: t/mailboxes/malformed.txt
Comparing /tmp/tXBttQKeHe to t/results/line_number_malformed.stdout
Output /tmp/tXBttQKeHe looks good.
ok 25 - Computing differences
Comparing /tmp/POnYjghnaH to t/results/line_number_malformed.stdout
Output /tmp/POnYjghnaH looks good.
ok 26 - Computing differences
ok 27 # skip GNU grep not available
Testing filename: t/mailboxes/newlines_at_beginning.txt
Comparing /tmp/NbBh2qQSha to t/results/line_number_newlines_at_beginning.stdout
Output /tmp/NbBh2qQSha looks good.
ok 28 - Computing differences
Comparing /tmp/jws1T8BRT9 to t/results/line_number_newlines_at_beginning.stdout
Output /tmp/jws1T8BRT9 looks good.
ok 29 - Computing differences
ok 30 # skip GNU grep not available
ok
t/lzip.t ........................
1..1
Running test:
"/bin/cat" "t/mailboxes/mailarc-2.txt.lz" | "lzip" -cd
ok 1 # skip lzip not available
ok
t/number.t ......................
1..30
Testing filename: t/mailboxes/binary_body.txt
Comparing /tmp/IobbQ2baHR to t/results/number_binary_body.stdout
Output /tmp/IobbQ2baHR looks good.
ok 1 - Computing differences
Comparing /tmp/Xz_u91e8Am to t/results/number_binary_body.stdout
Output /tmp/Xz_u91e8Am looks good.
ok 2 - Computing differences
ok 3 # skip GNU grep not available
Testing filename: t/mailboxes/hessbug.txt
Comparing /tmp/vRBt3mYVte to t/results/number_hessbug.stdout
Output /tmp/vRBt3mYVte looks good.
ok 4 - Computing differences
Comparing /tmp/0_LczipS2m to t/results/number_hessbug.stdout
Output /tmp/0_LczipS2m looks good.
ok 5 - Computing differences
ok 6 # skip GNU grep not available
Testing filename: t/mailboxes/invalid-boundaries.txt
Comparing /tmp/PMx3n7je5b to t/results/number_invalid-boundaries.stdout
Output /tmp/PMx3n7je5b looks good.
ok 7 - Computing differences
Comparing /tmp/uuDJcG_zgD to t/results/number_invalid-boundaries.stdout
Output /tmp/uuDJcG_zgD looks good.
ok 8 - Computing differences
ok 9 # skip GNU grep not available
Testing filename: t/mailboxes/mailarc-1-dos.txt
Comparing /tmp/nq2fa8c75K to t/results/number_mailarc-1-dos.stdout
Output /tmp/nq2fa8c75K looks good.
ok 10 - Computing differences
Comparing /tmp/U2Iw7P5V4L to t/results/number_mailarc-1-dos.stdout
Output /tmp/U2Iw7P5V4L looks good.
ok 11 - Computing differences
ok 12 # skip GNU grep not available
Testing filename: t/mailboxes/mailarc-1.txt
Comparing /tmp/xBNxuRvv77 to t/results/number_mailarc-1.stdout
Output /tmp/xBNxuRvv77 looks good.
ok 13 - Computing differences
Comparing /tmp/cPWT7h4bB6 to t/results/number_mailarc-1.stdout
Output /tmp/cPWT7h4bB6 looks good.
ok 14 - Computing differences
ok 15 # skip GNU grep not available
Testing filename: t/mailboxes/mailarc-2.txt
Comparing /tmp/ajkhZ6oiKC to t/results/number_mailarc-2.stdout
Output /tmp/ajkhZ6oiKC looks good.
ok 16 - Computing differences
Comparing /tmp/bOICS91ToW to t/results/number_mailarc-2.stdout
Output /tmp/bOICS91ToW looks good.
ok 17 - Computing differences
ok 18 # skip GNU grep not available
Testing filename: t/mailboxes/mailarc-3.txt
Comparing /tmp/GlazvQDVQd to t/results/number_mailarc-3.stdout
Output /tmp/GlazvQDVQd looks good.
ok 19 - Computing differences
Comparing /tmp/FnzAGeTa4x to t/results/number_mailarc-3.stdout
Output /tmp/FnzAGeTa4x looks good.
ok 20 - Computing differences
ok 21 # skip GNU grep not available
Testing filename: t/mailboxes/mailseparators.txt
Comparing /tmp/pzrNqtIrsz to t/results/number_mailseparators.stdout
Output /tmp/pzrNqtIrsz looks good.
ok 22 - Computing differences
Comparing /tmp/xtA6rEmU99 to t/results/number_mailseparators.stdout
Output /tmp/xtA6rEmU99 looks good.
ok 23 - Computing differences
ok 24 # skip GNU grep not available
Testing filename: t/mailboxes/malformed.txt
Comparing /tmp/WCyQNVF7go to t/results/number_malformed.stdout
Output /tmp/WCyQNVF7go looks good.
ok 25 - Computing differences
Comparing /tmp/Z8BszhPP7U to t/results/number_malformed.stdout
Output /tmp/Z8BszhPP7U looks good.
ok 26 - Computing differences
ok 27 # skip GNU grep not available
Testing filename: t/mailboxes/newlines_at_beginning.txt
Comparing /tmp/pOL64SN2_V to t/results/number_newlines_at_beginning.stdout
Output /tmp/pOL64SN2_V looks good.
ok 28 - Computing differences
Comparing /tmp/A5qQdLCmbT to t/results/number_newlines_at_beginning.stdout
Output /tmp/A5qQdLCmbT looks good.
ok 29 - Computing differences
ok 30 # skip GNU grep not available
ok
t/offset.t ......................
1..30
Testing filename: t/mailboxes/binary_body.txt
Comparing /tmp/3DlDAgT3pP to t/results/offset_binary_body.stdout
Output /tmp/3DlDAgT3pP looks good.
ok 1 - Computing differences
Comparing /tmp/2KQchEPjDH to t/results/offset_binary_body.stdout
Output /tmp/2KQchEPjDH looks good.
ok 2 - Computing differences
ok 3 # skip GNU grep not available
Testing filename: t/mailboxes/hessbug.txt
Comparing /tmp/A9CAEpGFvc to t/results/offset_hessbug.stdout
Output /tmp/A9CAEpGFvc looks good.
ok 4 - Computing differences
Comparing /tmp/eyI7zogmgn to t/results/offset_hessbug.stdout
Output /tmp/eyI7zogmgn looks good.
ok 5 - Computing differences
ok 6 # skip GNU grep not available
Testing filename: t/mailboxes/invalid-boundaries.txt
Comparing /tmp/4AZBraEGhD to t/results/offset_invalid-boundaries.stdout
Output /tmp/4AZBraEGhD looks good.
ok 7 - Computing differences
Comparing /tmp/uPLIFD0Csi to t/results/offset_invalid-boundaries.stdout
Output /tmp/uPLIFD0Csi looks good.
ok 8 - Computing differences
ok 9 # skip GNU grep not available
Testing filename: t/mailboxes/mailarc-1-dos.txt
Comparing /tmp/DWf4nXJtFx to t/results/offset_mailarc-1-dos.stdout
Output /tmp/DWf4nXJtFx looks good.
ok 10 - Computing differences
Comparing /tmp/5CSZnkgMjX to t/results/offset_mailarc-1-dos.stdout
Output /tmp/5CSZnkgMjX looks good.
ok 11 - Computing differences
ok 12 # skip GNU grep not available
Testing filename: t/mailboxes/mailarc-1.txt
Comparing /tmp/OyTXSjbLWv to t/results/offset_mailarc-1.stdout
Output /tmp/OyTXSjbLWv looks good.
ok 13 - Computing differences
Comparing /tmp/VN0b3STBmZ to t/results/offset_mailarc-1.stdout
Output /tmp/VN0b3STBmZ looks good.
ok 14 - Computing differences
ok 15 # skip GNU grep not available
Testing filename: t/mailboxes/mailarc-2.txt
Comparing /tmp/D6Tryxab9n to t/results/offset_mailarc-2.stdout
Output /tmp/D6Tryxab9n looks good.
ok 16 - Computing differences
Comparing /tmp/Iq9bUo4UtY to t/results/offset_mailarc-2.stdout
Output /tmp/Iq9bUo4UtY looks good.
ok 17 - Computing differences
ok 18 # skip GNU grep not available
Testing filename: t/mailboxes/mailarc-3.txt
Comparing /tmp/Ff43y4axFB to t/results/offset_mailarc-3.stdout
Output /tmp/Ff43y4axFB looks good.
ok 19 - Computing differences
Comparing /tmp/OK_KYBPvH2 to t/results/offset_mailarc-3.stdout
Output /tmp/OK_KYBPvH2 looks good.
ok 20 - Computing differences
ok 21 # skip GNU grep not available
Testing filename: t/mailboxes/mailseparators.txt
Comparing /tmp/dl7LXgbOIW to t/results/offset_mailseparators.stdout
Output /tmp/dl7LXgbOIW looks good.
ok 22 - Computing differences
Comparing /tmp/7oUVTdgfq6 to t/results/offset_mailseparators.stdout
Output /tmp/7oUVTdgfq6 looks good.
ok 23 - Computing differences
ok 24 # skip GNU grep not available
Testing filename: t/mailboxes/malformed.txt
Comparing /tmp/hQ2nqloFVc to t/results/offset_malformed.stdout
Output /tmp/hQ2nqloFVc looks good.
ok 25 - Computing differences
Comparing /tmp/YiXDp981cV to t/results/offset_malformed.stdout
Output /tmp/YiXDp981cV looks good.
ok 26 - Computing differences
ok 27 # skip GNU grep not available
Testing filename: t/mailboxes/newlines_at_beginning.txt
Comparing /tmp/RuYCqNYOVu to t/results/offset_newlines_at_beginning.stdout
Output /tmp/RuYCqNYOVu looks good.
ok 28 - Computing differences
Comparing /tmp/Hee2fTV_w5 to t/results/offset_newlines_at_beginning.stdout
Output /tmp/Hee2fTV_w5 looks good.
ok 29 - Computing differences
ok 30 # skip GNU grep not available
ok
t/prologue.t ....................
1..33
Testing filename: t/mailboxes/binary_body.txt
Comparing /tmp/nR_j2raQr7 to t/mailboxes/binary_body.txt
Output /tmp/nR_j2raQr7 looks good.
ok 1 - Computing differences
Comparing /tmp/p9_uVMoQbA to t/mailboxes/binary_body.txt
Output /tmp/p9_uVMoQbA looks good.
ok 2 - Computing differences
ok 3 # skip GNU grep not available
Testing filename: t/mailboxes/hessbug.txt
Comparing /tmp/CCuWIlfhrK to t/mailboxes/hessbug.txt
Output /tmp/CCuWIlfhrK looks good.
ok 4 - Computing differences
Comparing /tmp/Ek1saBH9xJ to t/mailboxes/hessbug.txt
Output /tmp/Ek1saBH9xJ looks good.
ok 5 - Computing differences
ok 6 # skip GNU grep not available
Testing filename: t/mailboxes/invalid-boundaries.txt
Comparing /tmp/W5qa7eyAUt to t/mailboxes/invalid-boundaries.txt
Output /tmp/W5qa7eyAUt looks good.
ok 7 - Computing differences
Comparing /tmp/3_zobdaaRB to t/mailboxes/invalid-boundaries.txt
Output /tmp/3_zobdaaRB looks good.
ok 8 - Computing differences
ok 9 # skip GNU grep not available
Testing filename: t/mailboxes/mailarc-1-dos.txt
Comparing /tmp/4GXRajoSS7 to t/mailboxes/mailarc-1-dos.txt
Output /tmp/4GXRajoSS7 looks good.
ok 10 - Computing differences
Comparing /tmp/iB2WcpsrQC to t/mailboxes/mailarc-1-dos.txt
Output /tmp/iB2WcpsrQC looks good.
ok 11 - Computing differences
ok 12 # skip GNU grep not available
Testing filename: t/mailboxes/mailarc-1.txt
Comparing /tmp/bwi13Q6pPV to t/mailboxes/mailarc-1.txt
Output /tmp/bwi13Q6pPV looks good.
ok 13 - Computing differences
Comparing /tmp/aSglzs6BnD to t/mailboxes/mailarc-1.txt
Output /tmp/aSglzs6BnD looks good.
ok 14 - Computing differences
ok 15 # skip GNU grep not available
Testing filename: t/mailboxes/mailarc-2.txt
Comparing /tmp/0QALBchiTv to t/mailboxes/mailarc-2.txt
Output /tmp/0QALBchiTv looks good.
ok 16 - Computing differences
Comparing /tmp/BEyBJhQjCT to t/mailboxes/mailarc-2.txt
Output /tmp/BEyBJhQjCT looks good.
ok 17 - Computing differences
ok 18 # skip GNU grep not available
Testing filename: t/mailboxes/mailarc-3.txt
Comparing /tmp/hdv3xktKLQ to t/mailboxes/mailarc-3.txt
Output /tmp/hdv3xktKLQ looks good.
ok 19 - Computing differences
Comparing /tmp/nd8pGqUpLv to t/mailboxes/mailarc-3.txt
Output /tmp/nd8pGqUpLv looks good.
ok 20 - Computing differences
ok 21 # skip GNU grep not available
Testing filename: t/mailboxes/mailseparators.txt
Comparing /tmp/ldsS4ykcEc to t/mailboxes/mailseparators.txt
Output /tmp/ldsS4ykcEc looks good.
ok 22 - Computing differences
Comparing /tmp/ByuaxxfpBk to t/mailboxes/mailseparators.txt
Output /tmp/ByuaxxfpBk looks good.
ok 23 - Computing differences
ok 24 # skip GNU grep not available
Testing filename: t/mailboxes/malformed.txt
Comparing /tmp/dm1oDx7J3G to t/mailboxes/malformed.txt
Output /tmp/dm1oDx7J3G looks good.
ok 25 - Computing differences
Comparing /tmp/1p3ljmRNCt to t/mailboxes/malformed.txt
Output /tmp/1p3ljmRNCt looks good.
ok 26 - Computing differences
ok 27 # skip GNU grep not available
Testing filename: t/mailboxes/newlines_at_beginning.txt
Comparing /tmp/L1sXvkfMlT to t/mailboxes/newlines_at_beginning.txt
Output /tmp/L1sXvkfMlT looks good.
ok 28 - Computing differences
Comparing /tmp/9BBZdGgrso to t/mailboxes/newlines_at_beginning.txt
Output /tmp/9BBZdGgrso looks good.
ok 29 - Computing differences
ok 30 # skip GNU grep not available
Testing filename: t/mailboxes/vm-emacs.txt
Comparing /tmp/8LQvO1t76X to t/mailboxes/vm-emacs.txt
Output /tmp/8LQvO1t76X looks good.
ok 31 - Computing differences
Comparing /tmp/u5g5Iehaf4 to t/mailboxes/vm-emacs.txt
Output /tmp/u5g5Iehaf4 looks good.
ok 32 - Computing differences
ok 33 # skip GNU grep not available
ok
t/reset.t .......................
1..60
Testing filename: t/mailboxes/binary_body.txt
Testing partial mailbox reset with Perl implementation
Comparing /tmp/ZV19DlL3G1 to t/results/reset_binary_body.stdout
Output /tmp/ZV19DlL3G1 looks good.
ok 1 - Computing differences
Testing partial mailbox reset with Cache implementation
Comparing /tmp/aU2kkblov1 to t/results/reset_binary_body.stdout
Output /tmp/aU2kkblov1 looks good.
ok 2 - Computing differences
Testing partial mailbox reset with Grep implementation
ok 3 # skip GNU grep not available
Testing full mailbox reset with Perl implementation
Comparing /tmp/jCD3mZzo9g to t/results/reset_binary_body.stdout
Output /tmp/jCD3mZzo9g looks good.
ok 4 - Computing differences
Testing full mailbox reset with Cache implementation
Comparing /tmp/r46ZbE_9Ni to t/results/reset_binary_body.stdout
Output /tmp/r46ZbE_9Ni looks good.
ok 5 - Computing differences
Testing full mailbox reset with Grep implementation
ok 6 # skip GNU grep not available
Testing filename: t/mailboxes/hessbug.txt
Testing partial mailbox reset with Perl implementation
Comparing /tmp/MBfzPPF_qq to t/results/reset_hessbug.stdout
Output /tmp/MBfzPPF_qq looks good.
ok 7 - Computing differences
Testing partial mailbox reset with Cache implementation
Comparing /tmp/2TAn9Ud97K to t/results/reset_hessbug.stdout
Output /tmp/2TAn9Ud97K looks good.
ok 8 - Computing differences
Testing partial mailbox reset with Grep implementation
ok 9 # skip GNU grep not available
Testing full mailbox reset with Perl implementation
Comparing /tmp/fX0j0wiw4R to t/results/reset_hessbug.stdout
Output /tmp/fX0j0wiw4R looks good.
ok 10 - Computing differences
Testing full mailbox reset with Cache implementation
Comparing /tmp/44aOxwc4RN to t/results/reset_hessbug.stdout
Output /tmp/44aOxwc4RN looks good.
ok 11 - Computing differences
Testing full mailbox reset with Grep implementation
ok 12 # skip GNU grep not available
Testing filename: t/mailboxes/invalid-boundaries.txt
Testing partial mailbox reset with Perl implementation
Comparing /tmp/Mg221Gv9Hp to t/results/reset_invalid-boundaries.stdout
Output /tmp/Mg221Gv9Hp looks good.
ok 13 - Computing differences
Testing partial mailbox reset with Cache implementation
Comparing /tmp/kd7IAlX5tO to t/results/reset_invalid-boundaries.stdout
Output /tmp/kd7IAlX5tO looks good.
ok 14 - Computing differences
Testing partial mailbox reset with Grep implementation
ok 15 # skip GNU grep not available
Testing full mailbox reset with Perl implementation
Comparing /tmp/_LS2avX76R to t/results/reset_invalid-boundaries.stdout
Output /tmp/_LS2avX76R looks good.
ok 16 - Computing differences
Testing full mailbox reset with Cache implementation
Comparing /tmp/hAgwOK7oGQ to t/results/reset_invalid-boundaries.stdout
Output /tmp/hAgwOK7oGQ looks good.
ok 17 - Computing differences
Testing full mailbox reset with Grep implementation
ok 18 # skip GNU grep not available
Testing filename: t/mailboxes/mailarc-1-dos.txt
Testing partial mailbox reset with Perl implementation
Comparing /tmp/teeYzlZsxd to t/results/reset_mailarc-1-dos.stdout
Output /tmp/teeYzlZsxd looks good.
ok 19 - Computing differences
Testing partial mailbox reset with Cache implementation
Comparing /tmp/pmsYylFSdI to t/results/reset_mailarc-1-dos.stdout
Output /tmp/pmsYylFSdI looks good.
ok 20 - Computing differences
Testing partial mailbox reset with Grep implementation
ok 21 # skip GNU grep not available
Testing full mailbox reset with Perl implementation
Comparing /tmp/MXBs3rOoud to t/results/reset_mailarc-1-dos.stdout
Output /tmp/MXBs3rOoud looks good.
ok 22 - Computing differences
Testing full mailbox reset with Cache implementation
Comparing /tmp/ifsWM7CEBo to t/results/reset_mailarc-1-dos.stdout
Output /tmp/ifsWM7CEBo looks good.
ok 23 - Computing differences
Testing full mailbox reset with Grep implementation
ok 24 # skip GNU grep not available
Testing filename: t/mailboxes/mailarc-1.txt
Testing partial mailbox reset with Perl implementation
Comparing /tmp/pZkoz0ddYy to t/results/reset_mailarc-1.stdout
Output /tmp/pZkoz0ddYy looks good.
ok 25 - Computing differences
Testing partial mailbox reset with Cache implementation
Comparing /tmp/m8mQeAWQUz to t/results/reset_mailarc-1.stdout
Output /tmp/m8mQeAWQUz looks good.
ok 26 - Computing differences
Testing partial mailbox reset with Grep implementation
ok 27 # skip GNU grep not available
Testing full mailbox reset with Perl implementation
Comparing /tmp/04Jb5OqLAL to t/results/reset_mailarc-1.stdout
Output /tmp/04Jb5OqLAL looks good.
ok 28 - Computing differences
Testing full mailbox reset with Cache implementation
Comparing /tmp/NMFZYKCdRa to t/results/reset_mailarc-1.stdout
Output /tmp/NMFZYKCdRa looks good.
ok 29 - Computing differences
Testing full mailbox reset with Grep implementation
ok 30 # skip GNU grep not available
Testing filename: t/mailboxes/mailarc-2.txt
Testing partial mailbox reset with Perl implementation
Comparing /tmp/ICrRDYIM3J to t/results/reset_mailarc-2.stdout
Output /tmp/ICrRDYIM3J looks good.
ok 31 - Computing differences
Testing partial mailbox reset with Cache implementation
Comparing /tmp/mm0PLJSkEV to t/results/reset_mailarc-2.stdout
Output /tmp/mm0PLJSkEV looks good.
ok 32 - Computing differences
Testing partial mailbox reset with Grep implementation
ok 33 # skip GNU grep not available
Testing full mailbox reset with Perl implementation
Comparing /tmp/YdWLwGftlg to t/results/reset_mailarc-2.stdout
Output /tmp/YdWLwGftlg looks good.
ok 34 - Computing differences
Testing full mailbox reset with Cache implementation
Comparing /tmp/xMXHX2sDlM to t/results/reset_mailarc-2.stdout
Output /tmp/xMXHX2sDlM looks good.
ok 35 - Computing differences
Testing full mailbox reset with Grep implementation
ok 36 # skip GNU grep not available
Testing filename: t/mailboxes/mailarc-3.txt
Testing partial mailbox reset with Perl implementation
Comparing /tmp/QSsbWm9xOl to t/results/reset_mailarc-3.stdout
Output /tmp/QSsbWm9xOl looks good.
ok 37 - Computing differences
Testing partial mailbox reset with Cache implementation
Comparing /tmp/UWwTYsZj3j to t/results/reset_mailarc-3.stdout
Output /tmp/UWwTYsZj3j looks good.
ok 38 - Computing differences
Testing partial mailbox reset with Grep implementation
ok 39 # skip GNU grep not available
Testing full mailbox reset with Perl implementation
Comparing /tmp/Ey4wAbcdxS to t/results/reset_mailarc-3.stdout
Output /tmp/Ey4wAbcdxS looks good.
ok 40 - Computing differences
Testing full mailbox reset with Cache implementation
Comparing /tmp/M0043W9Elq to t/results/reset_mailarc-3.stdout
Output /tmp/M0043W9Elq looks good.
ok 41 - Computing differences
Testing full mailbox reset with Grep implementation
ok 42 # skip GNU grep not available
Testing filename: t/mailboxes/mailseparators.txt
Testing partial mailbox reset with Perl implementation
Comparing /tmp/RQZEfKEjWE to t/results/reset_mailseparators.stdout
Output /tmp/RQZEfKEjWE looks good.
ok 43 - Computing differences
Testing partial mailbox reset with Cache implementation
Comparing /tmp/DPC88EY9pV to t/results/reset_mailseparators.stdout
Output /tmp/DPC88EY9pV looks good.
ok 44 - Computing differences
Testing partial mailbox reset with Grep implementation
ok 45 # skip GNU grep not available
Testing full mailbox reset with Perl implementation
Comparing /tmp/fMG0YhQFoQ to t/results/reset_mailseparators.stdout
Output /tmp/fMG0YhQFoQ looks good.
ok 46 - Computing differences
Testing full mailbox reset with Cache implementation
Comparing /tmp/672U8E8TUI to t/results/reset_mailseparators.stdout
Output /tmp/672U8E8TUI looks good.
ok 47 - Computing differences
Testing full mailbox reset with Grep implementation
ok 48 # skip GNU grep not available
Testing filename: t/mailboxes/malformed.txt
Testing partial mailbox reset with Perl implementation
Comparing /tmp/kh7ji0mUAA to t/results/reset_malformed.stdout
Output /tmp/kh7ji0mUAA looks good.
ok 49 - Computing differences
Testing partial mailbox reset with Cache implementation
Comparing /tmp/ktU321rdyd to t/results/reset_malformed.stdout
Output /tmp/ktU321rdyd looks good.
ok 50 - Computing differences
Testing partial mailbox reset with Grep implementation
ok 51 # skip GNU grep not available
Testing full mailbox reset with Perl implementation
Comparing /tmp/G9hDPClskD to t/results/reset_malformed.stdout
Output /tmp/G9hDPClskD looks good.
ok 52 - Computing differences
Testing full mailbox reset with Cache implementation
Comparing /tmp/Sy7zRSMvLt to t/results/reset_malformed.stdout
Output /tmp/Sy7zRSMvLt looks good.
ok 53 - Computing differences
Testing full mailbox reset with Grep implementation
ok 54 # skip GNU grep not available
Testing filename: t/mailboxes/newlines_at_beginning.txt
Testing partial mailbox reset with Perl implementation
Comparing /tmp/DT6kudM95K to t/results/reset_newlines_at_beginning.stdout
Output /tmp/DT6kudM95K looks good.
ok 55 - Computing differences
Testing partial mailbox reset with Cache implementation
Comparing /tmp/L_awlKoCeK to t/results/reset_newlines_at_beginning.stdout
Output /tmp/L_awlKoCeK looks good.
ok 56 - Computing differences
Testing partial mailbox reset with Grep implementation
ok 57 # skip GNU grep not available
Testing full mailbox reset with Perl implementation
Comparing /tmp/lCuFXDxKuc to t/results/reset_newlines_at_beginning.stdout
Output /tmp/lCuFXDxKuc looks good.
ok 58 - Computing differences
Testing full mailbox reset with Cache implementation
Comparing /tmp/DO6WctRoav to t/results/reset_newlines_at_beginning.stdout
Output /tmp/DO6WctRoav looks good.
ok 59 - Computing differences
Testing full mailbox reset with Grep implementation
ok 60 # skip GNU grep not available
ok
t/separators.t ..................
1..6
Testing filename: t/mailboxes/separators2.sep
ok 1 - Number of emails in t/mailboxes/separators2.sep
ok 2 - Number of emails in t/mailboxes/separators2.sep
ok 3 # skip GNU grep not available
Testing filename: t/mailboxes/separators1.sep
ok 4 - Number of emails in t/mailboxes/separators1.sep
ok 5 - Number of emails in t/mailboxes/separators1.sep
ok 6 # skip GNU grep not available
ok
t/stdin_compressed.t ............
1..4
Testing filename: t/mailboxes/mailarc-2.txt.bz2
Comparing /tmp/0NZf0Y7Opl to t/mailboxes/mailarc-2.txt
Output /tmp/0NZf0Y7Opl looks good.
ok 1 - Computing differences
Testing filename: t/mailboxes/mailarc-2.txt.gz
Comparing /tmp/NRTL7phFo_ to t/mailboxes/mailarc-2.txt
Output /tmp/NRTL7phFo_ looks good.
ok 2 - Computing differences
Testing filename: t/mailboxes/mailarc-2.txt.lz
ok 3 # skip lzip not available
Testing filename: t/mailboxes/mailarc-2.txt.xz
Comparing /tmp/EwrTgYgQIt to t/mailboxes/mailarc-2.txt
Output /tmp/EwrTgYgQIt looks good.
ok 4 - Computing differences
ok
t/stdin_uncompressed.t ..........
1..11
Testing filename: t/mailboxes/binary_body.txt
Comparing /tmp/Tika7Ow596 to t/mailboxes/binary_body.txt
Output /tmp/Tika7Ow596 looks good.
ok 1 - Computing differences
Testing filename: t/mailboxes/hessbug.txt
Comparing /tmp/7QtFsCjt77 to t/mailboxes/hessbug.txt
Output /tmp/7QtFsCjt77 looks good.
ok 2 - Computing differences
Testing filename: t/mailboxes/invalid-boundaries.txt
Comparing /tmp/NrK6Fbe4RT to t/mailboxes/invalid-boundaries.txt
Output /tmp/NrK6Fbe4RT looks good.
ok 3 - Computing differences
Testing filename: t/mailboxes/mailarc-1-dos.txt
Comparing /tmp/eqpoJVShJF to t/mailboxes/mailarc-1-dos.txt
Output /tmp/eqpoJVShJF looks good.
ok 4 - Computing differences
Testing filename: t/mailboxes/mailarc-1.txt
Comparing /tmp/OvwTkytS3n to t/mailboxes/mailarc-1.txt
Output /tmp/OvwTkytS3n looks good.
ok 5 - Computing differences
Testing filename: t/mailboxes/mailarc-2.txt
Comparing /tmp/js7VS7G7KG to t/mailboxes/mailarc-2.txt
Output /tmp/js7VS7G7KG looks good.
ok 6 - Computing differences
Testing filename: t/mailboxes/mailarc-3.txt
Comparing /tmp/1pEvhXLSkf to t/mailboxes/mailarc-3.txt
Output /tmp/1pEvhXLSkf looks good.
ok 7 - Computing differences
Testing filename: t/mailboxes/mailseparators.txt
Comparing /tmp/IqeeBP8pFv to t/mailboxes/mailseparators.txt
Output /tmp/IqeeBP8pFv looks good.
ok 8 - Computing differences
Testing filename: t/mailboxes/malformed.txt
Comparing /tmp/VlbbHU2WTT to t/mailboxes/malformed.txt
Output /tmp/VlbbHU2WTT looks good.
ok 9 - Computing differences
Testing filename: t/mailboxes/newlines_at_beginning.txt
Comparing /tmp/nHXuvOcQNR to t/mailboxes/newlines_at_beginning.txt
Output /tmp/nHXuvOcQNR looks good.
ok 10 - Computing differences
Testing filename: t/mailboxes/vm-emacs.txt
Comparing /tmp/hrpuQydRQM to t/mailboxes/vm-emacs.txt
Output /tmp/hrpuQydRQM looks good.
ok 11 - Computing differences
ok
t/undef_return_value.t ..........
1..33
Testing Perl
Comparing /tmp/UClPnQXu5a to t/mailboxes/binary_body.txt
Output /tmp/UClPnQXu5a looks good.
ok 1 - Computing differences
Testing Cache implementation
Comparing /tmp/9_1kxxs2s4 to t/mailboxes/binary_body.txt
Output /tmp/9_1kxxs2s4 looks good.
ok 2 - Computing differences
ok 3 # skip GNU grep not available
Testing Perl
Comparing /tmp/BPDqMFkyqF to t/mailboxes/hessbug.txt
Output /tmp/BPDqMFkyqF looks good.
ok 4 - Computing differences
Testing Cache implementation
Comparing /tmp/W0YmKInL5g to t/mailboxes/hessbug.txt
Output /tmp/W0YmKInL5g looks good.
ok 5 - Computing differences
ok 6 # skip GNU grep not available
Testing Perl
Comparing /tmp/B2UC_vsAf1 to t/mailboxes/invalid-boundaries.txt
Output /tmp/B2UC_vsAf1 looks good.
ok 7 - Computing differences
Testing Cache implementation
Comparing /tmp/OtUUZM507E to t/mailboxes/invalid-boundaries.txt
Output /tmp/OtUUZM507E looks good.
ok 8 - Computing differences
ok 9 # skip GNU grep not available
Testing Perl
Comparing /tmp/EE8fLk5CSo to t/mailboxes/mailarc-1-dos.txt
Output /tmp/EE8fLk5CSo looks good.
ok 10 - Computing differences
Testing Cache implementation
Comparing /tmp/mtmUGRKm69 to t/mailboxes/mailarc-1-dos.txt
Output /tmp/mtmUGRKm69 looks good.
ok 11 - Computing differences
ok 12 # skip GNU grep not available
Testing Perl
Comparing /tmp/PDpuslunvn to t/mailboxes/mailarc-1.txt
Output /tmp/PDpuslunvn looks good.
ok 13 - Computing differences
Testing Cache implementation
Comparing /tmp/45ohU6hoLi to t/mailboxes/mailarc-1.txt
Output /tmp/45ohU6hoLi looks good.
ok 14 - Computing differences
ok 15 # skip GNU grep not available
Testing Perl
Comparing /tmp/ZxsSdbF0PH to t/mailboxes/mailarc-2.txt
Output /tmp/ZxsSdbF0PH looks good.
ok 16 - Computing differences
Testing Cache implementation
Comparing /tmp/FA478tEOAA to t/mailboxes/mailarc-2.txt
Output /tmp/FA478tEOAA looks good.
ok 17 - Computing differences
ok 18 # skip GNU grep not available
Testing Perl
Comparing /tmp/3NzGptxAgK to t/mailboxes/mailarc-3.txt
Output /tmp/3NzGptxAgK looks good.
ok 19 - Computing differences
Testing Cache implementation
Comparing /tmp/9vudOiSw5q to t/mailboxes/mailarc-3.txt
Output /tmp/9vudOiSw5q looks good.
ok 20 - Computing differences
ok 21 # skip GNU grep not available
Testing Perl
Comparing /tmp/XeSJa1me8m to t/mailboxes/mailseparators.txt
Output /tmp/XeSJa1me8m looks good.
ok 22 - Computing differences
Testing Cache implementation
Comparing /tmp/25UTUAZjXh to t/mailboxes/mailseparators.txt
Output /tmp/25UTUAZjXh looks good.
ok 23 - Computing differences
ok 24 # skip GNU grep not available
Testing Perl
Comparing /tmp/23K0bBbHnT to t/mailboxes/malformed.txt
Output /tmp/23K0bBbHnT looks good.
ok 25 - Computing differences
Testing Cache implementation
Comparing /tmp/bnXnC4BpJl to t/mailboxes/malformed.txt
Output /tmp/bnXnC4BpJl looks good.
ok 26 - Computing differences
ok 27 # skip GNU grep not available
Testing Perl
Comparing /tmp/os5v306awL to t/mailboxes/newlines_at_beginning.txt
Output /tmp/os5v306awL looks good.
ok 28 - Computing differences
Testing Cache implementation
Comparing /tmp/IMeHYOYfPw to t/mailboxes/newlines_at_beginning.txt
Output /tmp/IMeHYOYfPw looks good.
ok 29 - Computing differences
ok 30 # skip GNU grep not available
Testing Perl
Comparing /tmp/MkYduooIUj to t/mailboxes/vm-emacs.txt
Output /tmp/MkYduooIUj looks good.
ok 31 - Computing differences
Testing Cache implementation
Comparing /tmp/49TGVvvl3L to t/mailboxes/vm-emacs.txt
Output /tmp/49TGVvvl3L looks good.
ok 32 - Computing differences
ok 33 # skip GNU grep not available
ok
t/xz.t ..........................
1..1
Running test:
"/bin/cat" "t/mailboxes/mailarc-2.txt.xz" | "/usr/bin/xz" -cd
Comparing /tmp/FgaS7rnala to t/results/mailarc-2.txt
Output /tmp/FgaS7rnala looks good.
Comparing /tmp/6BBY17bmcF to t/results/none
Output /tmp/6BBY17bmcF looks good.
ok 1 - Computing differences
ok
All tests successful.
Files=25, Tests=370, 5 wallclock secs ( 0.10 usr 0.08 sys + 3.02 cusr 1.90 csys = 5.10 CPU)
Result: PASS
PREREQUISITES:
Here is a list of prerequisites you specified and versions we
managed to load:
Module Name Have Want
ExtUtils::MakeMaker 7.34 6.36
File::Path 2.15 2.08
File::Slurper 0.012 0
FileHandle::Unget 0.1634 0
Storable 3.11 0
Test::Compile v1.3.0 0
Test::More 1.302136 0
Text::Diff 1.45 0
UNIVERSAL::require 0.18 0
URI::Escape 3.31 0
Perl module toolchain versions installed:
Module Name Have
CPANPLUS 0.9176
CPANPLUS::Dist::Build 0.90
Cwd 3.74
ExtUtils::CBuilder 0.280230
ExtUtils::Command 7.34
ExtUtils::Install 2.14
ExtUtils::MakeMaker 7.34
ExtUtils::Manifest 1.71
ExtUtils::ParseXS 3.35
File::Spec 3.74
Module::Build 0.4224
Pod::Parser 1.51
Pod::Simple 3.20
Test2 1.302136
Test::Harness 3.42
Test::More 1.302136
version 0.9924
******************************** NOTE ********************************
The comments above are created mechanically, possibly without manual
checking by the sender. As there are many people performing automatic
tests on each upload to CPAN, it is likely that you will receive
identical messages about the same problem.
If you believe that the message is mistaken, please reply to the first
one with correction and/or additional informations, and do not take
it personally. We appreciate your patience. :)
**********************************************************************
Additional comments:
This report was machine-generated by CPANPLUS::Dist::YACSmoke 1.02.
Powered by minismokebox version 0.68
------------------------------
ENVIRONMENT AND OTHER CONTEXT
------------------------------
Environment variables:
AUTOMATED_TESTING = 1
LANG = en_GB.UTF-8
LANGUAGE = en_GB:en
NONINTERACTIVE_TESTING = 1
PATH = /usr/local/bin:/usr/bin:/bin:/usr/local/games:/usr/games
PERL5LIB = :/home/cpan/pit/thr/conf/perl-5.16.0/.cpanplus/5.16.0/build/DhOdO8im6j/Test-Needs-0.002005/blib/lib:/home/cpan/pit/thr/conf/perl-5.16.0/.cpanplus/5.16.0/build/DhOdO8im6j/Test-Needs-0.002005/blib/arch:/home/cpan/pit/thr/conf/perl-5.16.0/.cpanplus/5.16.0/build/EBaFsNW2xL/URI-1.74/blib/lib:/home/cpan/pit/thr/conf/perl-5.16.0/.cpanplus/5.16.0/build/EBaFsNW2xL/URI-1.74/blib/arch:/home/cpan/pit/thr/conf/perl-5.16.0/.cpanplus/5.16.0/build/cHgMlblKC2/Test-Warnings-0.026/blib/lib:/home/cpan/pit/thr/conf/perl-5.16.0/.cpanplus/5.16.0/build/cHgMlblKC2/Test-Warnings-0.026/blib/arch:/home/cpan/pit/thr/conf/perl-5.16.0/.cpanplus/5.16.0/build/OyJEwYLVCL/File-Slurper-0.012/blib/lib:/home/cpan/pit/thr/conf/perl-5.16.0/.cpanplus/5.16.0/build/OyJEwYLVCL/File-Slurper-0.012/blib/arch:/home/cpan/pit/thr/conf/perl-5.16.0/.cpanplus/5.16.0/build/R6V8z8Y6eg/UNIVERSAL-require-0.18/blib/lib:/home/cpan/pit/thr/conf/perl-5.16.0/.cpanplus/5.16.0/build/R6V8z8Y6eg/UNIVERSAL-require-0.18/blib/arch:/home/cpan/pit/thr/conf/perl-5.16.0/.cpanplus/5.16.0/build/3Cj2DI8A1w/Test-Compile-v1.3.0/blib/lib:/home/cpan/pit/thr/conf/perl-5.16.0/.cpanplus/5.16.0/build/3Cj2DI8A1w/Test-Compile-v1.3.0/blib/arch:/home/cpan/pit/thr/conf/perl-5.16.0/.cpanplus/5.16.0/build/wVywxCKS9w/FileHandle-Unget-0.1634/blib/lib:/home/cpan/pit/thr/conf/perl-5.16.0/.cpanplus/5.16.0/build/wVywxCKS9w/FileHandle-Unget-0.1634/blib/arch:/home/cpan/pit/thr/conf/perl-5.16.0/.cpanplus/5.16.0/build/ViA6SdlAIA/Algorithm-Diff-1.1903/blib/lib:/home/cpan/pit/thr/conf/perl-5.16.0/.cpanplus/5.16.0/build/ViA6SdlAIA/Algorithm-Diff-1.1903/blib/arch:/home/cpan/pit/thr/conf/perl-5.16.0/.cpanplus/5.16.0/build/0bk19rTGXz/Text-Diff-1.45/blib/lib:/home/cpan/pit/thr/conf/perl-5.16.0/.cpanplus/5.16.0/build/0bk19rTGXz/Text-Diff-1.45/blib/arch:/home/cpan/pit/thr/conf/perl-5.16.0/.cpanplus/5.16.0/build/hdnLe7IGA5/Mail-Mbox-MessageParser-1.5111/blib/lib:/home/cpan/pit/thr/conf/perl-5.16.0/.cpanplus/5.16.0/build/hdnLe7IGA5/Mail-Mbox-MessageParser-1.5111/blib/arch
PERL5_CPANPLUS_IS_RUNNING = 99153
PERL5_CPANPLUS_IS_VERSION = 0.9176
PERL5_MINISMOKEBOX = 0.68
PERL5_YACSMOKE_BASE = /home/cpan/pit/thr/conf/perl-5.16.0
PERL_EXTUTILS_AUTOINSTALL = --defaultdeps
PERL_MM_USE_DEFAULT = 1
SHELL = /bin/bash
TERM = screen
Perl special variables (and OS-specific diagnostics, for MSWin32):
Perl: $^X = /home/cpan/pit/thr/perl-5.16.0/bin/perl
UID: $< = 1001
EUID: $> = 1001
GID: $( = 1001 1001
EGID: $) = 1001 1001
-------------------------------
--
Summary of my perl5 (revision 5 version 16 subversion 0) configuration:
Platform:
osname=gnukfreebsd, osvers=10.1-0-amd64, archname=x86_64-gnukfreebsd-thread-multi
uname='gnukfreebsd kondor 10.1-0-amd64 #0 wed, 16 mar 2016 23:16:33 +0000 x86_64 amd64 qemu virtual cpu version 2.0.0 gnukfreebsd '
config_args='-des -Dprefix=/home/cpan/pit/thr/perl-5.16.0 -Dusethreads'
hint=recommended, useposix=true, d_sigaction=define
useithreads=define, usemultiplicity=define
useperlio=define, d_sfio=undef, uselargefiles=define, usesocks=undef
use64bitint=define, use64bitall=define, uselongdouble=undef
usemymalloc=n, bincompat5005=undef
Compiler:
cc='cc', ccflags ='-D_REENTRANT -D_GNU_SOURCE -fno-strict-aliasing -pipe -fstack-protector -I/usr/local/include -D_LARGEFILE_SOURCE -D_FILE_OFFSET_BITS=64',
optimize='-O2',
cppflags='-D_REENTRANT -D_GNU_SOURCE -fno-strict-aliasing -pipe -fstack-protector -I/usr/local/include'
ccversion='', gccversion='4.9.2', gccosandvers=''
intsize=4, longsize=8, ptrsize=8, doublesize=8, byteorder=12345678
d_longlong=define, longlongsize=8, d_longdbl=define, longdblsize=16
ivtype='long', ivsize=8, nvtype='double', nvsize=8, Off_t='off_t', lseeksize=8
alignbytes=8, prototype=define
Linker and Libraries:
ld='cc', ldflags =' -fstack-protector -L/usr/local/lib'
libpth=/usr/local/lib /lib/x86_64-kfreebsd-gnu /lib/../lib /usr/lib/x86_64-kfreebsd-gnu /usr/lib/../lib /lib /usr/lib
libs=-lnsl -lgdbm -ldl -lm -lcrypt -lutil -lpthread -lc -lgdbm_compat
perllibs=-lnsl -ldl -lm -lcrypt -lutil -lpthread -lc
libc=/usr/lib/x86_64-kfreebsd-gnu/libc.so, so=so, useshrplib=false, libperl=libperl.a
gnulibc_version='2.19'
Dynamic Linking:
dlsrc=dl_dlopen.xs, dlext=so, d_dlsymun=undef, ccdlflags='-Wl,-E'
cccdlflags='-fpic', lddlflags='-shared -O2 -L/usr/local/lib -fstack-protector'
Characteristics of this binary (from libperl):
Compile-time options: HAS_TIMES MULTIPLICITY PERLIO_LAYERS
PERL_DONT_CREATE_GVSV PERL_IMPLICIT_CONTEXT
PERL_MALLOC_WRAP PERL_PRESERVE_IVUV USE_64_BIT_ALL
USE_64_BIT_INT USE_ITHREADS USE_LARGE_FILES
USE_LOCALE USE_LOCALE_COLLATE USE_LOCALE_CTYPE
USE_LOCALE_NUMERIC USE_PERLIO USE_PERL_ATOF
USE_REENTRANT_API
Locally applied patches:
Devel::PatchPerl 1.42
Built under gnukfreebsd
Compiled at May 7 2016 04:21:05
%ENV:
PERL5LIB=":/home/cpan/pit/thr/conf/perl-5.16.0/.cpanplus/5.16.0/build/DhOdO8im6j/Test-Needs-0.002005/blib/lib:/home/cpan/pit/thr/conf/perl-5.16.0/.cpanplus/5.16.0/build/DhOdO8im6j/Test-Needs-0.002005/blib/arch:/home/cpan/pit/thr/conf/perl-5.16.0/.cpanplus/5.16.0/build/EBaFsNW2xL/URI-1.74/blib/lib:/home/cpan/pit/thr/conf/perl-5.16.0/.cpanplus/5.16.0/build/EBaFsNW2xL/URI-1.74/blib/arch:/home/cpan/pit/thr/conf/perl-5.16.0/.cpanplus/5.16.0/build/cHgMlblKC2/Test-Warnings-0.026/blib/lib:/home/cpan/pit/thr/conf/perl-5.16.0/.cpanplus/5.16.0/build/cHgMlblKC2/Test-Warnings-0.026/blib/arch:/home/cpan/pit/thr/conf/perl-5.16.0/.cpanplus/5.16.0/build/OyJEwYLVCL/File-Slurper-0.012/blib/lib:/home/cpan/pit/thr/conf/perl-5.16.0/.cpanplus/5.16.0/build/OyJEwYLVCL/File-Slurper-0.012/blib/arch:/home/cpan/pit/thr/conf/perl-5.16.0/.cpanplus/5.16.0/build/R6V8z8Y6eg/UNIVERSAL-require-0.18/blib/lib:/home/cpan/pit/thr/conf/perl-5.16.0/.cpanplus/5.16.0/build/R6V8z8Y6eg/UNIVERSAL-require-0.18/blib/arch:/home/cpan/pit/thr/conf/perl-5.16.0/.cpanplus/5.16.0/build/3Cj2DI8A1w/Test-Compile-v1.3.0/blib/lib:/home/cpan/pit/thr/conf/perl-5.16.0/.cpanplus/5.16.0/build/3Cj2DI8A1w/Test-Compile-v1.3.0/blib/arch:/home/cpan/pit/thr/conf/perl-5.16.0/.cpanplus/5.16.0/build/wVywxCKS9w/FileHandle-Unget-0.1634/blib/lib:/home/cpan/pit/thr/conf/perl-5.16.0/.cpanplus/5.16.0/build/wVywxCKS9w/FileHandle-Unget-0.1634/blib/arch:/home/cpan/pit/thr/conf/perl-5.16.0/.cpanplus/5.16.0/build/ViA6SdlAIA/Algorithm-Diff-1.1903/blib/lib:/home/cpan/pit/thr/conf/perl-5.16.0/.cpanplus/5.16.0/build/ViA6SdlAIA/Algorithm-Diff-1.1903/blib/arch:/home/cpan/pit/thr/conf/perl-5.16.0/.cpanplus/5.16.0/build/0bk19rTGXz/Text-Diff-1.45/blib/lib:/home/cpan/pit/thr/conf/perl-5.16.0/.cpanplus/5.16.0/build/0bk19rTGXz/Text-Diff-1.45/blib/arch:/home/cpan/pit/thr/conf/perl-5.16.0/.cpanplus/5.16.0/build/hdnLe7IGA5/Mail-Mbox-MessageParser-1.5111/blib/lib:/home/cpan/pit/thr/conf/perl-5.16.0/.cpanplus/5.16.0/build/hdnLe7IGA5/Mail-Mbox-MessageParser-1.5111/blib/arch"
PERL5_CPANPLUS_IS_RUNNING="99153"
PERL5_CPANPLUS_IS_VERSION="0.9176"
PERL5_MINISMOKEBOX="0.68"
PERL5_YACSMOKE_BASE="/home/cpan/pit/thr/conf/perl-5.16.0"
PERL_EXTUTILS_AUTOINSTALL="--defaultdeps"
PERL_MM_USE_DEFAULT="1"
@INC:
/home/cpan/pit/thr/conf/perl-5.16.0/.cpanplus/5.16.0/build/DhOdO8im6j/Test-Needs-0.002005/blib/lib
/home/cpan/pit/thr/conf/perl-5.16.0/.cpanplus/5.16.0/build/DhOdO8im6j/Test-Needs-0.002005/blib/arch
/home/cpan/pit/thr/conf/perl-5.16.0/.cpanplus/5.16.0/build/EBaFsNW2xL/URI-1.74/blib/lib
/home/cpan/pit/thr/conf/perl-5.16.0/.cpanplus/5.16.0/build/EBaFsNW2xL/URI-1.74/blib/arch
/home/cpan/pit/thr/conf/perl-5.16.0/.cpanplus/5.16.0/build/cHgMlblKC2/Test-Warnings-0.026/blib/lib
/home/cpan/pit/thr/conf/perl-5.16.0/.cpanplus/5.16.0/build/cHgMlblKC2/Test-Warnings-0.026/blib/arch
/home/cpan/pit/thr/conf/perl-5.16.0/.cpanplus/5.16.0/build/OyJEwYLVCL/File-Slurper-0.012/blib/lib
/home/cpan/pit/thr/conf/perl-5.16.0/.cpanplus/5.16.0/build/OyJEwYLVCL/File-Slurper-0.012/blib/arch
/home/cpan/pit/thr/conf/perl-5.16.0/.cpanplus/5.16.0/build/R6V8z8Y6eg/UNIVERSAL-require-0.18/blib/lib
/home/cpan/pit/thr/conf/perl-5.16.0/.cpanplus/5.16.0/build/R6V8z8Y6eg/UNIVERSAL-require-0.18/blib/arch
/home/cpan/pit/thr/conf/perl-5.16.0/.cpanplus/5.16.0/build/3Cj2DI8A1w/Test-Compile-v1.3.0/blib/lib
/home/cpan/pit/thr/conf/perl-5.16.0/.cpanplus/5.16.0/build/3Cj2DI8A1w/Test-Compile-v1.3.0/blib/arch
/home/cpan/pit/thr/conf/perl-5.16.0/.cpanplus/5.16.0/build/wVywxCKS9w/FileHandle-Unget-0.1634/blib/lib
/home/cpan/pit/thr/conf/perl-5.16.0/.cpanplus/5.16.0/build/wVywxCKS9w/FileHandle-Unget-0.1634/blib/arch
/home/cpan/pit/thr/conf/perl-5.16.0/.cpanplus/5.16.0/build/ViA6SdlAIA/Algorithm-Diff-1.1903/blib/lib
/home/cpan/pit/thr/conf/perl-5.16.0/.cpanplus/5.16.0/build/ViA6SdlAIA/Algorithm-Diff-1.1903/blib/arch
/home/cpan/pit/thr/conf/perl-5.16.0/.cpanplus/5.16.0/build/0bk19rTGXz/Text-Diff-1.45/blib/lib
/home/cpan/pit/thr/conf/perl-5.16.0/.cpanplus/5.16.0/build/0bk19rTGXz/Text-Diff-1.45/blib/arch
/home/cpan/pit/thr/conf/perl-5.16.0/.cpanplus/5.16.0/build/hdnLe7IGA5/Mail-Mbox-MessageParser-1.5111/blib/lib
/home/cpan/pit/thr/conf/perl-5.16.0/.cpanplus/5.16.0/build/hdnLe7IGA5/Mail-Mbox-MessageParser-1.5111/blib/arch
/home/cpan/pit/thr/perl-5.16.0/lib/site_perl/5.16.0/x86_64-gnukfreebsd-thread-multi
/home/cpan/pit/thr/perl-5.16.0/lib/site_perl/5.16.0
/home/cpan/pit/thr/perl-5.16.0/lib/5.16.0/x86_64-gnukfreebsd-thread-multi
/home/cpan/pit/thr/perl-5.16.0/lib/5.16.0
.