Report for Class-Component-0.17

Back
From: metabase:user:3215efbe-2aae-11df-837a-5e0a49663a4f
Subject: PASS Class-Component-0.17 v5.16.2 GNU/Linux
Date: 2012-12-26T21:40:34Z

This distribution has been tested as part of the CPAN Testers
project, supporting the Perl programming language.  See
http://wiki.cpantesters.org/ for more information or email
questions to cpan-testers-discuss@perl.org


--
Dear Kazuhiro Osawa,

This is a computer-generated report for Class-Component-0.17
on perl 5.16.2, created by CPAN-Reporter-1.2009.

Thank you for uploading your work to CPAN.  Congratulations!
All tests were successful.

Sections of this report:

    * Tester comments
    * Program output
    * Prerequisites
    * Environment and other context

------------------------------
TESTER COMMENTS
------------------------------

Additional comments from tester:

this report is from an automated smoke testing program
and was not reviewed by a human for accuracy

------------------------------
PROGRAM OUTPUT
------------------------------

Output from '/usr/bin/make test':

PERL_DL_NONLAZY=1 /opt/perl/threads/5.16.2/bin/perl "-MExtUtils::Command::MM" "-e" "test_harness(0, 'inc', 'blib/lib', 'blib/arch')" t/00_compile.t t/01_myclass.t t/02_myclass_autoload.t t/03_myclass_dump.t t/04_myclass_autoload_dump.t t/05_myclass_remove.t t/06_myclass_singletonmethod.t t/07_myclass_next.t t/08_myclass_disabledynamicplugin.t t/09_myclass_disabledynamicplugin_autoload.t t/101_plaggerize_simple.t t/10_myclass_injectmethod.t t/11_myclass_disabledynamicplugin_injectmethod.t t/12_attribute.t t/13_extattribute.t t/14_anonpluginmethod.t t/15_aliaspluginmethod.t t/16_myclass_autoload_plugin.t t/17_duplication_load_plugins.t t/18_myclass_default_hook.t
t/00_compile.t .................................... ok
t/01_myclass.t .................................... ok
t/02_myclass_autoload.t ........................... ok
t/03_myclass_dump.t ............................... ok
t/04_myclass_autoload_dump.t ...................... ok
t/05_myclass_remove.t ............................. ok
t/06_myclass_singletonmethod.t .................... ok
t/07_myclass_next.t ............................... ok
t/08_myclass_disabledynamicplugin.t ............... ok
t/09_myclass_disabledynamicplugin_autoload.t ...... ok
t/101_plaggerize_simple.t ......................... ok
t/10_myclass_injectmethod.t ....................... ok
t/11_myclass_disabledynamicplugin_injectmethod.t .. ok
t/12_attribute.t .................................. ok
t/13_extattribute.t ............................... ok
t/14_anonpluginmethod.t ........................... ok
t/15_aliaspluginmethod.t .......................... ok
t/16_myclass_autoload_plugin.t .................... ok
t/17_duplication_load_plugins.t ................... ok
t/18_myclass_default_hook.t ....................... ok
All tests successful.
Files=20, Tests=227,  1 wallclock secs ( 0.06 usr  0.04 sys +  0.89 cusr  0.10 csys =  1.09 CPU)
Result: PASS

------------------------------
PREREQUISITES
------------------------------

Prerequisite modules loaded:

requires:

    Module                   Need Have
    ------------------------ ---- ----
    Carp::Clan               0    6.04
    Class::Accessor::Fast    0    0.34
    Class::Data::Inheritable 0    0.08
    Class::Inspector         0    1.28
    Test::More               0    0.98
    UNIVERSAL::require       0    0.13

build_requires:

    Module                   Need Have
    ------------------------ ---- ----
    ExtUtils::MakeMaker      0    6.64


------------------------------
ENVIRONMENT AND OTHER CONTEXT
------------------------------

Environment variables:

    AUTOMATED_TESTING = 1
    LANG = C
    PATH = /opt/perl/threads/5.16.2/bin:/usr/local/sbin:/usr/local/bin:/usr/sbin:/usr/bin:/sbin:/bin:/usr/games
    PERL5LIB = 
    PERL5OPT = 
    PERL5_CPANPLUS_IS_RUNNING = 8965
    PERL5_CPAN_IS_RUNNING = 8965
    PERL5_CPAN_IS_RUNNING_IN_RECURSION = 6030,8965
    PERL_CR_SMOKER_CURRENT = mobirc-4.04
    PERL_EXTUTILS_AUTOINSTALL = --defaultdeps
    PERL_MM_USE_DEFAULT = 1
    SHELL = /bin/bash
    TERM = screen

Perl special variables (and OS-specific diagnostics, for MSWin32):

    $^X = /opt/perl/threads/5.16.2/bin/perl
    $UID/$EUID = 1000 / 1000
    $GID = 1000 4 24 27 30 46 112 113 1000
    $EGID = 1000 4 24 27 30 46 112 113 1000

Perl module toolchain versions installed:

    Module              Have    
    ------------------- --------
    CPAN                1.9800  
    CPAN::Meta          2.120921
    Cwd                 3.39_02 
    ExtUtils::CBuilder  0.280206
    ExtUtils::Command   1.17    
    ExtUtils::Install   1.58    
    ExtUtils::MakeMaker 6.64    
    ExtUtils::Manifest  1.61    
    ExtUtils::ParseXS   3.18    
    File::Spec          3.39_02 
    JSON                2.53    
    JSON::PP            2.27200 
    Module::Build       0.4003  
    Module::Signature   0.70    
    Parse::CPAN::Meta   1.4404  
    Test::Harness       3.25    
    Test::More          0.98    
    YAML                0.84    
    YAML::Syck          1.22    
    version             0.9901  


--

Summary of my perl5 (revision 5 version 16 subversion 2) configuration:
   
  Platform:
    osname=linux, osvers=3.2.0-35-virtual, archname=x86_64-linux-thread-multi
    uname='linux cpansmoker 3.2.0-35-virtual #55-ubuntu smp wed dec 5 18:02:05 utc 2012 x86_64 x86_64 x86_64 gnulinux '
    config_args='-des -Dprefix=/opt/perl/threads/5.16.2 -Dusethreads'
    hint=recommended, useposix=true, d_sigaction=define
    useithreads=define, usemultiplicity=define
    useperlio=define, d_sfio=undef, uselargefiles=define, usesocks=undef
    use64bitint=define, use64bitall=define, uselongdouble=undef
    usemymalloc=n, bincompat5005=undef
  Compiler:
    cc='cc', ccflags ='-D_REENTRANT -D_GNU_SOURCE -fno-strict-aliasing -pipe -fstack-protector -I/usr/local/include -D_LARGEFILE_SOURCE -D_FILE_OFFSET_BITS=64',
    optimize='-O2',
    cppflags='-D_REENTRANT -D_GNU_SOURCE -fno-strict-aliasing -pipe -fstack-protector -I/usr/local/include'
    ccversion='', gccversion='4.6.3', gccosandvers=''
    intsize=4, longsize=8, ptrsize=8, doublesize=8, byteorder=12345678
    d_longlong=define, longlongsize=8, d_longdbl=define, longdblsize=16
    ivtype='long', ivsize=8, nvtype='double', nvsize=8, Off_t='off_t', lseeksize=8
    alignbytes=8, prototype=define
  Linker and Libraries:
    ld='cc', ldflags =' -fstack-protector -L/usr/local/lib'
    libpth=/usr/local/lib /lib/x86_64-linux-gnu /lib/../lib /usr/lib/x86_64-linux-gnu /usr/lib/../lib /lib /usr/lib
    libs=-lnsl -lgdbm -ldb -ldl -lm -lcrypt -lutil -lpthread -lc -lgdbm_compat
    perllibs=-lnsl -ldl -lm -lcrypt -lutil -lpthread -lc
    libc=, so=so, useshrplib=false, libperl=libperl.a
    gnulibc_version='2.15'
  Dynamic Linking:
    dlsrc=dl_dlopen.xs, dlext=so, d_dlsymun=undef, ccdlflags='-Wl,-E'
    cccdlflags='-fPIC', lddlflags='-shared -O2 -L/usr/local/lib -fstack-protector'


Characteristics of this binary (from libperl): 
  Compile-time options: HAS_TIMES MULTIPLICITY PERLIO_LAYERS
                        PERL_DONT_CREATE_GVSV PERL_IMPLICIT_CONTEXT
                        PERL_MALLOC_WRAP PERL_PRESERVE_IVUV USE_64_BIT_ALL
                        USE_64_BIT_INT USE_ITHREADS USE_LARGE_FILES
                        USE_LOCALE USE_LOCALE_COLLATE USE_LOCALE_CTYPE
                        USE_LOCALE_NUMERIC USE_PERLIO USE_PERL_ATOF
                        USE_REENTRANT_API
  Built under linux
  Compiled at Dec 26 2012 10:15:24
  %ENV:
    PERL5LIB=""
    PERL5OPT=""
    PERL5_CPANPLUS_IS_RUNNING="8965"
    PERL5_CPAN_IS_RUNNING="8965"
    PERL5_CPAN_IS_RUNNING_IN_RECURSION="6030,8965"
    PERL_CR_SMOKER_CURRENT="mobirc-4.04"
    PERL_EXTUTILS_AUTOINSTALL="--defaultdeps"
    PERL_MM_USE_DEFAULT="1"
  @INC:
    /opt/perl/threads/5.16.2/lib/site_perl/5.16.2/x86_64-linux-thread-multi
    /opt/perl/threads/5.16.2/lib/site_perl/5.16.2
    /opt/perl/threads/5.16.2/lib/5.16.2/x86_64-linux-thread-multi
    /opt/perl/threads/5.16.2/lib/5.16.2
    .