MooX-Enumeration v0.010 Perl 5 v5.18.2 armv7l-linux

Status
Pass
From
Nigel Horne
Dist
MooX-Enumeration v0.010
Platform
Perl 5 v5.18.2 armv7l-linux
Date
2020-02-28 13:33:17
ID
e0e5d21a-5a2e-11ea-81c3-df7a5855e463
This distribution has been tested as part of the CPAN Testers
project, supporting the Perl programming language.  See
http://wiki.cpantesters.org/ for more information or email
questions to cpan-testers-discuss@perl.org


--
Dear Toby Inkster,

This is a computer-generated report for MooX-Enumeration-0.010
on perl 5.18.2, created by CPAN-Reporter-1.2018.

Thank you for uploading your work to CPAN.  Congratulations!
All tests were successful.

Sections of this report:

    * Tester comments
    * Program output
    * Prerequisites
    * Environment and other context

------------------------------
TESTER COMMENTS
------------------------------

Additional comments from tester:

this report is from an automated smoke testing program
and was not reviewed by a human for accuracy

------------------------------
PROGRAM OUTPUT
------------------------------

Output from '/usr/bin/make test':

PERL_DL_NONLAZY=1 "/mnt/nas/home/pi4/njh/perl5/perlbrew/perls/perl-5.18.2/bin/perl" "-MExtUtils::Command::MM" "-MTest::Harness" "-e" "undef *Test::Harness::Switches; test_harness(0, 'blib/lib', 'blib/arch')" t/*.t
t/01basic.t ............ ok
t/01handles2.t ......... ok
t/04matchsimple.t ...... ok
t/03typetiny.t ......... ok
t/05assign.t ........... ok
t/06lazy.t ............. ok
t/07triggers.t ......... ok
t/08role.t ............. ok
t/40otherdelegation.t .. ok
t/91exceptions.t ....... ok
t/50moosify.t .......... ok
All tests successful.
Files=11, Tests=44,  2 wallclock secs ( 0.07 usr  0.07 sys +  2.80 cusr  0.93 csys =  3.87 CPU)
Result: PASS

------------------------------
PREREQUISITES
------------------------------

Prerequisite modules loaded:

requires:

    Module              Need     Have    
    ------------------- -------- --------
    Eval::TypeTiny      0        1.008005
    match::simple       0        0.010   
    Moo                 1.006000 2.003006
    perl                5.008001 5.018002
    Sub::Util           1.40     1.53    
    Type::Tiny::Enum    0.030    1.008005

build_requires:

    Module              Need     Have    
    ------------------- -------- --------
    Test::Fatal         0        0.014   
    Test::More          0.96     1.302170
    Types::Standard     0.030    1.008005

configure_requires:

    Module              Need     Have    
    ------------------- -------- --------
    ExtUtils::MakeMaker 6.17     7.44    


------------------------------
ENVIRONMENT AND OTHER CONTEXT
------------------------------

Environment variables:

    AUTOMATED_TESTING = 1
    HARNESS_OPTIONS = j4
    LANG = en_US.UTF-8
    PATH = /home/njh/perl5/perlbrew/bin:/home/njh/perl5/perlbrew/perls/perl-5.18.2/bin:/usr/bin:/bin:/home/njh/src/njh/smoker/bin
    PERL5LIB = /var/tmp/build/match-simple-0.010-0/blib/arch:/var/tmp/build/match-simple-0.010-0/blib/lib:/var/tmp/build/Sub-Infix-0.004-0/blib/arch:/var/tmp/build/Sub-Infix-0.004-0/blib/lib:/var/tmp/build/Lexical-Accessor-0.012-0/blib/arch:/var/tmp/build/Lexical-Accessor-0.012-0/blib/lib:/var/tmp/build/Keyword-Simple-0.04-0/blib/arch:/var/tmp/build/Keyword-Simple-0.04-0/blib/lib:/var/tmp/build/Import-Into-1.002005-0/blib/arch:/var/tmp/build/Import-Into-1.002005-0/blib/lib:/var/tmp/build/Devel-StrictMode-0.003-0/blib/arch:/var/tmp/build/Devel-StrictMode-0.003-0/blib/lib:/var/tmp/build/Time-LST-0.04-0/blib/arch:/var/tmp/build/Time-LST-0.04-0/blib/lib:/var/tmp/build/Astro-0.78-0/blib/arch:/var/tmp/build/Astro-0.78-0/blib/lib
    PERL5OPT = 
    PERL5_CPANPLUS_IS_RUNNING = 3925
    PERL5_CPAN_IS_RUNNING = 3925
    PERL5_CPAN_IS_RUNNING_IN_RECURSION = 3908,3925
    PERLBREW_HOME = /home/njh/.perlbrew
    PERLBREW_MANPATH = /home/njh/perl5/perlbrew/perls/perl-5.18.2/man
    PERLBREW_PATH = /home/njh/perl5/perlbrew/bin:/home/njh/perl5/perlbrew/perls/perl-5.18.2/bin
    PERLBREW_PERL = perl-5.18.2
    PERLBREW_ROOT = /home/njh/perl5/perlbrew
    PERLBREW_SHELLRC_VERSION = 0.87
    PERLBREW_VERSION = 0.87
    PERL_USE_UNSAFE_INC = 1
    SHELL = /bin/sh
    TEMP = /tmp/user/1000
    TMPDIR = /tmp/user/1000/testwrapper.3911

Perl special variables (and OS-specific diagnostics, for MSWin32):

    $^X = /mnt/nas/home/pi4/njh/perl5/perlbrew/perls/perl-5.18.2/bin/perl
    $UID/$EUID = 1000 / 1000
    $GID = 1000 4 20 24 25 27 29 30 44 46 60 100 105 109 995 997 998 999 1000
    $EGID = 1000 4 20 24 25 27 29 30 44 46 60 100 105 109 995 997 998 999 1000

Perl module toolchain versions installed:

    Module              Have    
    ------------------- --------
    CPAN                2.27    
    CPAN::Meta          2.150010
    Cwd                 3.40    
    ExtUtils::CBuilder  0.280210
    ExtUtils::Command   7.44    
    ExtUtils::Install   2.06    
    ExtUtils::MakeMaker 7.44    
    ExtUtils::Manifest  1.70    
    ExtUtils::ParseXS   3.18    
    File::Spec          3.40    
    JSON                4.02    
    JSON::PP            4.04    
    Module::Build       0.4231  
    Module::Signature   n/a     
    Parse::CPAN::Meta   2.150010
    Test::Harness       3.42    
    Test::More          1.302170
    YAML                1.30    
    YAML::Syck          1.32    
    version             0.9902  


--

Summary of my perl5 (revision 5 version 18 subversion 2) configuration:
   
  Platform:
    osname=linux, osvers=4.19.75-v7l+, archname=armv7l-linux
    uname='linux pi4 4.19.75-v7l+ #1270 smp tue sep 24 18:51:41 bst 2019 armv7l gnulinux '
    config_args='-de -Dprefix=/home/njh/perl5/perlbrew/perls/perl-5.18.2 -Aeval:scriptdir=/home/njh/perl5/perlbrew/perls/perl-5.18.2/bin'
    hint=recommended, useposix=true, d_sigaction=define
    useithreads=undef, usemultiplicity=undef
    useperlio=define, d_sfio=undef, uselargefiles=define, usesocks=undef
    use64bitint=undef, use64bitall=undef, uselongdouble=undef
    usemymalloc=n, bincompat5005=undef
  Compiler:
    cc='cc', ccflags ='-fwrapv -fno-strict-aliasing -pipe -fstack-protector -I/usr/local/include -D_LARGEFILE_SOURCE -D_FILE_OFFSET_BITS=64',
    optimize='-O2',
    cppflags='-fwrapv -fno-strict-aliasing -pipe -fstack-protector -I/usr/local/include'
    ccversion='', gccversion='8.3.0', gccosandvers=''
    intsize=4, longsize=4, ptrsize=4, doublesize=8, byteorder=1234
    d_longlong=define, longlongsize=8, d_longdbl=define, longdblsize=8
    ivtype='long', ivsize=4, nvtype='double', nvsize=8, Off_t='off_t', lseeksize=8
    alignbytes=8, prototype=define
  Linker and Libraries:
    ld='cc', ldflags =' -fstack-protector -L/usr/local/lib'
    libpth=/usr/local/lib /lib/arm-linux-gnueabihf /lib /usr/lib/arm-linux-gnueabihf /usr/lib
    libs=-lnsl -lgdbm -ldb -ldl -lm -lcrypt -lutil -lc
    perllibs=-lnsl -ldl -lm -lcrypt -lutil -lc
    libc=libc-2.28.so, so=so, useshrplib=false, libperl=libperl.a
    gnulibc_version='2.28'
  Dynamic Linking:
    dlsrc=dl_dlopen.xs, dlext=so, d_dlsymun=undef, ccdlflags='-Wl,-E'
    cccdlflags='-fPIC', lddlflags='-shared -O2 -L/usr/local/lib -fstack-protector'


Characteristics of this binary (from libperl): 
  Compile-time options: HAS_TIMES PERLIO_LAYERS PERL_DONT_CREATE_GVSV
                        PERL_HASH_FUNC_ONE_AT_A_TIME_HARD PERL_MALLOC_WRAP
                        PERL_PRESERVE_IVUV PERL_SAWAMPERSAND USE_LARGE_FILES
                        USE_LOCALE USE_LOCALE_COLLATE USE_LOCALE_CTYPE
                        USE_LOCALE_NUMERIC USE_PERLIO USE_PERL_ATOF
  Locally applied patches:
	Devel::PatchPerl 1.80
  Built under linux
  Compiled at Dec 28 2019 13:24:08
  %ENV:
    PERL5LIB="/var/tmp/build/match-simple-0.010-0/blib/arch:/var/tmp/build/match-simple-0.010-0/blib/lib:/var/tmp/build/Sub-Infix-0.004-0/blib/arch:/var/tmp/build/Sub-Infix-0.004-0/blib/lib:/var/tmp/build/Lexical-Accessor-0.012-0/blib/arch:/var/tmp/build/Lexical-Accessor-0.012-0/blib/lib:/var/tmp/build/Keyword-Simple-0.04-0/blib/arch:/var/tmp/build/Keyword-Simple-0.04-0/blib/lib:/var/tmp/build/Import-Into-1.002005-0/blib/arch:/var/tmp/build/Import-Into-1.002005-0/blib/lib:/var/tmp/build/Devel-StrictMode-0.003-0/blib/arch:/var/tmp/build/Devel-StrictMode-0.003-0/blib/lib:/var/tmp/build/Time-LST-0.04-0/blib/arch:/var/tmp/build/Time-LST-0.04-0/blib/lib:/var/tmp/build/Astro-0.78-0/blib/arch:/var/tmp/build/Astro-0.78-0/blib/lib"
    PERL5OPT=""
    PERL5_CPANPLUS_IS_RUNNING="3925"
    PERL5_CPAN_IS_RUNNING="3925"
    PERL5_CPAN_IS_RUNNING_IN_RECURSION="3908,3925"
    PERLBREW_HOME="/home/njh/.perlbrew"
    PERLBREW_MANPATH="/home/njh/perl5/perlbrew/perls/perl-5.18.2/man"
    PERLBREW_PATH="/home/njh/perl5/perlbrew/bin:/home/njh/perl5/perlbrew/perls/perl-5.18.2/bin"
    PERLBREW_PERL="perl-5.18.2"
    PERLBREW_ROOT="/home/njh/perl5/perlbrew"
    PERLBREW_SHELLRC_VERSION="0.87"
    PERLBREW_VERSION="0.87"
    PERL_USE_UNSAFE_INC="1"
  @INC:
    /var/tmp/build/match-simple-0.010-0/blib/arch
    /var/tmp/build/match-simple-0.010-0/blib/lib
    /var/tmp/build/Sub-Infix-0.004-0/blib/arch
    /var/tmp/build/Sub-Infix-0.004-0/blib/lib
    /var/tmp/build/Lexical-Accessor-0.012-0/blib/arch
    /var/tmp/build/Lexical-Accessor-0.012-0/blib/lib
    /var/tmp/build/Keyword-Simple-0.04-0/blib/arch
    /var/tmp/build/Keyword-Simple-0.04-0/blib/lib
    /var/tmp/build/Import-Into-1.002005-0/blib/arch
    /var/tmp/build/Import-Into-1.002005-0/blib/lib
    /var/tmp/build/Devel-StrictMode-0.003-0/blib/arch
    /var/tmp/build/Devel-StrictMode-0.003-0/blib/lib
    /var/tmp/build/Time-LST-0.04-0/blib/arch
    /var/tmp/build/Time-LST-0.04-0/blib/lib
    /var/tmp/build/Astro-0.78-0/blib/arch
    /var/tmp/build/Astro-0.78-0/blib/lib
    /home/njh/perl5/perlbrew/perls/perl-5.18.2/lib/site_perl/5.18.2/armv7l-linux
    /home/njh/perl5/perlbrew/perls/perl-5.18.2/lib/site_perl/5.18.2
    /home/njh/perl5/perlbrew/perls/perl-5.18.2/lib/5.18.2/armv7l-linux
    /home/njh/perl5/perlbrew/perls/perl-5.18.2/lib/5.18.2
    .