Report for Catalyst-Component-ACCEPT_CONTEXT-0.07

Back
From: metabase:user:315f03b2-2aae-11df-837a-5e0a49663a4f
Subject: PASS Catalyst-Component-ACCEPT_CONTEXT-0.07 v5.16.2 OpenBSD
Date: 2012-11-12T02:23:00Z

This distribution has been tested as part of the CPAN Testers
project, supporting the Perl programming language.  See
http://wiki.cpantesters.org/ for more information or email
questions to cpan-testers-discuss@perl.org


--
Dear Tomas Doran,

This is a computer-generated report for Catalyst-Component-ACCEPT_CONTEXT-0.07
on perl 5.16.2, created by CPAN-Reporter-1.2006.

Thank you for uploading your work to CPAN.  Congratulations!
All tests were successful.

Sections of this report:

    * Tester comments
    * Program output
    * Prerequisites
    * Environment and other context

------------------------------
TESTER COMMENTS
------------------------------

Additional comments from tester:

this report is from an automated smoke testing program
and was not reviewed by a human for accuracy

------------------------------
PROGRAM OUTPUT
------------------------------

Output from '/usr/bin/make test':

PERL_DL_NONLAZY=1 /home/smoke/perl5/perlbrew/perls/perl-5.16.2/bin/perl "-MExtUtils::Command::MM" "-e" "test_harness(0, 'inc', 'blib/lib', 'blib/arch')" t/00-load.t t/01-live.t t/02-live-stash.t t/boilerplate.t t/mro-ok.t t/pod-coverage.t t/pod.t t/preserve-object.t
# Testing Catalyst::Component::ACCEPT_CONTEXT 0.07, Perl 5.016002, /home/smoke/perl5/perlbrew/perls/perl-5.16.2/bin/perl
t/00-load.t .......... ok
t/01-live.t .......... ok
Unhandled type: GLOB at /home/smoke/perl5/perlbrew/perls/perl-5.16.2/lib/site_perl/5.16.2/Devel/Cycle.pm line 107.
t/02-live-stash.t .... ok
t/boilerplate.t ...... ok
t/mro-ok.t ........... ok
t/pod-coverage.t ..... ok
t/pod.t .............. ok
t/preserve-object.t .. ok
All tests successful.
Files=8, Tests=19, 15 wallclock secs ( 0.10 usr  0.19 sys + 12.55 cusr  0.89 csys = 13.73 CPU)
Result: PASS

------------------------------
PREREQUISITES
------------------------------

Prerequisite modules loaded:

requires:

    Module              Need Have   
    ------------------- ---- -------
    Catalyst            0    5.90018
    Devel::Cycle        0    1.11   
    ExtUtils::MakeMaker 6.42 6.63_02
    MRO::Compat         0    0.11   
    Scalar::Util        0    1.25   

build_requires:

    Module              Need Have   
    ------------------- ---- -------
    ExtUtils::MakeMaker 0    6.63_02

configure_requires:

    Module              Need Have   
    ------------------- ---- -------
    ExtUtils::MakeMaker 6.42 6.63_02


------------------------------
ENVIRONMENT AND OTHER CONTEXT
------------------------------

Environment variables:

    AUTOMATED_TESTING = 1
    PATH = /home/smoke/perl5/perlbrew/bin:/home/smoke/perl5/perlbrew/perls/perl-5.16.2/bin:/home/smoke/bin:/bin:/sbin:/usr/bin:/usr/sbin:/usr/X11R6/bin:/usr/local/bin:/usr/local/sbin:/usr/games:.
    PERL5LIB = 
    PERL5OPT = 
    PERL5_CPANPLUS_IS_RUNNING = 22015
    PERL5_CPAN_IS_RUNNING = 22015
    PERL5_CPAN_IS_RUNNING_IN_RECURSION = 6318,22015
    PERLBREW_MANPATH = /home/smoke/perl5/perlbrew/perls/perl-5.16.2/man
    PERLBREW_PATH = /home/smoke/perl5/perlbrew/bin:/home/smoke/perl5/perlbrew/perls/perl-5.16.2/bin
    PERLBREW_PERL = perl-5.16.2
    PERLBREW_ROOT = /home/smoke/perl5/perlbrew
    PERLBREW_SKIP_INIT = 1
    PERLBREW_VERSION = 0.55
    PERL_CR_SMOKER_CURRENT = CatalystX-CRUD-Model-RDBO-0.25
    PERL_EXTUTILS_AUTOINSTALL = --defaultdeps
    PERL_MM_USE_DEFAULT = 1
    SHELL = /usr/local/bin/bash
    TERM = screen

Perl special variables (and OS-specific diagnostics, for MSWin32):

    $^X = /home/smoke/perl5/perlbrew/perls/perl-5.16.2/bin/perl
    $UID/$EUID = 1001 / 1001
    $GID = 10 10
    $EGID = 10 10

Perl module toolchain versions installed:

    Module              Have    
    ------------------- --------
    CPAN                1.9800  
    CPAN::Meta          2.120630
    Cwd                 3.39_02 
    ExtUtils::CBuilder  0.280206
    ExtUtils::Command   1.17    
    ExtUtils::Install   1.58    
    ExtUtils::MakeMaker 6.63_02 
    ExtUtils::Manifest  1.61    
    ExtUtils::ParseXS   3.16    
    File::Spec          3.39_02 
    JSON                2.53    
    JSON::PP            2.27200 
    Module::Build       0.4003  
    Module::Signature   0.69    
    Parse::CPAN::Meta   1.4404  
    Test::Harness       3.25    
    Test::More          0.98    
    YAML                0.84    
    YAML::Syck          1.21    
    version             0.99    


--

Summary of my perl5 (revision 5 version 16 subversion 2) configuration:
   
  Platform:
    osname=openbsd, osvers=5.2, archname=OpenBSD.i386-openbsd
    uname='openbsd minimunch.zeroclue.com 5.2 generic.mp#339 i386 '
    config_args='-de -Dprefix=/home/smoke/perl5/perlbrew/perls/perl-5.16.2 -Aeval:scriptdir=/home/smoke/perl5/perlbrew/perls/perl-5.16.2/bin'
    hint=recommended, useposix=true, d_sigaction=define
    useithreads=undef, usemultiplicity=undef
    useperlio=define, d_sfio=undef, uselargefiles=define, usesocks=undef
    use64bitint=undef, use64bitall=undef, uselongdouble=undef
    usemymalloc=y, bincompat5005=undef
  Compiler:
    cc='cc', ccflags ='-fno-strict-aliasing -pipe -fstack-protector -I/usr/local/include',
    optimize='-O2',
    cppflags='-fno-strict-aliasing -pipe -fstack-protector -I/usr/local/include'
    ccversion='', gccversion='4.2.1 20070719 ', gccosandvers='openbsd5.2'
    intsize=4, longsize=4, ptrsize=4, doublesize=8, byteorder=1234
    d_longlong=define, longlongsize=8, d_longdbl=define, longdblsize=12
    ivtype='long', ivsize=4, nvtype='double', nvsize=8, Off_t='off_t', lseeksize=8
    alignbytes=4, prototype=define
  Linker and Libraries:
    ld='cc', ldflags ='-Wl,-E  -fstack-protector -L/usr/local/lib'
    libpth=/usr/local/lib /usr/lib
    libs=-lm -lutil -lc
    perllibs=-lm -lutil -lc
    libc=/usr/lib/libc.so.65.0, so=so, useshrplib=false, libperl=libperl.a
    gnulibc_version=''
  Dynamic Linking:
    dlsrc=dl_dlopen.xs, dlext=so, d_dlsymun=undef, ccdlflags=' '
    cccdlflags='-DPIC -fPIC ', lddlflags='-shared -fPIC  -L/usr/local/lib -fstack-protector'


Characteristics of this binary (from libperl): 
  Compile-time options: HAS_TIMES MYMALLOC PERLIO_LAYERS
                        PERL_DONT_CREATE_GVSV PERL_MALLOC_WRAP
                        PERL_PRESERVE_IVUV USE_LARGE_FILES USE_LOCALE
                        USE_LOCALE_COLLATE USE_LOCALE_CTYPE
                        USE_LOCALE_NUMERIC USE_PERLIO USE_PERL_ATOF
  Built under openbsd
  Compiled at Nov  7 2012 23:04:23
  %ENV:
    PERL5LIB=""
    PERL5OPT=""
    PERL5_CPANPLUS_IS_RUNNING="22015"
    PERL5_CPAN_IS_RUNNING="22015"
    PERL5_CPAN_IS_RUNNING_IN_RECURSION="6318,22015"
    PERLBREW_MANPATH="/home/smoke/perl5/perlbrew/perls/perl-5.16.2/man"
    PERLBREW_PATH="/home/smoke/perl5/perlbrew/bin:/home/smoke/perl5/perlbrew/perls/perl-5.16.2/bin"
    PERLBREW_PERL="perl-5.16.2"
    PERLBREW_ROOT="/home/smoke/perl5/perlbrew"
    PERLBREW_SKIP_INIT="1"
    PERLBREW_VERSION="0.55"
    PERL_CR_SMOKER_CURRENT="CatalystX-CRUD-Model-RDBO-0.25"
    PERL_EXTUTILS_AUTOINSTALL="--defaultdeps"
    PERL_MM_USE_DEFAULT="1"
  @INC:
    /home/smoke/perl5/perlbrew/perls/perl-5.16.2/lib/site_perl/5.16.2/OpenBSD.i386-openbsd
    /home/smoke/perl5/perlbrew/perls/perl-5.16.2/lib/site_perl/5.16.2
    /home/smoke/perl5/perlbrew/perls/perl-5.16.2/lib/5.16.2/OpenBSD.i386-openbsd
    /home/smoke/perl5/perlbrew/perls/perl-5.16.2/lib/5.16.2
    .