Report for CM-Permutation-0.94

Back
From: metabase:user:314402c4-2aae-11df-837a-5e0a49663a4f
Subject: PASS CM-Permutation-0.94 v5.20.0 RC1 GNU/Linux
Date: 2014-05-18T15:41:28Z

This distribution has been tested as part of the CPAN Testers
project, supporting the Perl programming language.  See
http://wiki.cpantesters.org/ for more information or email
questions to cpan-testers-discuss@perl.org


--
Dear Petrea Corneliu Stefan,

This is a computer-generated report for CM-Permutation-0.94
on perl 5.20.0, created by CPAN-Reporter-1.2011.

Thank you for uploading your work to CPAN.  Congratulations!
All tests were successful.

Sections of this report:

    * Tester comments
    * Program output
    * Prerequisites
    * Environment and other context

------------------------------
TESTER COMMENTS
------------------------------

Additional comments from tester:

none provided

------------------------------
PROGRAM OUTPUT
------------------------------

Output from '/usr/bin/make test':

PERL_DL_NONLAZY=1 /opt/perl-5.20.0-RC1/bin/perl "-MExtUtils::Command::MM" "-MTest::Harness" "-e" "undef *Test::Harness::Switches; test_harness(0, 'blib/lib', 'blib/arch')" t/*.t
given is experimental at lib/CM/Permutation.pm line 501.
when is experimental at lib/CM/Permutation.pm line 502.
when is experimental at lib/CM/Permutation.pm line 503.
when is experimental at lib/CM/Permutation.pm line 504.
Smartmatch is experimental at lib/CM/Group.pm line 190.
t/00_CM-Permutation.t ................. ok
given is experimental at lib/CM/Permutation.pm line 501.
when is experimental at lib/CM/Permutation.pm line 502.
when is experimental at lib/CM/Permutation.pm line 503.
when is experimental at lib/CM/Permutation.pm line 504.
t/01_CM-Permutation-Cycle.t ........... ok
given is experimental at lib/CM/Permutation.pm line 501.
when is experimental at lib/CM/Permutation.pm line 502.
when is experimental at lib/CM/Permutation.pm line 503.
when is experimental at lib/CM/Permutation.pm line 504.
t/02_CM-Cycle_Algorithm.t ............. ok
given is experimental at lib/CM/Permutation.pm line 501.
when is experimental at lib/CM/Permutation.pm line 502.
when is experimental at lib/CM/Permutation.pm line 503.
when is experimental at lib/CM/Permutation.pm line 504.
Smartmatch is experimental at lib/CM/Group.pm line 190.
Smartmatch is experimental at t/03_CM-Group-Sym.t line 82.
Argument "1,1,1" isn't numeric in numeric lt (<) at lib/CM/Group/Sym.pm line 422.
Argument "1,2" isn't numeric in numeric lt (<) at lib/CM/Group/Sym.pm line 422.
Argument "1,3" isn't numeric in numeric lt (<) at lib/CM/Group/Sym.pm line 422.
Argument "1,1,2" isn't numeric in numeric lt (<) at lib/CM/Group/Sym.pm line 422.
Argument "2,2" isn't numeric in numeric lt (<) at lib/CM/Group/Sym.pm line 422.
Argument "1,1,1,1" isn't numeric in numeric lt (<) at lib/CM/Group/Sym.pm line 422.
Argument "1,1,2" isn't numeric in numeric lt (<) at lib/CM/Group/Sym.pm line 422.
Argument "1,1,1,1" isn't numeric in numeric lt (<) at lib/CM/Group/Sym.pm line 422.
Argument "2,2" isn't numeric in numeric lt (<) at lib/CM/Group/Sym.pm line 422.
Argument "1,3" isn't numeric in numeric lt (<) at lib/CM/Group/Sym.pm line 422.
t/03_CM-Group-Sym.t ................... ok
given is experimental at lib/CM/Permutation.pm line 501.
when is experimental at lib/CM/Permutation.pm line 502.
when is experimental at lib/CM/Permutation.pm line 503.
when is experimental at lib/CM/Permutation.pm line 504.
Smartmatch is experimental at lib/CM/Group.pm line 190.
t/04-CM-Group-Altern.t ................ ok
given is experimental at lib/CM/Permutation.pm line 501.
when is experimental at lib/CM/Permutation.pm line 502.
when is experimental at lib/CM/Permutation.pm line 503.
when is experimental at lib/CM/Permutation.pm line 504.
Smartmatch is experimental at lib/CM/Group.pm line 190.
t/05-CM-Group-Dihedral.t .............. ok
given is experimental at lib/CM/Permutation.pm line 501.
when is experimental at lib/CM/Permutation.pm line 502.
when is experimental at lib/CM/Permutation.pm line 503.
when is experimental at lib/CM/Permutation.pm line 504.
t/06-CM-Group-Rubik.t ................. ok
Smartmatch is experimental at lib/CM/Group.pm line 190.
t/07-CM-Group-ModuloMultiplication.t .. ok
t/08-Rubik-Model.t .................... skipped: OpenGL required for testing Rubik::Model
t/09-CM-Tuple.t ....................... ok
given is experimental at lib/CM/Permutation.pm line 501.
when is experimental at lib/CM/Permutation.pm line 502.
when is experimental at lib/CM/Permutation.pm line 503.
when is experimental at lib/CM/Permutation.pm line 504.
Smartmatch is experimental at lib/CM/Group.pm line 190.
t/10-DirectProduct.t .................. ok
given is experimental at lib/CM/Permutation.pm line 501.
when is experimental at lib/CM/Permutation.pm line 502.
when is experimental at lib/CM/Permutation.pm line 503.
when is experimental at lib/CM/Permutation.pm line 504.
Smartmatch is experimental at lib/CM/Group.pm line 190.
t/11-Commutator.t ..................... ok
given is experimental at lib/CM/Permutation.pm line 501.
when is experimental at lib/CM/Permutation.pm line 502.
when is experimental at lib/CM/Permutation.pm line 503.
when is experimental at lib/CM/Permutation.pm line 504.
Smartmatch is experimental at lib/CM/Group.pm line 190.
t/12-Factor.t ......................... ok
given is experimental at lib/CM/Permutation.pm line 501.
when is experimental at lib/CM/Permutation.pm line 502.
when is experimental at lib/CM/Permutation.pm line 503.
when is experimental at lib/CM/Permutation.pm line 504.
Smartmatch is experimental at lib/CM/Group.pm line 190.
t/13-Morphism.t ....................... ok
Smartmatch is experimental at lib/CM/Group.pm line 190.
t/14-CM-Group-ModuloAddition.t ........ ok
t/18-CM-Polynomial-Chebyshev.t ........ ok
Operator or semicolon missing before *CM::Polynomial::Cyclotomic at t/19-CM-Polynomial-Cyclotomic.t line 80.
Ambiguous use of * resolved as operator * at t/19-CM-Polynomial-Cyclotomic.t line 80.
t/19-CM-Polynomial-Cyclotomic.t ....... ok
The plan was already output at /opt/perl-5.20.0-RC1/lib/site_perl/5.20.0/Test/Builder.pm line 2505.
t/20-CM-Polynomial-Irreducible.t ...... ok
Prototype mismatch: sub CM::Polynomial::Discriminant::inner: none vs (;@) at (eval 168) line 8.
t/21-CM-Polynomial-Discriminant.t ..... ok
All tests successful.
Files=19, Tests=219, 10 wallclock secs ( 0.09 usr  0.08 sys +  9.41 cusr  0.86 csys = 10.44 CPU)
Result: PASS

------------------------------
PREREQUISITES
------------------------------

Prerequisite modules loaded:

requires:

    Module                      Need       Have      
    --------------------------- ---------- ----------
    Acme::AsciiArt2HtmlTable    0          0.01      
    Algorithm::Permute          0          0.12      
    Bit::Vector                 7.1        7.3       
    Carp                        0          1.3301    
    Devel::REPL                 1.003009   1.003025  
    GD::SVG                     0.33       0.33      
    GraphViz                    0          2.15      
    List::AllUtils              0.02       0.08      
    Math::BigInt                0          1.9993    
    Math::Complex               1.56       1.59      
    Math::Factor::XS            0.38       0.40      
    Math::Pari                  2.01080605 2.01080607
    Math::Polynomial            1.002      1.006     
    Math::Polynomial::Solve     2.50       2.67      
    Math::Primality             0.04       0.08      
    Math::Prime::XS             0.23       0.26      
    Math::Symbolic              0.606      0.612     
    Moose                       0.92       2.1206    
    MooseX::Role::Parameterized 0.17       1.02      
  ! OpenGL                      0.64       n/a       
    overload                    0          1.22      
    Params::Validate            0.94       1.10      
    PDL                         v2.4.6     2.007     
    Storable                    0          2.49      
    Test::Deep                  0.106      0.112     
    Test::More                  0          1.001003  
    Text::Table                 1.114      1.130     

configure_requires:

    Module                      Need       Have      
    --------------------------- ---------- ----------
    ExtUtils::MakeMaker         6.30       6.98      


------------------------------
ENVIRONMENT AND OTHER CONTEXT
------------------------------

Environment variables:

    DBIC_NO_WARN_BAD_PERL = 1
    LANG = C
    LC_ALL = de_DE.UTF-8
    PATH = /usr/local/bin:/usr/bin:/bin:/usr/local/sbin:/usr/sbin:/sbin:/home/eserte/bin/linux-gnu:/home/eserte/bin/sh:/home/eserte/bin:/usr/games:/home/eserte/devel:/home/eserte/src/srezic-misc/scripts
    PERL5LIB = 
    PERL5OPT = 
    PERL5_CPANPLUS_IS_RUNNING = 21818
    PERL5_CPAN_IS_RUNNING = 21818
    PERL5_CPAN_IS_RUNNING_IN_RECURSION = 5172,21818
    PERLDOC = -MPod::Perldoc::ToTextOverstrike
    PERL_BATCH = yes
    PERL_CPAN_REPORTER_CONFIG = /var/tmp/cpansmoker-1001/TtK19XLQgF_config.ini
    PERL_EXTUTILS_AUTOINSTALL = --defaultdeps
    PERL_HTML_DISPLAY_CLASS = HTML::Display::Mozilla
    PERL_PARALLEL_SMOKER = yes
    SHELL = /bin/zsh
    TERM = screen
    TMPDIR = /var/tmp/cpansmoker-1001

Perl special variables (and OS-specific diagnostics, for MSWin32):

    $^X = /opt/perl-5.20.0-RC1/bin/perl
    $UID/$EUID = 1001 / 1001
    $GID = 1001 109 1001
    $EGID = 1001 109 1001

Perl module toolchain versions installed:

    Module              Have    
    ------------------- --------
    CPAN                2.05    
    CPAN::Meta          2.141170
    Cwd                 3.47    
    ExtUtils::CBuilder  0.280216
    ExtUtils::Command   1.18    
    ExtUtils::Install   1.67    
    ExtUtils::MakeMaker 6.98    
    ExtUtils::Manifest  1.63    
    ExtUtils::ParseXS   3.24    
    File::Spec          3.47    
    JSON                2.90    
    JSON::PP            2.27203 
    Module::Build       0.4205  
    Module::Signature   n/a     
    Parse::CPAN::Meta   1.4414  
    Test::Harness       3.30    
    Test::More          1.001003
    YAML                0.90    
    YAML::Syck          1.27    
    version             0.9908  


--

Summary of my perl5 (revision 5 version 20 subversion 0) configuration:
   
  Platform:
    osname=linux, osvers=3.2.0-4-amd64, archname=x86_64-linux
    uname='linux eserte 3.2.0-4-amd64 #1 smp debian 3.2.57-3 x86_64 gnulinux '
    config_args='-ds -e -Dprefix=/opt/perl-5.20.0-RC1'
    hint=previous, useposix=true, d_sigaction=define
    useithreads=undef, usemultiplicity=undef
    use64bitint=define, use64bitall=define, uselongdouble=undef
    usemymalloc=n, bincompat5005=undef
  Compiler:
    cc='cc', ccflags ='-fwrapv -fno-strict-aliasing -pipe -fstack-protector -I/usr/local/include -D_LARGEFILE_SOURCE -D_FILE_OFFSET_BITS=64',
    optimize='-O2',
    cppflags='-fwrapv -fno-strict-aliasing -pipe -fstack-protector -I/usr/local/include -fwrapv -fno-strict-aliasing -pipe -fstack-protector -I/usr/local/include -D_LARGEFILE_SOURCE -D_FILE_OFFSET_BITS=64'
    ccversion='', gccversion='4.7.2', gccosandvers=''
    intsize=4, longsize=8, ptrsize=8, doublesize=8, byteorder=12345678
    d_longlong=define, longlongsize=8, d_longdbl=define, longdblsize=16
    ivtype='long', ivsize=8, nvtype='double', nvsize=8, Off_t='off_t', lseeksize=8
    alignbytes=8, prototype=define
  Linker and Libraries:
    ld='cc', ldflags =' -fstack-protector -L/usr/local/lib'
    libpth=/usr/local/lib /usr/lib/gcc/x86_64-linux-gnu/4.7/include-fixed /usr/include/x86_64-linux-gnu /usr/lib /lib/x86_64-linux-gnu /lib/../lib /usr/lib/x86_64-linux-gnu /usr/lib/../lib /lib /usr/local/lib /usr/lib/gcc/x86_64-linux-gnu/4.7/include-fixed /usr/include/x86_64-linux-gnu /usr/lib
    libs=-lnsl -ldb -ldl -lm -lcrypt -lutil -lc
    perllibs=-lnsl -ldl -lm -lcrypt -lutil -lc
    libc=libc-2.13.so, so=so, useshrplib=false, libperl=libperl.a
    gnulibc_version='2.13'
  Dynamic Linking:
    dlsrc=dl_dlopen.xs, dlext=so, d_dlsymun=undef, ccdlflags='-Wl,-E'
    cccdlflags='-fPIC', lddlflags='-shared -O2 -L/usr/local/lib -fstack-protector'


Characteristics of this binary (from libperl): 
  Compile-time options: HAS_TIMES PERLIO_LAYERS PERL_DONT_CREATE_GVSV
                        PERL_HASH_FUNC_ONE_AT_A_TIME_HARD PERL_MALLOC_WRAP
                        PERL_NEW_COPY_ON_WRITE PERL_PRESERVE_IVUV
                        USE_64_BIT_ALL USE_64_BIT_INT USE_LARGE_FILES
                        USE_LOCALE USE_LOCALE_COLLATE USE_LOCALE_CTYPE
                        USE_LOCALE_NUMERIC USE_PERLIO USE_PERL_ATOF
  Locally applied patches:
	RC1
  Built under linux
  Compiled at May 17 2014 08:51:28
  %ENV:
    PERL5LIB=""
    PERL5OPT=""
    PERL5_CPANPLUS_IS_RUNNING="21818"
    PERL5_CPAN_IS_RUNNING="21818"
    PERL5_CPAN_IS_RUNNING_IN_RECURSION="5172,21818"
    PERLDOC="-MPod::Perldoc::ToTextOverstrike"
    PERL_BATCH="yes"
    PERL_CPAN_REPORTER_CONFIG="/var/tmp/cpansmoker-1001/TtK19XLQgF_config.ini"
    PERL_EXTUTILS_AUTOINSTALL="--defaultdeps"
    PERL_HTML_DISPLAY_CLASS="HTML::Display::Mozilla"
    PERL_PARALLEL_SMOKER="yes"
  @INC:
    /opt/perl-5.20.0-RC1/lib/site_perl/5.20.0/x86_64-linux
    /opt/perl-5.20.0-RC1/lib/site_perl/5.20.0
    /opt/perl-5.20.0-RC1/lib/5.20.0/x86_64-linux
    /opt/perl-5.20.0-RC1/lib/5.20.0
    .