Report for Params-Validate-Array-0.03

Back
From: metabase:user:838e5b0a-2bb6-1016-a696-43a2537fa0c6
Subject: PASS Params-Validate-Array-0.03 v5.18.1 
Date: 2014-03-17T20:10:26Z

This distribution has been tested as part of the CPAN Testers
project, supporting the Perl programming language.  See
http://wiki.cpantesters.org/ for more information or email
questions to cpan-testers-discuss@perl.org


--
Dear Sam Brain,

This is a computer-generated report for Params-Validate-Array-0.03
on perl 5.18.1, created by CPAN-Reporter-1.2010.

Thank you for uploading your work to CPAN.  Congratulations!
All tests were successful.

Sections of this report:

    * Tester comments
    * Program output
    * Prerequisites
    * Environment and other context

------------------------------
TESTER COMMENTS
------------------------------

Additional comments from tester:

this report is from an automated smoke testing program
and was not reviewed by a human for accuracy

------------------------------
PROGRAM OUTPUT
------------------------------

Output from 'C:\strawberry\perl\bin\perl.exe ./Build test':

t\01-validate-array.t ........ ok
t\01-validate.t .............. ok
t\02-noop-array.t ............ ok
t\02-noop.t .................. ok
t\04-defaults-array.t ........ ok
t\04-defaults.t .............. ok
t\05-noop_default-array.t .... ok
t\05-noop_default.t .......... ok
t\06-options.t ............... ok
t\09-regex-array.t ........... ok
t\09-regex.t ................. ok
t\10-noop_regex-array.t ...... ok
t\10-noop_regex.t ............ ok
t\11-cb.t .................... ok
t\11-cb_array.t .............. ok
t\12-noop_cb-array.t ......... ok
t\12-noop_cb.t ............... ok
t\13-taint.t ................. ok
t\14-no_validate.t ........... ok
t\14-no_validate_array.t ..... ok
t\17-callbacks-array.t ....... ok
t\17-callbacks.t ............. ok
t\18-depends-array.t ......... ok
t\18-depends.t ............... ok
t\19-untaint.t ............... skipped: These tests require Test::Taint 0.02+ to run
t\21-can.t ................... ok
t\22-overload-can-bug.t ...... ok
t\23-readonly.t .............. skipped: Need Readonly::XS and Readonly for this test
t\24-tied.t .................. ok
t\25-undef-regex.t ........... ok
t\26-isa.t ................... ok
t\27-string-as-type.t ........ ok
t\28-readonly-return.t ....... ok
t\29-taint-mode.t ............ skipped: This test is flaky
t\30-hashref-alteration.t .... ok
t\31-incorrect-spelling.t .... skipped: Spec validation is disabled for now
t\32-regex-as-value.t ........ ok
t\33-keep-errsv.t ............ ok
t\34-recursive-validation.t .. ok
t\35-default-xs-bug.t ........ ok
All tests successful.

Test Summary Report
-------------------
t\34-recursive-validation.t (Wstat: 0 Tests: 1 Failed: 0)
  TODO passed:   1
Files=40, Tests=636,  4 wallclock secs ( 0.16 usr +  0.08 sys =  0.23 CPU)
Result: PASS

------------------------------
PREREQUISITES
------------------------------

Prerequisite modules loaded:

requires:

    Module           Need Have  
    ---------------- ---- ------
    Carp             0    1.32  
    Params::Validate 1.07 1.08  
    Test::More       0    0.98  
    version          0    0.9904

configure_requires:

    Module           Need Have  
    ---------------- ---- ------
    Module::Build    0.38 0.4204


------------------------------
ENVIRONMENT AND OTHER CONTEXT
------------------------------

Environment variables:

    AUTOMATED_TESTING = 1
    COMSPEC = C:\Windows\system32\cmd.exe
    LD_LIBRARY_PATH = /usr/lib/x86:/usr/X11R6/lib
    NUMBER_OF_PROCESSORS = 4
    PATH = C:\Windows\system32;C:\Windows;C:\Windows\System32\Wbem;C:\Windows\System32\WindowsPowerShell\v1.0\;C:\RV\BIN;C:\Program Files (x86)\GnuWin32\bin;C:\Windows\System32\Windows System Resource Manager\bin;C:\Windows\SUA\common\;C:\Windows\SUA\usr\lib\;C:\strawberry\c\bin;C:\strawberry\perl\site\bin;C:\strawberry\perl\bin
    PERL5LIB = 
    PERL5OPT = 
    PERL5_CPANPLUS_IS_RUNNING = 11336
    PERL5_CPAN_IS_RUNNING = 11336
    PERL5_CPAN_IS_RUNNING_IN_RECURSION = 5316,11336
    PERL_CR_SMOKER_CURRENT = Params-Validate-Array-0.03
    PERL_EXTUTILS_AUTOINSTALL = --defaultdeps
    PERL_JSON_BACKEND = JSON::XS
    PERL_MM_USE_DEFAULT = 1
    PERL_YAML_BACKEND = YAML
    PROCESSOR_IDENTIFIER = Intel64 Family 6 Model 37 Stepping 1, GenuineIntel
    TEMP = C:\Users\SOLIMA~1\AppData\Local\Temp
    TERM = dumb

Perl special variables (and OS-specific diagnostics, for MSWin32):

    $^X = C:\strawberry\perl\bin\perl.exe
    $UID/$EUID = 0 / 0
    $GID = 0
    $EGID = 0
    Win32::GetOSName = Win2008
    Win32::GetOSVersion = Service Pack 1, 6, 1, 7601, 2, 1, 0, 272, 3
    Win32::FsType = NTFS
    Win32::IsAdminUser = 1

Perl module toolchain versions installed:

    Module              Have    
    ------------------- --------
    CPAN                2.00    
    CPAN::Meta          2.133380
    Cwd                 3.40    
    ExtUtils::CBuilder  0.280212
    ExtUtils::Command   1.18    
    ExtUtils::Install   1.59    
    ExtUtils::MakeMaker 6.86    
    ExtUtils::Manifest  1.63    
    ExtUtils::ParseXS   3.22    
    File::Spec          3.40    
    JSON                2.90    
    JSON::PP            2.27203 
    Module::Build       0.4204  
    Module::Signature   n/a     
    Parse::CPAN::Meta   1.4409  
    Test::Harness       3.30    
    Test::More          0.98    
    YAML                0.84    
    YAML::Syck          n/a     
    version             0.9904  


--

Summary of my perl5 (revision 5 version 18 subversion 1) configuration:
   
  Platform:
    osname=MSWin32, osvers=4.0, archname=MSWin32-x64-multi-thread
    uname='Win32 strawberry-perl 5.18.1.1 #1 Tue Aug 13 17:18:28 2013 x64'
    config_args='undef'
    hint=recommended, useposix=true, d_sigaction=undef
    useithreads=define, usemultiplicity=define
    useperlio=define, d_sfio=undef, uselargefiles=define, usesocks=undef
    use64bitint=define, use64bitall=undef, uselongdouble=undef
    usemymalloc=n, bincompat5005=undef
  Compiler:
    cc='gcc', ccflags =' -s -O2 -DWIN32 -DWIN64 -DCONSERVATIVE  -DPERL_TEXTMODE_SCRIPTS -DPERL_IMPLICIT_CONTEXT -DPERL_IMPLICIT_SYS -DUSE_PERLIO -fno-strict-aliasing -mms-bitfields',
    optimize='-s -O2',
    cppflags='-DWIN32'
    ccversion='', gccversion='4.7.3', gccosandvers=''
    intsize=4, longsize=4, ptrsize=8, doublesize=8, byteorder=12345678
    d_longlong=define, longlongsize=8, d_longdbl=define, longdblsize=12
    ivtype='long long', ivsize=8, nvtype='double', nvsize=8, Off_t='long long', lseeksize=8
    alignbytes=8, prototype=define
  Linker and Libraries:
    ld='g++', ldflags ='-s -L"C:\strawberry\perl\lib\CORE" -L"C:\strawberry\c\lib"'
    libpth=C:\strawberry\c\lib C:\strawberry\c\x86_64-w64-mingw32\lib
    libs=-lmoldname -lkernel32 -luser32 -lgdi32 -lwinspool -lcomdlg32 -ladvapi32 -lshell32 -lole32 -loleaut32 -lnetapi32 -luuid -lws2_32 -lmpr -lwinmm -lversion -lodbc32 -lodbccp32 -lcomctl32
    perllibs=-lmoldname -lkernel32 -luser32 -lgdi32 -lwinspool -lcomdlg32 -ladvapi32 -lshell32 -lole32 -loleaut32 -lnetapi32 -luuid -lws2_32 -lmpr -lwinmm -lversion -lodbc32 -lodbccp32 -lcomctl32
    libc=, so=dll, useshrplib=true, libperl=libperl518.a
    gnulibc_version=''
  Dynamic Linking:
    dlsrc=dl_win32.xs, dlext=dll, d_dlsymun=undef, ccdlflags=' '
    cccdlflags=' ', lddlflags='-mdll -s -L"C:\strawberry\perl\lib\CORE" -L"C:\strawberry\c\lib"'


Characteristics of this binary (from libperl): 
  Compile-time options: HAS_TIMES HAVE_INTERP_INTERN MULTIPLICITY
                        PERLIO_LAYERS PERL_DONT_CREATE_GVSV
                        PERL_HASH_FUNC_ONE_AT_A_TIME_HARD
                        PERL_IMPLICIT_CONTEXT PERL_IMPLICIT_SYS
                        PERL_MALLOC_WRAP PERL_PRESERVE_IVUV PERL_SAWAMPERSAND
                        USE_64_BIT_INT USE_ITHREADS USE_LARGE_FILES
                        USE_LOCALE USE_LOCALE_COLLATE USE_LOCALE_CTYPE
                        USE_LOCALE_NUMERIC USE_PERLIO USE_PERL_ATOF
  Built under MSWin32
  Compiled at Aug 13 2013 17:23:34
  %ENV:
    PERL5_CPANPLUS_IS_RUNNING="11336"
    PERL5_CPAN_IS_RUNNING="11336"
    PERL5_CPAN_IS_RUNNING_IN_RECURSION="5316,11336"
    PERL_CR_SMOKER_CURRENT="Params-Validate-Array-0.03"
    PERL_EXTUTILS_AUTOINSTALL="--defaultdeps"
    PERL_JSON_BACKEND="JSON::XS"
    PERL_MM_USE_DEFAULT="1"
    PERL_YAML_BACKEND="YAML"
  @INC:
    C:/strawberry/perl/site/lib
    C:/strawberry/perl/vendor/lib
    C:/strawberry/perl/lib
    .