SQL-Admin vv0.5.0 Perl 5 v5.41.11 amd64-midnightbsd-thread-multi
- Status
- Pass
- From
- Carlos Guevara
- Dist
-
SQL-Admin vv0.5.0
- Platform
- Perl 5 v5.41.11 amd64-midnightbsd-thread-multi
- Date
- 2025-03-25 19:46:43
- ID
- e0cff99e-09b1-11f0-a2ac-9720feab0a4c
This distribution has been tested as part of the CPAN Testers
project, supporting the Perl programming language. See
http://wiki.cpantesters.org/ for more information or email
questions to cpan-testers-discuss@perl.org
--
Dear Branislav Zahradnik,
This is a computer-generated report for SQL-Admin-v0.5.0
on perl 5.41.11, created by CPAN-Reporter-1.2020.
Thank you for uploading your work to CPAN. Congratulations!
All tests were successful.
Sections of this report:
* Tester comments
* Program output
* Prerequisites
* Environment and other context
------------------------------
TESTER COMMENTS
------------------------------
Additional comments from tester:
this report is from an automated smoke testing program
and was not reviewed by a human for accuracy
------------------------------
PROGRAM OUTPUT
------------------------------
Output from './Build test':
t/00-compile.t ............... ok
t/02-driver-base-evaluate.t .. ok
Prototype mismatch: sub Parse::RecDescent::namespace000001::val ( $ ) vs none at /home/cpan/bin/perl/lib/site_perl/5.41.11/Parse/RecDescent.pm line 2041, <DATA> line 1 during global destruction.
Prototype mismatch: sub Parse::RecDescent::namespace000001::refhash ( ;$ ) vs none at /home/cpan/bin/perl/lib/site_perl/5.41.11/Parse/RecDescent.pm line 2041, <DATA> line 1 during global destruction.
Prototype mismatch: sub Parse::RecDescent::namespace000001::happend ( @ ) vs none at /home/cpan/bin/perl/lib/site_perl/5.41.11/Parse/RecDescent.pm line 2041, <DATA> line 1 during global destruction.
Prototype mismatch: sub Parse::RecDescent::namespace000001::refarray ( ;$ ) vs none at /home/cpan/bin/perl/lib/site_perl/5.41.11/Parse/RecDescent.pm line 2041, <DATA> line 1 during global destruction.
Prototype mismatch: sub Parse::RecDescent::namespace000001::expr_vlist ( @ ) vs none at /home/cpan/bin/perl/lib/site_perl/5.41.11/Parse/RecDescent.pm line 2041, <DATA> line 1 during global destruction.
Prototype mismatch: sub Parse::RecDescent::namespace000001::alias ( @ ) vs none at /home/cpan/bin/perl/lib/site_perl/5.41.11/Parse/RecDescent.pm line 2041, <DATA> line 1 during global destruction.
Prototype mismatch: sub Parse::RecDescent::namespace000001::expr_map ( @ ) vs none at /home/cpan/bin/perl/lib/site_perl/5.41.11/Parse/RecDescent.pm line 2041, <DATA> line 1 during global destruction.
Prototype mismatch: sub Parse::RecDescent::namespace000001::expr ( @ ) vs none at /home/cpan/bin/perl/lib/site_perl/5.41.11/Parse/RecDescent.pm line 2041, <DATA> line 1 during global destruction.
Prototype mismatch: sub Parse::RecDescent::namespace000001::expr_list ( @ ) vs none at /home/cpan/bin/perl/lib/site_perl/5.41.11/Parse/RecDescent.pm line 2041, <DATA> line 1 during global destruction.
Prototype mismatch: sub Parse::RecDescent::namespace000001::reflist ( @ ) vs none at /home/cpan/bin/perl/lib/site_perl/5.41.11/Parse/RecDescent.pm line 2041, <DATA> line 1 during global destruction.
Prototype mismatch: sub Parse::RecDescent::namespace000001::expr_stm ( @ ) vs none at /home/cpan/bin/perl/lib/site_perl/5.41.11/Parse/RecDescent.pm line 2041, <DATA> line 1 during global destruction.
Prototype mismatch: sub Parse::RecDescent::namespace000001::expr_set ( @ ) vs none at /home/cpan/bin/perl/lib/site_perl/5.41.11/Parse/RecDescent.pm line 2041, <DATA> line 1 during global destruction.
Prototype mismatch: sub Parse::RecDescent::namespace000001::href ( ;@ ) vs none at /home/cpan/bin/perl/lib/site_perl/5.41.11/Parse/RecDescent.pm line 2041, <DATA> line 1 during global destruction.
Prototype mismatch: sub Parse::RecDescent::namespace000001::kwset ( @ ) vs none at /home/cpan/bin/perl/lib/site_perl/5.41.11/Parse/RecDescent.pm line 2041, <DATA> line 1 during global destruction.
Prototype mismatch: sub Parse::RecDescent::namespace000001::expr_type ( @ ) vs none at /home/cpan/bin/perl/lib/site_perl/5.41.11/Parse/RecDescent.pm line 2041, <DATA> line 1 during global destruction.
Prototype mismatch: sub Parse::RecDescent::namespace000001::token ( @ ) vs none at /home/cpan/bin/perl/lib/site_perl/5.41.11/Parse/RecDescent.pm line 2041, <DATA> line 1 during global destruction.
Prototype mismatch: sub Parse::RecDescent::namespace000001::literal ( @ ) vs none at /home/cpan/bin/perl/lib/site_perl/5.41.11/Parse/RecDescent.pm line 2041, <DATA> line 1 during global destruction.
Prototype mismatch: sub Parse::RecDescent::namespace000001::type ( @ ) vs none at /home/cpan/bin/perl/lib/site_perl/5.41.11/Parse/RecDescent.pm line 2041, <DATA> line 1 during global destruction.
Prototype mismatch: sub Parse::RecDescent::namespace000001::aexp ( @ ) vs none at /home/cpan/bin/perl/lib/site_perl/5.41.11/Parse/RecDescent.pm line 2041, <DATA> line 1 during global destruction.
Prototype mismatch: sub Parse::RecDescent::namespace000001::hoption ( @ ) vs none at /home/cpan/bin/perl/lib/site_perl/5.41.11/Parse/RecDescent.pm line 2041, <DATA> line 1 during global destruction.
Prototype mismatch: sub Parse::RecDescent::namespace000001::hvlist ( @ ) vs none at /home/cpan/bin/perl/lib/site_perl/5.41.11/Parse/RecDescent.pm line 2041, <DATA> line 1 during global destruction.
Prototype mismatch: sub Parse::RecDescent::namespace000001::expr_key ( @ ) vs none at /home/cpan/bin/perl/lib/site_perl/5.41.11/Parse/RecDescent.pm line 2041, <DATA> line 1 during global destruction.
Prototype mismatch: sub Parse::RecDescent::namespace000001::vlist ( @ ) vs none at /home/cpan/bin/perl/lib/site_perl/5.41.11/Parse/RecDescent.pm line 2041, <DATA> line 1 during global destruction.
t/02-driver-db2-parser.t ..... ok
t/02-driver-db2-producer.t ... ok
Prototype mismatch: sub Parse::RecDescent::namespace000001::hvlist ( @ ) vs none at /home/cpan/bin/perl/lib/site_perl/5.41.11/Parse/RecDescent.pm line 2041, <DATA> line 1 during global destruction.
Prototype mismatch: sub Parse::RecDescent::namespace000001::kwset ( @ ) vs none at /home/cpan/bin/perl/lib/site_perl/5.41.11/Parse/RecDescent.pm line 2041, <DATA> line 1 during global destruction.
Prototype mismatch: sub Parse::RecDescent::namespace000001::hoption ( @ ) vs none at /home/cpan/bin/perl/lib/site_perl/5.41.11/Parse/RecDescent.pm line 2041, <DATA> line 1 during global destruction.
Prototype mismatch: sub Parse::RecDescent::namespace000001::val ( $ ) vs none at /home/cpan/bin/perl/lib/site_perl/5.41.11/Parse/RecDescent.pm line 2041, <DATA> line 1 during global destruction.
Prototype mismatch: sub Parse::RecDescent::namespace000001::expr_set ( @ ) vs none at /home/cpan/bin/perl/lib/site_perl/5.41.11/Parse/RecDescent.pm line 2041, <DATA> line 1 during global destruction.
Prototype mismatch: sub Parse::RecDescent::namespace000001::happend ( @ ) vs none at /home/cpan/bin/perl/lib/site_perl/5.41.11/Parse/RecDescent.pm line 2041, <DATA> line 1 during global destruction.
Prototype mismatch: sub Parse::RecDescent::namespace000001::href ( ;@ ) vs none at /home/cpan/bin/perl/lib/site_perl/5.41.11/Parse/RecDescent.pm line 2041, <DATA> line 1 during global destruction.
Prototype mismatch: sub Parse::RecDescent::namespace000001::refhash ( ;$ ) vs none at /home/cpan/bin/perl/lib/site_perl/5.41.11/Parse/RecDescent.pm line 2041, <DATA> line 1 during global destruction.
Prototype mismatch: sub Parse::RecDescent::namespace000001::reflist ( @ ) vs none at /home/cpan/bin/perl/lib/site_perl/5.41.11/Parse/RecDescent.pm line 2041, <DATA> line 1 during global destruction.
Prototype mismatch: sub Parse::RecDescent::namespace000001::alias ( @ ) vs none at /home/cpan/bin/perl/lib/site_perl/5.41.11/Parse/RecDescent.pm line 2041, <DATA> line 1 during global destruction.
Prototype mismatch: sub Parse::RecDescent::namespace000001::refarray ( ;$ ) vs none at /home/cpan/bin/perl/lib/site_perl/5.41.11/Parse/RecDescent.pm line 2041, <DATA> line 1 during global destruction.
Prototype mismatch: sub Parse::RecDescent::namespace000001::expr_list ( @ ) vs none at /home/cpan/bin/perl/lib/site_perl/5.41.11/Parse/RecDescent.pm line 2041, <DATA> line 1 during global destruction.
Prototype mismatch: sub Parse::RecDescent::namespace000001::expr_key ( @ ) vs none at /home/cpan/bin/perl/lib/site_perl/5.41.11/Parse/RecDescent.pm line 2041, <DATA> line 1 during global destruction.
Prototype mismatch: sub Parse::RecDescent::namespace000001::expr_vlist ( @ ) vs none at /home/cpan/bin/perl/lib/site_perl/5.41.11/Parse/RecDescent.pm line 2041, <DATA> line 1 during global destruction.
Prototype mismatch: sub Parse::RecDescent::namespace000001::expr_stm ( @ ) vs none at /home/cpan/bin/perl/lib/site_perl/5.41.11/Parse/RecDescent.pm line 2041, <DATA> line 1 during global destruction.
Prototype mismatch: sub Parse::RecDescent::namespace000001::token ( @ ) vs none at /home/cpan/bin/perl/lib/site_perl/5.41.11/Parse/RecDescent.pm line 2041, <DATA> line 1 during global destruction.
Prototype mismatch: sub Parse::RecDescent::namespace000001::expr ( @ ) vs none at /home/cpan/bin/perl/lib/site_perl/5.41.11/Parse/RecDescent.pm line 2041, <DATA> line 1 during global destruction.
Prototype mismatch: sub Parse::RecDescent::namespace000001::literal ( @ ) vs none at /home/cpan/bin/perl/lib/site_perl/5.41.11/Parse/RecDescent.pm line 2041, <DATA> line 1 during global destruction.
Prototype mismatch: sub Parse::RecDescent::namespace000001::type ( @ ) vs none at /home/cpan/bin/perl/lib/site_perl/5.41.11/Parse/RecDescent.pm line 2041, <DATA> line 1 during global destruction.
Prototype mismatch: sub Parse::RecDescent::namespace000001::aexp ( @ ) vs none at /home/cpan/bin/perl/lib/site_perl/5.41.11/Parse/RecDescent.pm line 2041, <DATA> line 1 during global destruction.
Prototype mismatch: sub Parse::RecDescent::namespace000001::expr_map ( @ ) vs none at /home/cpan/bin/perl/lib/site_perl/5.41.11/Parse/RecDescent.pm line 2041, <DATA> line 1 during global destruction.
Prototype mismatch: sub Parse::RecDescent::namespace000001::expr_type ( @ ) vs none at /home/cpan/bin/perl/lib/site_perl/5.41.11/Parse/RecDescent.pm line 2041, <DATA> line 1 during global destruction.
Prototype mismatch: sub Parse::RecDescent::namespace000001::vlist ( @ ) vs none at /home/cpan/bin/perl/lib/site_perl/5.41.11/Parse/RecDescent.pm line 2041, <DATA> line 1 during global destruction.
t/02-driver-pg-parser.t ...... ok
All tests successful.
Files=5, Tests=327, 1 wallclock secs ( 0.05 usr 0.04 sys + 1.14 cusr 0.09 csys = 1.32 CPU)
Result: PASS
------------------------------
PREREQUISITES
------------------------------
Prerequisite modules loaded:
requires:
Module Need Have
------------------- ---- --------
Data::Compare 0 1.29
DBI 0 1.647
Getopt::Long 0 2.58
! List::Utils 0 n/a
Module::Load 0 0.36
Parse::RecDescent 0 1.967015
Pod::Usage 0 2.03
SQL::Abstract 0 2.000001
build_requires:
Module Need Have
------------------- ---- --------
Attribute::Handlers 0 1.03
Test::More 0 1.302209
configure_requires:
Module Need Have
------------------- ---- --------
Module::Build 0.36 0.4234
------------------------------
ENVIRONMENT AND OTHER CONTEXT
------------------------------
Environment variables:
AUTOMATED_TESTING = 1
DATE_MANIP_TEST_DM5 = 1
LC_ALL = C
NONINTERACTIVE_TESTING = 1
NO_NETWORK_TESTING = 1
PATH = /home/cpan/bin/perl/bin:/home/cpan/bin:/sbin:/bin:/usr/sbin:/usr/bin:/usr/games:/usr/local/sbin:/usr/local/bin:/home/cpan/bin
PERL5LIB =
PERL5OPT =
PERL5_CPANPLUS_IS_RUNNING = 53485
PERL5_CPAN_IS_RUNNING = 53485
PERL_MM_USE_DEFAULT = 1
PERL_USE_UNSAFE_INC = 1
SHELL = /usr/local/bin/bash
TERM = screen
TMPDIR = /home/cpan/tmp
Perl special variables (and OS-specific diagnostics, for MSWin32):
$^X = /usr/home/cpan/bin/perl/bin/perl5.41.11
$UID/$EUID = 1002 / 1002
$GID = 1002 1002
$EGID = 1002 1002
Perl module toolchain versions installed:
Module Have
------------------- --------
CPAN 2.38
CPAN::Meta 2.150010
Cwd 3.92
ExtUtils::CBuilder 0.280240
ExtUtils::Command 7.72
ExtUtils::Install 2.22
ExtUtils::MakeMaker 7.72
ExtUtils::Manifest 1.75
ExtUtils::ParseXS 3.57
File::Spec 3.93
JSON 4.10
JSON::PP 4.16
Module::Build 0.4234
Module::Signature 0.89
Parse::CPAN::Meta 2.150010
Test2 1.302209
Test::Harness 3.50
Test::More 1.302209
YAML 1.31
YAML::Syck 1.34
version 0.9933
--
Summary of my perl5 (revision 5 version 41 subversion 11) configuration:
Commit id: e5ef137f9116f74315e333518f08c23751271064
Platform:
osname=midnightbsd
osvers=3.2.1
archname=amd64-midnightbsd-thread-multi
uname='midnightbsd cjg-midnightbsd3 3.2.1 midnightbsd 3.2.1 #15n13132-0869ed7092(stable3.2)-dirty: wed nov 6 12:53:25 est 2024 root@m3264:usrobjusrsrcamd64.amd64sysgeneric amd64 '
config_args='-des -Dprefix=/home/cpan/bin/perl -Dscriptdir=/home/cpan/bin/perl/bin -Dusedevel -Duse64bitall -Duseithreads'
hint=recommended
useposix=true
d_sigaction=define
useithreads=define
usemultiplicity=define
use64bitint=define
use64bitall=define
uselongdouble=undef
usemymalloc=n
default_inc_excludes_dot=define
Compiler:
cc='cc'
ccflags ='-DHAS_FPSETMASK -DHAS_FLOATINGPOINT_H -fno-strict-aliasing -pipe -fstack-protector-strong -I/usr/local/include'
optimize='-O'
cppflags='-DHAS_FPSETMASK -DHAS_FLOATINGPOINT_H -fno-strict-aliasing -pipe -fstack-protector-strong -I/usr/local/include'
ccversion=''
gccversion='MidnightBSD Clang 13.0.0 (git@github.com:llvm/llvm-project.git llvmorg-13.0.0-0-gd7b669b3a303)'
gccosandvers=''
intsize=4
longsize=8
ptrsize=8
doublesize=8
byteorder=12345678
doublekind=3
d_longlong=define
longlongsize=8
d_longdbl=define
longdblsize=16
longdblkind=3
ivtype='long'
ivsize=8
nvtype='double'
nvsize=8
Off_t='off_t'
lseeksize=8
alignbytes=8
prototype=define
Linker and Libraries:
ld='cc'
ldflags ='-pthread -Wl,-E -fstack-protector-strong -L/usr/local/lib'
libpth=/usr/lib /usr/local/lib /usr/lib/clang/13.0.0/lib
libs=-lpthread -lgdbm -ldl -lm -lcrypt
perllibs=-lpthread -ldl -lm -lcrypt
libc=
so=so
useshrplib=false
libperl=libperl.a
gnulibc_version=''
Dynamic Linking:
dlsrc=dl_dlopen.xs
dlext=so
d_dlsymun=undef
ccdlflags=' '
cccdlflags='-DPIC -fPIC'
lddlflags='-shared -L/usr/local/lib -fstack-protector-strong'
Characteristics of this binary (from libperl):
Compile-time options:
HAS_LONG_DOUBLE
HAS_STRTOLD
HAS_TIMES
MULTIPLICITY
PERLIO_LAYERS
PERL_COPY_ON_WRITE
PERL_DONT_CREATE_GVSV
PERL_HASH_FUNC_SIPHASH13
PERL_HASH_USE_SBOX32
PERL_MALLOC_WRAP
PERL_OP_PARENT
PERL_PRESERVE_IVUV
PERL_USE_DEVEL
PERL_USE_SAFE_PUTENV
USE_64_BIT_ALL
USE_64_BIT_INT
USE_ITHREADS
USE_LARGE_FILES
USE_LOCALE
USE_LOCALE_COLLATE
USE_LOCALE_CTYPE
USE_LOCALE_NUMERIC
USE_LOCALE_TIME
USE_PERLIO
USE_PERL_ATOF
USE_REENTRANT_API
USE_THREAD_SAFE_LOCALE
Built under midnightbsd
Compiled at Mar 25 2025 12:22:30
%ENV:
PERL5LIB=""
PERL5OPT=""
PERL5_CPANPLUS_IS_RUNNING="53485"
PERL5_CPAN_IS_RUNNING="53485"
PERL_MM_USE_DEFAULT="1"
PERL_USE_UNSAFE_INC="1"
@INC:
/home/cpan/bin/perl/lib/site_perl/5.41.11/amd64-midnightbsd-thread-multi
/home/cpan/bin/perl/lib/site_perl/5.41.11
/home/cpan/bin/perl/lib/5.41.11/amd64-midnightbsd-thread-multi
/home/cpan/bin/perl/lib/5.41.11
.