Set-Associate v0.004001 Perl 5 v5.26.3 MSWin32-x64-multi-thread

Status
Pass
From
LNATION
Dist
Set-Associate v0.004001
Platform
Perl 5 v5.26.3 MSWin32-x64-multi-thread
Date
2025-05-19 18:42:56
ID
e0b0f45f-6e35-1014-a749-dfdcfbf04a63
This distribution has been tested as part of the CPAN Testers
project, supporting the Perl programming language.  See
http://wiki.cpantesters.org/ for more information or email
questions to cpan-testers-discuss@perl.org


--
Dear Kent Fredric (PAUSE Custodial Account),

This is a computer-generated report for Set-Associate-0.004001
on perl 5.26.3, created by CPAN-Reporter-1.2020.

Thank you for uploading your work to CPAN.  Congratulations!
All tests were successful.

Sections of this report:

    * Tester comments
    * Program output
    * Prerequisites
    * Environment and other context

------------------------------
TESTER COMMENTS
------------------------------

Additional comments from tester:

this report is from an automated smoke testing program
and was not reviewed by a human for accuracy

------------------------------
PROGRAM OUTPUT
------------------------------

Output from 'C:\STRAWB~1\c\bin\gmake.exe test':

"C:\Strawberry\perl\bin\perl.exe" "-MExtUtils::Command::MM" "-MTest::Harness" "-e" "undef *Test::Harness::Switches; test_harness(0, 'blib\lib', 'blib\arch')" t/*.t t/00-compile/*.t t/01_assoc/*.t t/02_assoc_new/*.t t/03_assoc_direct/*.t
t/00-compile/lib_Set_Associate_NewKey_HashMD5_pm.t ....... ok
t/00-compile/lib_Set_Associate_NewKey_HashSHA1_pm.t ...... ok
t/00-compile/lib_Set_Associate_NewKey_LinearWrap_pm.t .... ok
t/00-compile/lib_Set_Associate_NewKey_PickOffset_pm.t .... ok
t/00-compile/lib_Set_Associate_NewKey_pm.t ............... ok
t/00-compile/lib_Set_Associate_NewKey_RandomPick_pm.t .... ok
t/00-compile/lib_Set_Associate_pm.t ...................... ok
t/00-compile/lib_Set_Associate_RefillItems_Linear_pm.t ... ok
t/00-compile/lib_Set_Associate_RefillItems_pm.t .......... ok
t/00-compile/lib_Set_Associate_RefillItems_Shuffle_pm.t .. ok
t/00-compile/lib_Set_Associate_Role_NewKey_pm.t .......... ok
t/00-compile/lib_Set_Associate_Role_RefillItems_pm.t ..... ok
t/00-compile/lib_Set_Associate_Utils_pm.t ................ ok
# 
# Versions for all modules listed in MYMETA.json (including optional ones):
# 
# === Configure Requires ===
# 
#     Module              Want Have
#     ------------------- ---- ----
#     ExtUtils::MakeMaker  any 7.74
# 
# === Configure Recommends ===
# 
#     Module              Want Have
#     ------------------- ---- ----
#     ExtUtils::MakeMaker 7.00 7.74
# 
# === Build Requires ===
# 
#     Module              Want Have
#     ------------------- ---- ----
#     ExtUtils::MakeMaker  any 7.74
# 
# === Test Requires ===
# 
#     Module              Want     Have
#     ------------------- ---- --------
#     ExtUtils::MakeMaker  any     7.74
#     File::Spec           any     3.75
#     Test::Fatal          any    0.017
#     Test::More           any 1.302213
# 
# === Test Recommends ===
# 
#     Module                  Want     Have
#     ------------------- -------- --------
#     CPAN::Meta          2.120900 2.150010
#     ExtUtils::MakeMaker     7.00     7.74
#     Test::More              0.99 1.302213
# 
# === Runtime Requires ===
# 
#     Module                      Want   Have
#     --------------------------- ---- ------
#     Carp                         any   1.50
#     Digest::MD5                  any   2.59
#     Digest::SHA1                 any   2.13
#     Exporter                     any   5.73
#     List::Util                   any   1.69
#     Moose                        any 2.2011
#     MooseX::AttributeShortcuts   any  0.037
#     MooseX::Role::Parameterized  any   1.10
#     Scalar::Util                 any   1.69
#     bigint                      0.22   0.51
#     strict                       any   1.11
#     warnings                     any   1.37
# 
# === Runtime Recommends ===
# 
#     Module  Want   Have
#     ------ ----- ------
#     Moose  2.000 2.2011
# 
t/00-report-prereqs.t .................................... ok
Set::Associate::NewKey->linear_wrap should be called as a method at C:\STRAWB~1\cpan\build\Set-Associate-0.004001-0\blib\lib/Set/Associate/NewKey.pm line 74.
t/01_assoc/01_linear.t ................................... ok
Set::Associate::RefillItems->shuffle should be called as a method at C:\STRAWB~1\cpan\build\Set-Associate-0.004001-0\blib\lib/Set/Associate/RefillItems.pm line 128.
t/01_assoc/02_random_shuffle.t ........................... ok
Set::Associate::NewKey->random_pick should be called as a method at C:\STRAWB~1\cpan\build\Set-Associate-0.004001-0\blib\lib/Set/Associate/NewKey.pm line 96.
t/01_assoc/03_random_pick.t .............................. ok
Set::Associate::NewKey->hash_sha1 should be called as a method at C:\STRAWB~1\cpan\build\Set-Associate-0.004001-0\blib\lib/Set/Associate/NewKey.pm line 148.
t/01_assoc/04_hash_sha1.t ................................ ok
Set::Associate::NewKey->hash_md5 should be called as a method at C:\STRAWB~1\cpan\build\Set-Associate-0.004001-0\blib\lib/Set/Associate/NewKey.pm line 172.
t/01_assoc/05_hash_md5.t ................................. ok
t/02_assoc_new/01_linear.t ............................... ok
t/02_assoc_new/02_random_shuffle.t ....................... ok
t/02_assoc_new/03_random_pick.t .......................... ok
t/02_assoc_new/04_hash_sha1.t ............................ ok
t/02_assoc_new/05_hash_md5.t ............................. ok
t/03_assoc_direct/01_linear.t ............................ ok
t/03_assoc_direct/02_random_shuffle.t .................... ok
t/03_assoc_direct/03_random_pick.t ....................... ok
t/03_assoc_direct/04_hash_sha1.t ......................... ok
t/03_assoc_direct/05_hash_md5.t .......................... ok
All tests successful.
Files=29, Tests=187, 19 wallclock secs ( 0.09 usr +  0.14 sys =  0.24 CPU)
Result: PASS

------------------------------
PREREQUISITES
------------------------------

Prerequisite modules loaded:

requires:

    Module                      Need     Have    
    --------------------------- -------- --------
    bigint                      0.22     0.51    
    Carp                        0        1.50    
    Digest::MD5                 0        2.59    
    Digest::SHA1                0        2.13    
    Exporter                    0        5.73    
    List::Util                  0        1.69    
    Moose                       0        2.2011  
    MooseX::AttributeShortcuts  0        0.037   
    MooseX::Role::Parameterized 0        1.10    
    perl                        5.006    5.026003
    Scalar::Util                0        1.69    
    strict                      0        1.11    
    warnings                    0        1.37    

build_requires:

    Module                      Need     Have    
    --------------------------- -------- --------
    ExtUtils::MakeMaker         0        7.74    
    File::Spec                  0        3.75    
    Test::Fatal                 0        0.017   
    Test::More                  0        1.302213

configure_requires:

    Module                      Need     Have    
    --------------------------- -------- --------
    ExtUtils::MakeMaker         0        7.74    
    perl                        5.006    5.026003

opt_requires:

    Module                      Need     Have    
    --------------------------- -------- --------
    Moose                       2.000    2.2011  

opt_build_requires:

    Module                      Need     Have    
    --------------------------- -------- --------
    CPAN::Meta                  2.120900 2.150010
    ExtUtils::MakeMaker         7.00     7.74    
    Test::More                  0.99     1.302213


------------------------------
ENVIRONMENT AND OTHER CONTEXT
------------------------------

Environment variables:

    AUTOMATED_TESTING = 1
    COMSPEC = C:\Windows\system32\cmd.exe
    NUMBER_OF_PROCESSORS = 2
    PATH = C:\Windows\system32;C:\Windows;C:\Windows\System32\Wbem;C:\Windows\System32\WindowsPowerShell\v1.0\;C:\Windows\System32\OpenSSH\;C:\Program Files\Amazon\cfn-bootstrap\;C:\Strawberry\c\bin;C:\Strawberry\perl\site\bin;C:\Strawberry\perl\bin;C:\Users\Administrator\AppData\Local\Microsoft\WindowsApps;C:\Users\Administrator\AppData\Local\Microsoft\WinGet\Links;
    PERL5LIB = 
    PERL5OPT = 
    PERL5_CPANPLUS_IS_RUNNING = 6640
    PERL5_CPAN_IS_RUNNING = 6640
    PERL5_CPAN_IS_RUNNING_IN_RECURSION = 8036,6640
    PERL_CR_SMOKER_CURRENT = Set-Associate-0.004001
    PERL_EXTUTILS_AUTOINSTALL = --defaultdeps
    PERL_MM_USE_DEFAULT = 1
    PERL_USE_UNSAFE_INC = 1
    PROCESSOR_IDENTIFIER = Intel64 Family 6 Model 85 Stepping 7, GenuineIntel
    TEMP = C:\Users\ADMINI~1\AppData\Local\Temp\2

Perl special variables (and OS-specific diagnostics, for MSWin32):

    $^X = C:\Strawberry\perl\bin\perl.exe
    $UID/$EUID = 0 / 0
    $GID = 0
    $EGID = 0
    Win32::GetOSName = Win10
    Win32::GetOSVersion = , 10, 0, 26100, 2, 0, 0, 400, 3
    Win32::FsType = NTFS
    Win32::IsAdminUser = 1

Perl module toolchain versions installed:

    Module              Have    
    ------------------- --------
    CPAN                2.18    
    CPAN::Meta          2.150010
    Cwd                 3.75    
    ExtUtils::CBuilder  0.280236
    ExtUtils::Command   7.74    
    ExtUtils::Install   2.14    
    ExtUtils::MakeMaker 7.74    
    ExtUtils::Manifest  1.75    
    ExtUtils::ParseXS   3.57    
    File::Spec          3.75    
    JSON                4.10    
    JSON::PP            4.16    
    Module::Build       0.4234  
    Module::Signature   n/a     
    Parse::CPAN::Meta   2.150010
    Test2               1.302213
    Test::Harness       3.52    
    Test::More          1.302213
    YAML                1.27    
    YAML::Syck          1.34    
    version             0.9924  


--

Summary of my perl5 (revision 5 version 26 subversion 3) configuration:
   
  Platform:
    osname=MSWin32
    osvers=10.0.17134.407
    archname=MSWin32-x64-multi-thread
    uname='Win32 strawberry-perl 5.26.3.1 #1 Sun Dec  2 22:57:44 2018 x64'
    config_args='undef'
    hint=recommended
    useposix=true
    d_sigaction=undef
    useithreads=define
    usemultiplicity=define
    use64bitint=define
    use64bitall=undef
    uselongdouble=undef
    usemymalloc=n
    default_inc_excludes_dot=define
    bincompat5005=undef
  Compiler:
    cc='gcc'
    ccflags =' -s -O2 -DWIN32 -DWIN64 -DCONSERVATIVE -D__USE_MINGW_ANSI_STDIO -DPERL_TEXTMODE_SCRIPTS -DPERL_IMPLICIT_CONTEXT -DPERL_IMPLICIT_SYS -DUSE_PERLIO -fwrapv -fno-strict-aliasing -mms-bitfields'
    optimize='-s -O2'
    cppflags='-DWIN32'
    ccversion=''
    gccversion='7.1.0'
    gccosandvers=''
    intsize=4
    longsize=4
    ptrsize=8
    doublesize=8
    byteorder=12345678
    doublekind=3
    d_longlong=define
    longlongsize=8
    d_longdbl=define
    longdblsize=16
    longdblkind=3
    ivtype='long long'
    ivsize=8
    nvtype='double'
    nvsize=8
    Off_t='long long'
    lseeksize=8
    alignbytes=8
    prototype=define
  Linker and Libraries:
    ld='g++'
    ldflags ='-s -L"C:\STRAWB~1\perl\lib\CORE" -L"C:\STRAWB~1\c\lib"'
    libpth=C:\STRAWB~1\c\lib C:\STRAWB~1\c\x86_64-w64-mingw32\lib C:\STRAWB~1\c\lib\gcc\x86_64-w64-mingw32\7.1.0
    libs= -lmoldname -lkernel32 -luser32 -lgdi32 -lwinspool -lcomdlg32 -ladvapi32 -lshell32 -lole32 -loleaut32 -lnetapi32 -luuid -lws2_32 -lmpr -lwinmm -lversion -lodbc32 -lodbccp32 -lcomctl32
    perllibs= -lmoldname -lkernel32 -luser32 -lgdi32 -lwinspool -lcomdlg32 -ladvapi32 -lshell32 -lole32 -loleaut32 -lnetapi32 -luuid -lws2_32 -lmpr -lwinmm -lversion -lodbc32 -lodbccp32 -lcomctl32
    libc=
    so=dll
    useshrplib=true
    libperl=libperl526.a
    gnulibc_version=''
  Dynamic Linking:
    dlsrc=dl_win32.xs
    dlext=xs.dll
    d_dlsymun=undef
    ccdlflags=' '
    cccdlflags=' '
    lddlflags='-mdll -s -L"C:\STRAWB~1\perl\lib\CORE" -L"C:\STRAWB~1\c\lib"'


Characteristics of this binary (from libperl): 
  Compile-time options:
    HAS_TIMES
    HAVE_INTERP_INTERN
    MULTIPLICITY
    PERLIO_LAYERS
    PERL_COPY_ON_WRITE
    PERL_DONT_CREATE_GVSV
    PERL_IMPLICIT_CONTEXT
    PERL_IMPLICIT_SYS
    PERL_MALLOC_WRAP
    PERL_OP_PARENT
    PERL_PRESERVE_IVUV
    USE_64_BIT_INT
    USE_ITHREADS
    USE_LARGE_FILES
    USE_LOCALE
    USE_LOCALE_COLLATE
    USE_LOCALE_CTYPE
    USE_LOCALE_NUMERIC
    USE_LOCALE_TIME
    USE_PERLIO
    USE_PERL_ATOF
  Built under MSWin32
  Compiled at Dec  2 2018 23:03:33
  %ENV:
    PERL5_CPANPLUS_IS_RUNNING="6640"
    PERL5_CPAN_IS_RUNNING="6640"
    PERL5_CPAN_IS_RUNNING_IN_RECURSION="8036,6640"
    PERL_CR_SMOKER_CURRENT="Set-Associate-0.004001"
    PERL_EXTUTILS_AUTOINSTALL="--defaultdeps"
    PERL_MM_USE_DEFAULT="1"
    PERL_USE_UNSAFE_INC="1"
  @INC:
    C:/Strawberry/perl/site/lib
    C:/Strawberry/perl/vendor/lib
    C:/Strawberry/perl/lib
    .