Report for SQL-Exec-0.10

Back
From: metabase:user:30ae4450-2aae-11df-837a-5e0a49663a4f
Subject: PASS SQL-Exec-0.10 v5.18.2 
Date: 2014-05-09T22:52:58Z

This distribution has been tested as part of the CPAN Testers
project, supporting the Perl programming language.  See
http://wiki.cpantesters.org/ for more information or email
questions to cpan-testers-discuss@perl.org


--
Dear Mathias Kende,

This is a computer-generated report for SQL-Exec-0.10
on perl 5.18.2, created by CPAN-Reporter-1.2010_01.

Thank you for uploading your work to CPAN.  Congratulations!
All tests were successful.

Sections of this report:

    * Tester comments
    * Program output
    * Prerequisites
    * Environment and other context

------------------------------
TESTER COMMENTS
------------------------------

Additional comments from tester:

this report is from an automated smoke testing program
and was not reviewed by a human for accuracy

------------------------------
PROGRAM OUTPUT
------------------------------

Output from 'C:\strawberry182\c\bin\dmake.exe test':

C:\strawberry182\perl\bin\perl.exe "-MExtUtils::Command::MM" "-MTest::Harness" "-e" "undef *Test::Harness::Switches; test_harness(0, 'blib\lib', 'blib\arch')" t/*.t
given is experimental at C:\strawberry182\cpan\build\SQL-Exec-0.10-2Yrlrv\blib\lib/SQL/Exec.pm line 1218.
when is experimental at C:\strawberry182\cpan\build\SQL-Exec-0.10-2Yrlrv\blib\lib/SQL/Exec.pm line 1219.
when is experimental at C:\strawberry182\cpan\build\SQL-Exec-0.10-2Yrlrv\blib\lib/SQL/Exec.pm line 1220.
when is experimental at C:\strawberry182\cpan\build\SQL-Exec-0.10-2Yrlrv\blib\lib/SQL/Exec.pm line 1221.
when is experimental at C:\strawberry182\cpan\build\SQL-Exec-0.10-2Yrlrv\blib\lib/SQL/Exec.pm line 1222.
when is experimental at C:\strawberry182\cpan\build\SQL-Exec-0.10-2Yrlrv\blib\lib/SQL/Exec.pm line 1227.
when is experimental at C:\strawberry182\cpan\build\SQL-Exec-0.10-2Yrlrv\blib\lib/SQL/Exec.pm line 1228.
when is experimental at C:\strawberry182\cpan\build\SQL-Exec-0.10-2Yrlrv\blib\lib/SQL/Exec.pm line 1233.
when is experimental at C:\strawberry182\cpan\build\SQL-Exec-0.10-2Yrlrv\blib\lib/SQL/Exec.pm line 1238.
when is experimental at C:\strawberry182\cpan\build\SQL-Exec-0.10-2Yrlrv\blib\lib/SQL/Exec.pm line 1239.
when is experimental at C:\strawberry182\cpan\build\SQL-Exec-0.10-2Yrlrv\blib\lib/SQL/Exec.pm line 1240.
when is experimental at C:\strawberry182\cpan\build\SQL-Exec-0.10-2Yrlrv\blib\lib/SQL/Exec.pm line 1241.
when is experimental at C:\strawberry182\cpan\build\SQL-Exec-0.10-2Yrlrv\blib\lib/SQL/Exec.pm line 1242.
when is experimental at C:\strawberry182\cpan\build\SQL-Exec-0.10-2Yrlrv\blib\lib/SQL/Exec.pm line 1243.
given is experimental at C:\strawberry182\cpan\build\Test-Subs-0.08-O9NkT5/blib/lib/Test/Subs.pm line 324.
when is experimental at C:\strawberry182\cpan\build\Test-Subs-0.08-O9NkT5/blib/lib/Test/Subs.pm line 325.
when is experimental at C:\strawberry182\cpan\build\Test-Subs-0.08-O9NkT5/blib/lib/Test/Subs.pm line 329.
when is experimental at C:\strawberry182\cpan\build\Test-Subs-0.08-O9NkT5/blib/lib/Test/Subs.pm line 333.
Smartmatch is experimental at t/bind_params.t line 45.
Smartmatch is experimental at t/bind_params.t line 49.
Smartmatch is experimental at t/bind_params.t line 57.
t/bind_params.t ........ ok
given is experimental at C:\strawberry182\cpan\build\SQL-Exec-0.10-2Yrlrv\blib\lib/SQL/Exec.pm line 1218.
when is experimental at C:\strawberry182\cpan\build\SQL-Exec-0.10-2Yrlrv\blib\lib/SQL/Exec.pm line 1219.
when is experimental at C:\strawberry182\cpan\build\SQL-Exec-0.10-2Yrlrv\blib\lib/SQL/Exec.pm line 1220.
when is experimental at C:\strawberry182\cpan\build\SQL-Exec-0.10-2Yrlrv\blib\lib/SQL/Exec.pm line 1221.
when is experimental at C:\strawberry182\cpan\build\SQL-Exec-0.10-2Yrlrv\blib\lib/SQL/Exec.pm line 1222.
when is experimental at C:\strawberry182\cpan\build\SQL-Exec-0.10-2Yrlrv\blib\lib/SQL/Exec.pm line 1227.
when is experimental at C:\strawberry182\cpan\build\SQL-Exec-0.10-2Yrlrv\blib\lib/SQL/Exec.pm line 1228.
when is experimental at C:\strawberry182\cpan\build\SQL-Exec-0.10-2Yrlrv\blib\lib/SQL/Exec.pm line 1233.
when is experimental at C:\strawberry182\cpan\build\SQL-Exec-0.10-2Yrlrv\blib\lib/SQL/Exec.pm line 1238.
when is experimental at C:\strawberry182\cpan\build\SQL-Exec-0.10-2Yrlrv\blib\lib/SQL/Exec.pm line 1239.
when is experimental at C:\strawberry182\cpan\build\SQL-Exec-0.10-2Yrlrv\blib\lib/SQL/Exec.pm line 1240.
when is experimental at C:\strawberry182\cpan\build\SQL-Exec-0.10-2Yrlrv\blib\lib/SQL/Exec.pm line 1241.
when is experimental at C:\strawberry182\cpan\build\SQL-Exec-0.10-2Yrlrv\blib\lib/SQL/Exec.pm line 1242.
when is experimental at C:\strawberry182\cpan\build\SQL-Exec-0.10-2Yrlrv\blib\lib/SQL/Exec.pm line 1243.
given is experimental at C:\strawberry182\cpan\build\Test-Subs-0.08-O9NkT5/blib/lib/Test/Subs.pm line 324.
when is experimental at C:\strawberry182\cpan\build\Test-Subs-0.08-O9NkT5/blib/lib/Test/Subs.pm line 325.
when is experimental at C:\strawberry182\cpan\build\Test-Subs-0.08-O9NkT5/blib/lib/Test/Subs.pm line 329.
when is experimental at C:\strawberry182\cpan\build\Test-Subs-0.08-O9NkT5/blib/lib/Test/Subs.pm line 333.
t/count.t .............. ok
given is experimental at C:\strawberry182\cpan\build\SQL-Exec-0.10-2Yrlrv\blib\lib/SQL/Exec.pm line 1218.
when is experimental at C:\strawberry182\cpan\build\SQL-Exec-0.10-2Yrlrv\blib\lib/SQL/Exec.pm line 1219.
when is experimental at C:\strawberry182\cpan\build\SQL-Exec-0.10-2Yrlrv\blib\lib/SQL/Exec.pm line 1220.
when is experimental at C:\strawberry182\cpan\build\SQL-Exec-0.10-2Yrlrv\blib\lib/SQL/Exec.pm line 1221.
when is experimental at C:\strawberry182\cpan\build\SQL-Exec-0.10-2Yrlrv\blib\lib/SQL/Exec.pm line 1222.
when is experimental at C:\strawberry182\cpan\build\SQL-Exec-0.10-2Yrlrv\blib\lib/SQL/Exec.pm line 1227.
when is experimental at C:\strawberry182\cpan\build\SQL-Exec-0.10-2Yrlrv\blib\lib/SQL/Exec.pm line 1228.
when is experimental at C:\strawberry182\cpan\build\SQL-Exec-0.10-2Yrlrv\blib\lib/SQL/Exec.pm line 1233.
when is experimental at C:\strawberry182\cpan\build\SQL-Exec-0.10-2Yrlrv\blib\lib/SQL/Exec.pm line 1238.
when is experimental at C:\strawberry182\cpan\build\SQL-Exec-0.10-2Yrlrv\blib\lib/SQL/Exec.pm line 1239.
when is experimental at C:\strawberry182\cpan\build\SQL-Exec-0.10-2Yrlrv\blib\lib/SQL/Exec.pm line 1240.
when is experimental at C:\strawberry182\cpan\build\SQL-Exec-0.10-2Yrlrv\blib\lib/SQL/Exec.pm line 1241.
when is experimental at C:\strawberry182\cpan\build\SQL-Exec-0.10-2Yrlrv\blib\lib/SQL/Exec.pm line 1242.
when is experimental at C:\strawberry182\cpan\build\SQL-Exec-0.10-2Yrlrv\blib\lib/SQL/Exec.pm line 1243.
given is experimental at C:\strawberry182\cpan\build\Test-Subs-0.08-O9NkT5/blib/lib/Test/Subs.pm line 324.
when is experimental at C:\strawberry182\cpan\build\Test-Subs-0.08-O9NkT5/blib/lib/Test/Subs.pm line 325.
when is experimental at C:\strawberry182\cpan\build\Test-Subs-0.08-O9NkT5/blib/lib/Test/Subs.pm line 329.
when is experimental at C:\strawberry182\cpan\build\Test-Subs-0.08-O9NkT5/blib/lib/Test/Subs.pm line 333.
Smartmatch is experimental at t/execute_multiple.t line 22.
Smartmatch is experimental at t/execute_multiple.t line 38.
Smartmatch is experimental at t/execute_multiple.t line 46.
Smartmatch is experimental at t/execute_multiple.t line 54.
t/execute_multiple.t ... ok
given is experimental at C:\strawberry182\cpan\build\SQL-Exec-0.10-2Yrlrv\blib\lib/SQL/Exec.pm line 1218.
when is experimental at C:\strawberry182\cpan\build\SQL-Exec-0.10-2Yrlrv\blib\lib/SQL/Exec.pm line 1219.
when is experimental at C:\strawberry182\cpan\build\SQL-Exec-0.10-2Yrlrv\blib\lib/SQL/Exec.pm line 1220.
when is experimental at C:\strawberry182\cpan\build\SQL-Exec-0.10-2Yrlrv\blib\lib/SQL/Exec.pm line 1221.
when is experimental at C:\strawberry182\cpan\build\SQL-Exec-0.10-2Yrlrv\blib\lib/SQL/Exec.pm line 1222.
when is experimental at C:\strawberry182\cpan\build\SQL-Exec-0.10-2Yrlrv\blib\lib/SQL/Exec.pm line 1227.
when is experimental at C:\strawberry182\cpan\build\SQL-Exec-0.10-2Yrlrv\blib\lib/SQL/Exec.pm line 1228.
when is experimental at C:\strawberry182\cpan\build\SQL-Exec-0.10-2Yrlrv\blib\lib/SQL/Exec.pm line 1233.
when is experimental at C:\strawberry182\cpan\build\SQL-Exec-0.10-2Yrlrv\blib\lib/SQL/Exec.pm line 1238.
when is experimental at C:\strawberry182\cpan\build\SQL-Exec-0.10-2Yrlrv\blib\lib/SQL/Exec.pm line 1239.
when is experimental at C:\strawberry182\cpan\build\SQL-Exec-0.10-2Yrlrv\blib\lib/SQL/Exec.pm line 1240.
when is experimental at C:\strawberry182\cpan\build\SQL-Exec-0.10-2Yrlrv\blib\lib/SQL/Exec.pm line 1241.
when is experimental at C:\strawberry182\cpan\build\SQL-Exec-0.10-2Yrlrv\blib\lib/SQL/Exec.pm line 1242.
when is experimental at C:\strawberry182\cpan\build\SQL-Exec-0.10-2Yrlrv\blib\lib/SQL/Exec.pm line 1243.
given is experimental at C:\strawberry182\cpan\build\Test-Subs-0.08-O9NkT5/blib/lib/Test/Subs.pm line 324.
when is experimental at C:\strawberry182\cpan\build\Test-Subs-0.08-O9NkT5/blib/lib/Test/Subs.pm line 325.
when is experimental at C:\strawberry182\cpan\build\Test-Subs-0.08-O9NkT5/blib/lib/Test/Subs.pm line 329.
when is experimental at C:\strawberry182\cpan\build\Test-Subs-0.08-O9NkT5/blib/lib/Test/Subs.pm line 333.
Smartmatch is experimental at t/execute_split.t line 17.
t/execute_split.t ...... ok
given is experimental at C:\strawberry182\cpan\build\SQL-Exec-0.10-2Yrlrv\blib\lib/SQL/Exec.pm line 1218.
when is experimental at C:\strawberry182\cpan\build\SQL-Exec-0.10-2Yrlrv\blib\lib/SQL/Exec.pm line 1219.
when is experimental at C:\strawberry182\cpan\build\SQL-Exec-0.10-2Yrlrv\blib\lib/SQL/Exec.pm line 1220.
when is experimental at C:\strawberry182\cpan\build\SQL-Exec-0.10-2Yrlrv\blib\lib/SQL/Exec.pm line 1221.
when is experimental at C:\strawberry182\cpan\build\SQL-Exec-0.10-2Yrlrv\blib\lib/SQL/Exec.pm line 1222.
when is experimental at C:\strawberry182\cpan\build\SQL-Exec-0.10-2Yrlrv\blib\lib/SQL/Exec.pm line 1227.
when is experimental at C:\strawberry182\cpan\build\SQL-Exec-0.10-2Yrlrv\blib\lib/SQL/Exec.pm line 1228.
when is experimental at C:\strawberry182\cpan\build\SQL-Exec-0.10-2Yrlrv\blib\lib/SQL/Exec.pm line 1233.
when is experimental at C:\strawberry182\cpan\build\SQL-Exec-0.10-2Yrlrv\blib\lib/SQL/Exec.pm line 1238.
when is experimental at C:\strawberry182\cpan\build\SQL-Exec-0.10-2Yrlrv\blib\lib/SQL/Exec.pm line 1239.
when is experimental at C:\strawberry182\cpan\build\SQL-Exec-0.10-2Yrlrv\blib\lib/SQL/Exec.pm line 1240.
when is experimental at C:\strawberry182\cpan\build\SQL-Exec-0.10-2Yrlrv\blib\lib/SQL/Exec.pm line 1241.
when is experimental at C:\strawberry182\cpan\build\SQL-Exec-0.10-2Yrlrv\blib\lib/SQL/Exec.pm line 1242.
when is experimental at C:\strawberry182\cpan\build\SQL-Exec-0.10-2Yrlrv\blib\lib/SQL/Exec.pm line 1243.
given is experimental at C:\strawberry182\cpan\build\Test-Subs-0.08-O9NkT5/blib/lib/Test/Subs.pm line 324.
when is experimental at C:\strawberry182\cpan\build\Test-Subs-0.08-O9NkT5/blib/lib/Test/Subs.pm line 325.
when is experimental at C:\strawberry182\cpan\build\Test-Subs-0.08-O9NkT5/blib/lib/Test/Subs.pm line 329.
when is experimental at C:\strawberry182\cpan\build\Test-Subs-0.08-O9NkT5/blib/lib/Test/Subs.pm line 333.
Smartmatch is experimental at t/export.t line 19.
Smartmatch is experimental at t/export.t line 23.
t/export.t ............. ok
given is experimental at C:\strawberry182\cpan\build\SQL-Exec-0.10-2Yrlrv\blib\lib/SQL/Exec.pm line 1218.
when is experimental at C:\strawberry182\cpan\build\SQL-Exec-0.10-2Yrlrv\blib\lib/SQL/Exec.pm line 1219.
when is experimental at C:\strawberry182\cpan\build\SQL-Exec-0.10-2Yrlrv\blib\lib/SQL/Exec.pm line 1220.
when is experimental at C:\strawberry182\cpan\build\SQL-Exec-0.10-2Yrlrv\blib\lib/SQL/Exec.pm line 1221.
when is experimental at C:\strawberry182\cpan\build\SQL-Exec-0.10-2Yrlrv\blib\lib/SQL/Exec.pm line 1222.
when is experimental at C:\strawberry182\cpan\build\SQL-Exec-0.10-2Yrlrv\blib\lib/SQL/Exec.pm line 1227.
when is experimental at C:\strawberry182\cpan\build\SQL-Exec-0.10-2Yrlrv\blib\lib/SQL/Exec.pm line 1228.
when is experimental at C:\strawberry182\cpan\build\SQL-Exec-0.10-2Yrlrv\blib\lib/SQL/Exec.pm line 1233.
when is experimental at C:\strawberry182\cpan\build\SQL-Exec-0.10-2Yrlrv\blib\lib/SQL/Exec.pm line 1238.
when is experimental at C:\strawberry182\cpan\build\SQL-Exec-0.10-2Yrlrv\blib\lib/SQL/Exec.pm line 1239.
when is experimental at C:\strawberry182\cpan\build\SQL-Exec-0.10-2Yrlrv\blib\lib/SQL/Exec.pm line 1240.
when is experimental at C:\strawberry182\cpan\build\SQL-Exec-0.10-2Yrlrv\blib\lib/SQL/Exec.pm line 1241.
when is experimental at C:\strawberry182\cpan\build\SQL-Exec-0.10-2Yrlrv\blib\lib/SQL/Exec.pm line 1242.
when is experimental at C:\strawberry182\cpan\build\SQL-Exec-0.10-2Yrlrv\blib\lib/SQL/Exec.pm line 1243.
given is experimental at C:\strawberry182\cpan\build\Test-Subs-0.08-O9NkT5/blib/lib/Test/Subs.pm line 324.
when is experimental at C:\strawberry182\cpan\build\Test-Subs-0.08-O9NkT5/blib/lib/Test/Subs.pm line 325.
when is experimental at C:\strawberry182\cpan\build\Test-Subs-0.08-O9NkT5/blib/lib/Test/Subs.pm line 329.
when is experimental at C:\strawberry182\cpan\build\Test-Subs-0.08-O9NkT5/blib/lib/Test/Subs.pm line 333.
Smartmatch is experimental at t/file.t line 28.
t/file.t ............... ok
given is experimental at C:\strawberry182\cpan\build\SQL-Exec-0.10-2Yrlrv\blib\lib/SQL/Exec.pm line 1218.
when is experimental at C:\strawberry182\cpan\build\SQL-Exec-0.10-2Yrlrv\blib\lib/SQL/Exec.pm line 1219.
when is experimental at C:\strawberry182\cpan\build\SQL-Exec-0.10-2Yrlrv\blib\lib/SQL/Exec.pm line 1220.
when is experimental at C:\strawberry182\cpan\build\SQL-Exec-0.10-2Yrlrv\blib\lib/SQL/Exec.pm line 1221.
when is experimental at C:\strawberry182\cpan\build\SQL-Exec-0.10-2Yrlrv\blib\lib/SQL/Exec.pm line 1222.
when is experimental at C:\strawberry182\cpan\build\SQL-Exec-0.10-2Yrlrv\blib\lib/SQL/Exec.pm line 1227.
when is experimental at C:\strawberry182\cpan\build\SQL-Exec-0.10-2Yrlrv\blib\lib/SQL/Exec.pm line 1228.
when is experimental at C:\strawberry182\cpan\build\SQL-Exec-0.10-2Yrlrv\blib\lib/SQL/Exec.pm line 1233.
when is experimental at C:\strawberry182\cpan\build\SQL-Exec-0.10-2Yrlrv\blib\lib/SQL/Exec.pm line 1238.
when is experimental at C:\strawberry182\cpan\build\SQL-Exec-0.10-2Yrlrv\blib\lib/SQL/Exec.pm line 1239.
when is experimental at C:\strawberry182\cpan\build\SQL-Exec-0.10-2Yrlrv\blib\lib/SQL/Exec.pm line 1240.
when is experimental at C:\strawberry182\cpan\build\SQL-Exec-0.10-2Yrlrv\blib\lib/SQL/Exec.pm line 1241.
when is experimental at C:\strawberry182\cpan\build\SQL-Exec-0.10-2Yrlrv\blib\lib/SQL/Exec.pm line 1242.
when is experimental at C:\strawberry182\cpan\build\SQL-Exec-0.10-2Yrlrv\blib\lib/SQL/Exec.pm line 1243.
given is experimental at C:\strawberry182\cpan\build\Test-Subs-0.08-O9NkT5/blib/lib/Test/Subs.pm line 324.
when is experimental at C:\strawberry182\cpan\build\Test-Subs-0.08-O9NkT5/blib/lib/Test/Subs.pm line 325.
when is experimental at C:\strawberry182\cpan\build\Test-Subs-0.08-O9NkT5/blib/lib/Test/Subs.pm line 329.
when is experimental at C:\strawberry182\cpan\build\Test-Subs-0.08-O9NkT5/blib/lib/Test/Subs.pm line 333.
Smartmatch is experimental at t/get_columns.t line 16.
Smartmatch is experimental at t/get_columns.t line 20.
Smartmatch is experimental at t/get_columns.t line 24.
Smartmatch is experimental at t/get_columns.t line 28.
Smartmatch is experimental at t/get_columns.t line 32.
Smartmatch is experimental at t/get_columns.t line 36.
Smartmatch is experimental at t/get_columns.t line 48.
Smartmatch is experimental at t/get_columns.t line 52.
Smartmatch is experimental at t/get_columns.t line 56.
Smartmatch is experimental at t/get_columns.t line 60.
Smartmatch is experimental at t/get_columns.t line 64.
Smartmatch is experimental at t/get_columns.t line 68.
t/get_columns.t ........ ok
given is experimental at C:\strawberry182\cpan\build\SQL-Exec-0.10-2Yrlrv\blib\lib/SQL/Exec.pm line 1218.
when is experimental at C:\strawberry182\cpan\build\SQL-Exec-0.10-2Yrlrv\blib\lib/SQL/Exec.pm line 1219.
when is experimental at C:\strawberry182\cpan\build\SQL-Exec-0.10-2Yrlrv\blib\lib/SQL/Exec.pm line 1220.
when is experimental at C:\strawberry182\cpan\build\SQL-Exec-0.10-2Yrlrv\blib\lib/SQL/Exec.pm line 1221.
when is experimental at C:\strawberry182\cpan\build\SQL-Exec-0.10-2Yrlrv\blib\lib/SQL/Exec.pm line 1222.
when is experimental at C:\strawberry182\cpan\build\SQL-Exec-0.10-2Yrlrv\blib\lib/SQL/Exec.pm line 1227.
when is experimental at C:\strawberry182\cpan\build\SQL-Exec-0.10-2Yrlrv\blib\lib/SQL/Exec.pm line 1228.
when is experimental at C:\strawberry182\cpan\build\SQL-Exec-0.10-2Yrlrv\blib\lib/SQL/Exec.pm line 1233.
when is experimental at C:\strawberry182\cpan\build\SQL-Exec-0.10-2Yrlrv\blib\lib/SQL/Exec.pm line 1238.
when is experimental at C:\strawberry182\cpan\build\SQL-Exec-0.10-2Yrlrv\blib\lib/SQL/Exec.pm line 1239.
when is experimental at C:\strawberry182\cpan\build\SQL-Exec-0.10-2Yrlrv\blib\lib/SQL/Exec.pm line 1240.
when is experimental at C:\strawberry182\cpan\build\SQL-Exec-0.10-2Yrlrv\blib\lib/SQL/Exec.pm line 1241.
when is experimental at C:\strawberry182\cpan\build\SQL-Exec-0.10-2Yrlrv\blib\lib/SQL/Exec.pm line 1242.
when is experimental at C:\strawberry182\cpan\build\SQL-Exec-0.10-2Yrlrv\blib\lib/SQL/Exec.pm line 1243.
given is experimental at C:\strawberry182\cpan\build\Test-Subs-0.08-O9NkT5/blib/lib/Test/Subs.pm line 324.
when is experimental at C:\strawberry182\cpan\build\Test-Subs-0.08-O9NkT5/blib/lib/Test/Subs.pm line 325.
when is experimental at C:\strawberry182\cpan\build\Test-Subs-0.08-O9NkT5/blib/lib/Test/Subs.pm line 329.
when is experimental at C:\strawberry182\cpan\build\Test-Subs-0.08-O9NkT5/blib/lib/Test/Subs.pm line 333.
t/multi_handle.t ....... ok
given is experimental at C:\strawberry182\cpan\build\SQL-Exec-0.10-2Yrlrv\blib\lib/SQL/Exec.pm line 1218.
when is experimental at C:\strawberry182\cpan\build\SQL-Exec-0.10-2Yrlrv\blib\lib/SQL/Exec.pm line 1219.
when is experimental at C:\strawberry182\cpan\build\SQL-Exec-0.10-2Yrlrv\blib\lib/SQL/Exec.pm line 1220.
when is experimental at C:\strawberry182\cpan\build\SQL-Exec-0.10-2Yrlrv\blib\lib/SQL/Exec.pm line 1221.
when is experimental at C:\strawberry182\cpan\build\SQL-Exec-0.10-2Yrlrv\blib\lib/SQL/Exec.pm line 1222.
when is experimental at C:\strawberry182\cpan\build\SQL-Exec-0.10-2Yrlrv\blib\lib/SQL/Exec.pm line 1227.
when is experimental at C:\strawberry182\cpan\build\SQL-Exec-0.10-2Yrlrv\blib\lib/SQL/Exec.pm line 1228.
when is experimental at C:\strawberry182\cpan\build\SQL-Exec-0.10-2Yrlrv\blib\lib/SQL/Exec.pm line 1233.
when is experimental at C:\strawberry182\cpan\build\SQL-Exec-0.10-2Yrlrv\blib\lib/SQL/Exec.pm line 1238.
when is experimental at C:\strawberry182\cpan\build\SQL-Exec-0.10-2Yrlrv\blib\lib/SQL/Exec.pm line 1239.
when is experimental at C:\strawberry182\cpan\build\SQL-Exec-0.10-2Yrlrv\blib\lib/SQL/Exec.pm line 1240.
when is experimental at C:\strawberry182\cpan\build\SQL-Exec-0.10-2Yrlrv\blib\lib/SQL/Exec.pm line 1241.
when is experimental at C:\strawberry182\cpan\build\SQL-Exec-0.10-2Yrlrv\blib\lib/SQL/Exec.pm line 1242.
when is experimental at C:\strawberry182\cpan\build\SQL-Exec-0.10-2Yrlrv\blib\lib/SQL/Exec.pm line 1243.
given is experimental at C:\strawberry182\cpan\build\Test-Subs-0.08-O9NkT5/blib/lib/Test/Subs.pm line 324.
when is experimental at C:\strawberry182\cpan\build\Test-Subs-0.08-O9NkT5/blib/lib/Test/Subs.pm line 325.
when is experimental at C:\strawberry182\cpan\build\Test-Subs-0.08-O9NkT5/blib/lib/Test/Subs.pm line 329.
when is experimental at C:\strawberry182\cpan\build\Test-Subs-0.08-O9NkT5/blib/lib/Test/Subs.pm line 333.
t/query_hashes.t ....... ok
given is experimental at C:\strawberry182\cpan\build\SQL-Exec-0.10-2Yrlrv\blib\lib/SQL/Exec.pm line 1218.
when is experimental at C:\strawberry182\cpan\build\SQL-Exec-0.10-2Yrlrv\blib\lib/SQL/Exec.pm line 1219.
when is experimental at C:\strawberry182\cpan\build\SQL-Exec-0.10-2Yrlrv\blib\lib/SQL/Exec.pm line 1220.
when is experimental at C:\strawberry182\cpan\build\SQL-Exec-0.10-2Yrlrv\blib\lib/SQL/Exec.pm line 1221.
when is experimental at C:\strawberry182\cpan\build\SQL-Exec-0.10-2Yrlrv\blib\lib/SQL/Exec.pm line 1222.
when is experimental at C:\strawberry182\cpan\build\SQL-Exec-0.10-2Yrlrv\blib\lib/SQL/Exec.pm line 1227.
when is experimental at C:\strawberry182\cpan\build\SQL-Exec-0.10-2Yrlrv\blib\lib/SQL/Exec.pm line 1228.
when is experimental at C:\strawberry182\cpan\build\SQL-Exec-0.10-2Yrlrv\blib\lib/SQL/Exec.pm line 1233.
when is experimental at C:\strawberry182\cpan\build\SQL-Exec-0.10-2Yrlrv\blib\lib/SQL/Exec.pm line 1238.
when is experimental at C:\strawberry182\cpan\build\SQL-Exec-0.10-2Yrlrv\blib\lib/SQL/Exec.pm line 1239.
when is experimental at C:\strawberry182\cpan\build\SQL-Exec-0.10-2Yrlrv\blib\lib/SQL/Exec.pm line 1240.
when is experimental at C:\strawberry182\cpan\build\SQL-Exec-0.10-2Yrlrv\blib\lib/SQL/Exec.pm line 1241.
when is experimental at C:\strawberry182\cpan\build\SQL-Exec-0.10-2Yrlrv\blib\lib/SQL/Exec.pm line 1242.
when is experimental at C:\strawberry182\cpan\build\SQL-Exec-0.10-2Yrlrv\blib\lib/SQL/Exec.pm line 1243.
given is experimental at C:\strawberry182\cpan\build\Test-Subs-0.08-O9NkT5/blib/lib/Test/Subs.pm line 324.
when is experimental at C:\strawberry182\cpan\build\Test-Subs-0.08-O9NkT5/blib/lib/Test/Subs.pm line 325.
when is experimental at C:\strawberry182\cpan\build\Test-Subs-0.08-O9NkT5/blib/lib/Test/Subs.pm line 329.
when is experimental at C:\strawberry182\cpan\build\Test-Subs-0.08-O9NkT5/blib/lib/Test/Subs.pm line 333.
Smartmatch is experimental at t/query_info.t line 14.
Smartmatch is experimental at t/query_info.t line 37.
Smartmatch is experimental at t/query_info.t line 41.
t/query_info.t ......... ok
given is experimental at C:\strawberry182\cpan\build\SQL-Exec-0.10-2Yrlrv\blib\lib/SQL/Exec.pm line 1218.
when is experimental at C:\strawberry182\cpan\build\SQL-Exec-0.10-2Yrlrv\blib\lib/SQL/Exec.pm line 1219.
when is experimental at C:\strawberry182\cpan\build\SQL-Exec-0.10-2Yrlrv\blib\lib/SQL/Exec.pm line 1220.
when is experimental at C:\strawberry182\cpan\build\SQL-Exec-0.10-2Yrlrv\blib\lib/SQL/Exec.pm line 1221.
when is experimental at C:\strawberry182\cpan\build\SQL-Exec-0.10-2Yrlrv\blib\lib/SQL/Exec.pm line 1222.
when is experimental at C:\strawberry182\cpan\build\SQL-Exec-0.10-2Yrlrv\blib\lib/SQL/Exec.pm line 1227.
when is experimental at C:\strawberry182\cpan\build\SQL-Exec-0.10-2Yrlrv\blib\lib/SQL/Exec.pm line 1228.
when is experimental at C:\strawberry182\cpan\build\SQL-Exec-0.10-2Yrlrv\blib\lib/SQL/Exec.pm line 1233.
when is experimental at C:\strawberry182\cpan\build\SQL-Exec-0.10-2Yrlrv\blib\lib/SQL/Exec.pm line 1238.
when is experimental at C:\strawberry182\cpan\build\SQL-Exec-0.10-2Yrlrv\blib\lib/SQL/Exec.pm line 1239.
when is experimental at C:\strawberry182\cpan\build\SQL-Exec-0.10-2Yrlrv\blib\lib/SQL/Exec.pm line 1240.
when is experimental at C:\strawberry182\cpan\build\SQL-Exec-0.10-2Yrlrv\blib\lib/SQL/Exec.pm line 1241.
when is experimental at C:\strawberry182\cpan\build\SQL-Exec-0.10-2Yrlrv\blib\lib/SQL/Exec.pm line 1242.
when is experimental at C:\strawberry182\cpan\build\SQL-Exec-0.10-2Yrlrv\blib\lib/SQL/Exec.pm line 1243.
given is experimental at C:\strawberry182\cpan\build\Test-Subs-0.08-O9NkT5/blib/lib/Test/Subs.pm line 324.
when is experimental at C:\strawberry182\cpan\build\Test-Subs-0.08-O9NkT5/blib/lib/Test/Subs.pm line 325.
when is experimental at C:\strawberry182\cpan\build\Test-Subs-0.08-O9NkT5/blib/lib/Test/Subs.pm line 329.
when is experimental at C:\strawberry182\cpan\build\Test-Subs-0.08-O9NkT5/blib/lib/Test/Subs.pm line 333.
t/replace.t ............ ok
given is experimental at C:\strawberry182\cpan\build\SQL-Exec-0.10-2Yrlrv\blib\lib/SQL/Exec.pm line 1218.
when is experimental at C:\strawberry182\cpan\build\SQL-Exec-0.10-2Yrlrv\blib\lib/SQL/Exec.pm line 1219.
when is experimental at C:\strawberry182\cpan\build\SQL-Exec-0.10-2Yrlrv\blib\lib/SQL/Exec.pm line 1220.
when is experimental at C:\strawberry182\cpan\build\SQL-Exec-0.10-2Yrlrv\blib\lib/SQL/Exec.pm line 1221.
when is experimental at C:\strawberry182\cpan\build\SQL-Exec-0.10-2Yrlrv\blib\lib/SQL/Exec.pm line 1222.
when is experimental at C:\strawberry182\cpan\build\SQL-Exec-0.10-2Yrlrv\blib\lib/SQL/Exec.pm line 1227.
when is experimental at C:\strawberry182\cpan\build\SQL-Exec-0.10-2Yrlrv\blib\lib/SQL/Exec.pm line 1228.
when is experimental at C:\strawberry182\cpan\build\SQL-Exec-0.10-2Yrlrv\blib\lib/SQL/Exec.pm line 1233.
when is experimental at C:\strawberry182\cpan\build\SQL-Exec-0.10-2Yrlrv\blib\lib/SQL/Exec.pm line 1238.
when is experimental at C:\strawberry182\cpan\build\SQL-Exec-0.10-2Yrlrv\blib\lib/SQL/Exec.pm line 1239.
when is experimental at C:\strawberry182\cpan\build\SQL-Exec-0.10-2Yrlrv\blib\lib/SQL/Exec.pm line 1240.
when is experimental at C:\strawberry182\cpan\build\SQL-Exec-0.10-2Yrlrv\blib\lib/SQL/Exec.pm line 1241.
when is experimental at C:\strawberry182\cpan\build\SQL-Exec-0.10-2Yrlrv\blib\lib/SQL/Exec.pm line 1242.
when is experimental at C:\strawberry182\cpan\build\SQL-Exec-0.10-2Yrlrv\blib\lib/SQL/Exec.pm line 1243.
given is experimental at C:\strawberry182\cpan\build\Test-Subs-0.08-O9NkT5/blib/lib/Test/Subs.pm line 324.
when is experimental at C:\strawberry182\cpan\build\Test-Subs-0.08-O9NkT5/blib/lib/Test/Subs.pm line 325.
when is experimental at C:\strawberry182\cpan\build\Test-Subs-0.08-O9NkT5/blib/lib/Test/Subs.pm line 329.
when is experimental at C:\strawberry182\cpan\build\Test-Subs-0.08-O9NkT5/blib/lib/Test/Subs.pm line 333.
Smartmatch is experimental at t/simple.t line 19.
Smartmatch is experimental at t/simple.t line 23.
t/simple.t ............. ok
given is experimental at C:\strawberry182\cpan\build\SQL-Exec-0.10-2Yrlrv\blib\lib/SQL/Exec.pm line 1218.
when is experimental at C:\strawberry182\cpan\build\SQL-Exec-0.10-2Yrlrv\blib\lib/SQL/Exec.pm line 1219.
when is experimental at C:\strawberry182\cpan\build\SQL-Exec-0.10-2Yrlrv\blib\lib/SQL/Exec.pm line 1220.
when is experimental at C:\strawberry182\cpan\build\SQL-Exec-0.10-2Yrlrv\blib\lib/SQL/Exec.pm line 1221.
when is experimental at C:\strawberry182\cpan\build\SQL-Exec-0.10-2Yrlrv\blib\lib/SQL/Exec.pm line 1222.
when is experimental at C:\strawberry182\cpan\build\SQL-Exec-0.10-2Yrlrv\blib\lib/SQL/Exec.pm line 1227.
when is experimental at C:\strawberry182\cpan\build\SQL-Exec-0.10-2Yrlrv\blib\lib/SQL/Exec.pm line 1228.
when is experimental at C:\strawberry182\cpan\build\SQL-Exec-0.10-2Yrlrv\blib\lib/SQL/Exec.pm line 1233.
when is experimental at C:\strawberry182\cpan\build\SQL-Exec-0.10-2Yrlrv\blib\lib/SQL/Exec.pm line 1238.
when is experimental at C:\strawberry182\cpan\build\SQL-Exec-0.10-2Yrlrv\blib\lib/SQL/Exec.pm line 1239.
when is experimental at C:\strawberry182\cpan\build\SQL-Exec-0.10-2Yrlrv\blib\lib/SQL/Exec.pm line 1240.
when is experimental at C:\strawberry182\cpan\build\SQL-Exec-0.10-2Yrlrv\blib\lib/SQL/Exec.pm line 1241.
when is experimental at C:\strawberry182\cpan\build\SQL-Exec-0.10-2Yrlrv\blib\lib/SQL/Exec.pm line 1242.
when is experimental at C:\strawberry182\cpan\build\SQL-Exec-0.10-2Yrlrv\blib\lib/SQL/Exec.pm line 1243.
given is experimental at C:\strawberry182\cpan\build\Test-Subs-0.08-O9NkT5/blib/lib/Test/Subs.pm line 324.
when is experimental at C:\strawberry182\cpan\build\Test-Subs-0.08-O9NkT5/blib/lib/Test/Subs.pm line 325.
when is experimental at C:\strawberry182\cpan\build\Test-Subs-0.08-O9NkT5/blib/lib/Test/Subs.pm line 329.
when is experimental at C:\strawberry182\cpan\build\Test-Subs-0.08-O9NkT5/blib/lib/Test/Subs.pm line 333.
t/sqlite.t ............. ok
given is experimental at C:\strawberry182\cpan\build\SQL-Exec-0.10-2Yrlrv\blib\lib/SQL/Exec.pm line 1218.
when is experimental at C:\strawberry182\cpan\build\SQL-Exec-0.10-2Yrlrv\blib\lib/SQL/Exec.pm line 1219.
when is experimental at C:\strawberry182\cpan\build\SQL-Exec-0.10-2Yrlrv\blib\lib/SQL/Exec.pm line 1220.
when is experimental at C:\strawberry182\cpan\build\SQL-Exec-0.10-2Yrlrv\blib\lib/SQL/Exec.pm line 1221.
when is experimental at C:\strawberry182\cpan\build\SQL-Exec-0.10-2Yrlrv\blib\lib/SQL/Exec.pm line 1222.
when is experimental at C:\strawberry182\cpan\build\SQL-Exec-0.10-2Yrlrv\blib\lib/SQL/Exec.pm line 1227.
when is experimental at C:\strawberry182\cpan\build\SQL-Exec-0.10-2Yrlrv\blib\lib/SQL/Exec.pm line 1228.
when is experimental at C:\strawberry182\cpan\build\SQL-Exec-0.10-2Yrlrv\blib\lib/SQL/Exec.pm line 1233.
when is experimental at C:\strawberry182\cpan\build\SQL-Exec-0.10-2Yrlrv\blib\lib/SQL/Exec.pm line 1238.
when is experimental at C:\strawberry182\cpan\build\SQL-Exec-0.10-2Yrlrv\blib\lib/SQL/Exec.pm line 1239.
when is experimental at C:\strawberry182\cpan\build\SQL-Exec-0.10-2Yrlrv\blib\lib/SQL/Exec.pm line 1240.
when is experimental at C:\strawberry182\cpan\build\SQL-Exec-0.10-2Yrlrv\blib\lib/SQL/Exec.pm line 1241.
when is experimental at C:\strawberry182\cpan\build\SQL-Exec-0.10-2Yrlrv\blib\lib/SQL/Exec.pm line 1242.
when is experimental at C:\strawberry182\cpan\build\SQL-Exec-0.10-2Yrlrv\blib\lib/SQL/Exec.pm line 1243.
given is experimental at C:\strawberry182\cpan\build\Test-Subs-0.08-O9NkT5/blib/lib/Test/Subs.pm line 324.
when is experimental at C:\strawberry182\cpan\build\Test-Subs-0.08-O9NkT5/blib/lib/Test/Subs.pm line 325.
when is experimental at C:\strawberry182\cpan\build\Test-Subs-0.08-O9NkT5/blib/lib/Test/Subs.pm line 329.
when is experimental at C:\strawberry182\cpan\build\Test-Subs-0.08-O9NkT5/blib/lib/Test/Subs.pm line 333.
t/statements_simple.t .. ok
given is experimental at C:\strawberry182\cpan\build\SQL-Exec-0.10-2Yrlrv\blib\lib/SQL/Exec.pm line 1218.
when is experimental at C:\strawberry182\cpan\build\SQL-Exec-0.10-2Yrlrv\blib\lib/SQL/Exec.pm line 1219.
when is experimental at C:\strawberry182\cpan\build\SQL-Exec-0.10-2Yrlrv\blib\lib/SQL/Exec.pm line 1220.
when is experimental at C:\strawberry182\cpan\build\SQL-Exec-0.10-2Yrlrv\blib\lib/SQL/Exec.pm line 1221.
when is experimental at C:\strawberry182\cpan\build\SQL-Exec-0.10-2Yrlrv\blib\lib/SQL/Exec.pm line 1222.
when is experimental at C:\strawberry182\cpan\build\SQL-Exec-0.10-2Yrlrv\blib\lib/SQL/Exec.pm line 1227.
when is experimental at C:\strawberry182\cpan\build\SQL-Exec-0.10-2Yrlrv\blib\lib/SQL/Exec.pm line 1228.
when is experimental at C:\strawberry182\cpan\build\SQL-Exec-0.10-2Yrlrv\blib\lib/SQL/Exec.pm line 1233.
when is experimental at C:\strawberry182\cpan\build\SQL-Exec-0.10-2Yrlrv\blib\lib/SQL/Exec.pm line 1238.
when is experimental at C:\strawberry182\cpan\build\SQL-Exec-0.10-2Yrlrv\blib\lib/SQL/Exec.pm line 1239.
when is experimental at C:\strawberry182\cpan\build\SQL-Exec-0.10-2Yrlrv\blib\lib/SQL/Exec.pm line 1240.
when is experimental at C:\strawberry182\cpan\build\SQL-Exec-0.10-2Yrlrv\blib\lib/SQL/Exec.pm line 1241.
when is experimental at C:\strawberry182\cpan\build\SQL-Exec-0.10-2Yrlrv\blib\lib/SQL/Exec.pm line 1242.
when is experimental at C:\strawberry182\cpan\build\SQL-Exec-0.10-2Yrlrv\blib\lib/SQL/Exec.pm line 1243.
given is experimental at C:\strawberry182\cpan\build\Test-Subs-0.08-O9NkT5/blib/lib/Test/Subs.pm line 324.
when is experimental at C:\strawberry182\cpan\build\Test-Subs-0.08-O9NkT5/blib/lib/Test/Subs.pm line 325.
when is experimental at C:\strawberry182\cpan\build\Test-Subs-0.08-O9NkT5/blib/lib/Test/Subs.pm line 329.
when is experimental at C:\strawberry182\cpan\build\Test-Subs-0.08-O9NkT5/blib/lib/Test/Subs.pm line 333.
Smartmatch is experimental at t/table_exists.t line 134.
Smartmatch is experimental at t/table_exists.t line 139.
Smartmatch is experimental at t/table_exists.t line 144.
t/table_exists.t ....... ok
given is experimental at C:\strawberry182\cpan\build\SQL-Exec-0.10-2Yrlrv\blib\lib/SQL/Exec.pm line 1218.
when is experimental at C:\strawberry182\cpan\build\SQL-Exec-0.10-2Yrlrv\blib\lib/SQL/Exec.pm line 1219.
when is experimental at C:\strawberry182\cpan\build\SQL-Exec-0.10-2Yrlrv\blib\lib/SQL/Exec.pm line 1220.
when is experimental at C:\strawberry182\cpan\build\SQL-Exec-0.10-2Yrlrv\blib\lib/SQL/Exec.pm line 1221.
when is experimental at C:\strawberry182\cpan\build\SQL-Exec-0.10-2Yrlrv\blib\lib/SQL/Exec.pm line 1222.
when is experimental at C:\strawberry182\cpan\build\SQL-Exec-0.10-2Yrlrv\blib\lib/SQL/Exec.pm line 1227.
when is experimental at C:\strawberry182\cpan\build\SQL-Exec-0.10-2Yrlrv\blib\lib/SQL/Exec.pm line 1228.
when is experimental at C:\strawberry182\cpan\build\SQL-Exec-0.10-2Yrlrv\blib\lib/SQL/Exec.pm line 1233.
when is experimental at C:\strawberry182\cpan\build\SQL-Exec-0.10-2Yrlrv\blib\lib/SQL/Exec.pm line 1238.
when is experimental at C:\strawberry182\cpan\build\SQL-Exec-0.10-2Yrlrv\blib\lib/SQL/Exec.pm line 1239.
when is experimental at C:\strawberry182\cpan\build\SQL-Exec-0.10-2Yrlrv\blib\lib/SQL/Exec.pm line 1240.
when is experimental at C:\strawberry182\cpan\build\SQL-Exec-0.10-2Yrlrv\blib\lib/SQL/Exec.pm line 1241.
when is experimental at C:\strawberry182\cpan\build\SQL-Exec-0.10-2Yrlrv\blib\lib/SQL/Exec.pm line 1242.
when is experimental at C:\strawberry182\cpan\build\SQL-Exec-0.10-2Yrlrv\blib\lib/SQL/Exec.pm line 1243.
given is experimental at C:\strawberry182\cpan\build\Test-Subs-0.08-O9NkT5/blib/lib/Test/Subs.pm line 324.
when is experimental at C:\strawberry182\cpan\build\Test-Subs-0.08-O9NkT5/blib/lib/Test/Subs.pm line 325.
when is experimental at C:\strawberry182\cpan\build\Test-Subs-0.08-O9NkT5/blib/lib/Test/Subs.pm line 329.
when is experimental at C:\strawberry182\cpan\build\Test-Subs-0.08-O9NkT5/blib/lib/Test/Subs.pm line 333.
t/transact.t ........... ok
All tests successful.
Files=16, Tests=139,  7 wallclock secs ( 0.07 usr +  0.09 sys =  0.16 CPU)
Result: PASS

------------------------------
PREREQUISITES
------------------------------

Prerequisite modules loaded:

requires:

    Module                  Need     Have    
    ----------------------- -------- --------
    Carp                    0        1.32    
    DBI                     0        1.630   
    DBI::Const::GetInfoType 0        2.008697
    DBIx::Connector         0        0.53    
    Exporter                0        5.68    
    List::MoreUtils         0        0.33    
    perl                    5.010001 5.018002
    Scalar::Util            0        1.38    
    SQL::SplitStatement     0        1.00020 

build_requires:

    Module                  Need     Have    
    ----------------------- -------- --------
    DBD::SQLite             0        1.40    
    String::Replace         0        0.02    
    Test::Subs              0        0.08    

configure_requires:

    Module                  Need     Have    
    ----------------------- -------- --------
    ExtUtils::MakeMaker     6.3002   6.84    


------------------------------
ENVIRONMENT AND OTHER CONTEXT
------------------------------

Environment variables:

    AUTOMATED_TESTING = 1
    COMSPEC = C:\WINDOWS\system32\cmd.exe
    NUMBER_OF_PROCESSORS = 1
    PATH = C:\Program Files\Far Manager\;C:\WINDOWS\system32;C:\WINDOWS;C:\WINDOWS\System32\Wbem;C:\strawberry182\c\bin;C:\strawberry182\perl\site\bin;C:\strawberry182\perl\bin
    PERL5LIB = C:\strawberry182\cpan\build\SQL-SplitStatement-1.00020-0boKUf/blib/arch;C:\strawberry182\cpan\build\SQL-SplitStatement-1.00020-0boKUf/blib/lib;C:\strawberry182\cpan\build\SQL-Tokenizer-0.24-jxAnwk/blib/arch;C:\strawberry182\cpan\build\SQL-Tokenizer-0.24-jxAnwk/blib/lib;C:\strawberry182\cpan\build\String-Replace-0.02-C7vR2Q/blib/arch;C:\strawberry182\cpan\build\String-Replace-0.02-C7vR2Q/blib/lib;C:\strawberry182\cpan\build\Test-Subs-0.08-O9NkT5/blib/arch;C:\strawberry182\cpan\build\Test-Subs-0.08-O9NkT5/blib/lib
    PERL5OPT = 
    PERL5_CPANPLUS_IS_RUNNING = 1188
    PERL5_CPAN_IS_RUNNING = 1188
    PERL5_CPAN_IS_RUNNING_IN_RECURSION = 1156,1188
    PERL_CR_SMOKER_CURRENT = SQL-Exec-0.10
    PERL_EXTUTILS_AUTOINSTALL = --defaultdeps
    PERL_HASH_SEED = 0x11111111
    PERL_MM_USE_DEFAULT = 1
    PROCESSOR_IDENTIFIER = x86 Family 16 Model 5 Stepping 3, AuthenticAMD
    TEMP = C:\DOCUME~1\c\LOCALS~1\Temp
    TERM = dumb

Perl special variables (and OS-specific diagnostics, for MSWin32):

    $^X = C:\strawberry182\perl\bin\perl.exe
    $UID/$EUID = 0 / 0
    $GID = 0
    $EGID = 0
    Win32::GetOSName = WinXP/.Net
    Win32::GetOSVersion = Service Pack 3, 5, 1, 2600, 2, 3, 0, 256, 1
    Win32::FsType = NTFS
    Win32::IsAdminUser = 1

Perl module toolchain versions installed:

    Module              Have    
    ------------------- --------
    CPAN                2.00    
    CPAN::Meta          2.133380
    Cwd                 3.40    
    ExtUtils::CBuilder  0.280212
    ExtUtils::Command   1.18    
    ExtUtils::Install   1.59    
    ExtUtils::MakeMaker 6.84    
    ExtUtils::Manifest  1.63    
    ExtUtils::ParseXS   3.22    
    File::Spec          3.40    
    JSON                2.90    
    JSON::PP            2.27203 
    Module::Build       0.4203  
    Module::Signature   n/a     
    Parse::CPAN::Meta   1.4414  
    Test::Harness       3.30    
    Test::More          1.001002
    YAML                0.90    
    YAML::Syck          1.27    
    version             0.9904  


--

Summary of my perl5 (revision 5 version 18 subversion 2) configuration:
   
  Platform:
    osname=MSWin32, osvers=6.2, archname=MSWin32-x86-multi-thread-64int
    uname='Win32 strawberry-perl 5.18.2.1 #1 Tue Jan  7 16:30:36 2014 i386'
    config_args='undef'
    hint=recommended, useposix=true, d_sigaction=undef
    useithreads=define, usemultiplicity=define
    useperlio=define, d_sfio=undef, uselargefiles=define, usesocks=undef
    use64bitint=define, use64bitall=undef, uselongdouble=undef
    usemymalloc=n, bincompat5005=undef
  Compiler:
    cc='gcc', ccflags =' -s -O2 -DWIN32  -DPERL_TEXTMODE_SCRIPTS -DPERL_IMPLICIT_CONTEXT -DPERL_IMPLICIT_SYS -DUSE_PERLIO -fno-strict-aliasing -mms-bitfields',
    optimize='-s -O2',
    cppflags='-DWIN32'
    ccversion='', gccversion='4.7.3', gccosandvers=''
    intsize=4, longsize=4, ptrsize=4, doublesize=8, byteorder=12345678
    d_longlong=define, longlongsize=8, d_longdbl=define, longdblsize=12
    ivtype='long long', ivsize=8, nvtype='double', nvsize=8, Off_t='long long', lseeksize=8
    alignbytes=8, prototype=define
  Linker and Libraries:
    ld='g++', ldflags ='-s -L"C:\strawberry182\perl\lib\CORE" -L"C:\strawberry182\c\lib"'
    libpth=C:\strawberry182\c\lib C:\strawberry182\c\i686-w64-mingw32\lib C:\strawberry182\c\lib\gcc\i686-w64-mingw32\4.7.3
    libs=-lmoldname -lkernel32 -luser32 -lgdi32 -lwinspool -lcomdlg32 -ladvapi32 -lshell32 -lole32 -loleaut32 -lnetapi32 -luuid -lws2_32 -lmpr -lwinmm -lversion -lodbc32 -lodbccp32 -lcomctl32
    perllibs=-lmoldname -lkernel32 -luser32 -lgdi32 -lwinspool -lcomdlg32 -ladvapi32 -lshell32 -lole32 -loleaut32 -lnetapi32 -luuid -lws2_32 -lmpr -lwinmm -lversion -lodbc32 -lodbccp32 -lcomctl32
    libc=, so=dll, useshrplib=true, libperl=libperl518.a
    gnulibc_version=''
  Dynamic Linking:
    dlsrc=dl_win32.xs, dlext=dll, d_dlsymun=undef, ccdlflags=' '
    cccdlflags=' ', lddlflags='-mdll -s -L"C:\strawberry182\perl\lib\CORE" -L"C:\strawberry182\c\lib"'


Characteristics of this binary (from libperl): 
  Compile-time options: HAS_TIMES HAVE_INTERP_INTERN MULTIPLICITY
                        PERLIO_LAYERS PERL_DONT_CREATE_GVSV
                        PERL_HASH_FUNC_ONE_AT_A_TIME_HARD
                        PERL_IMPLICIT_CONTEXT PERL_IMPLICIT_SYS
                        PERL_MALLOC_WRAP PERL_PRESERVE_IVUV PERL_SAWAMPERSAND
                        USE_64_BIT_INT USE_ITHREADS USE_LARGE_FILES
                        USE_LOCALE USE_LOCALE_COLLATE USE_LOCALE_CTYPE
                        USE_LOCALE_NUMERIC USE_PERLIO USE_PERL_ATOF
  Built under MSWin32
  Compiled at Jan  7 2014 16:39:31
  %ENV:
    PERL5LIB="C:\strawberry182\cpan\build\SQL-SplitStatement-1.00020-0boKUf/blib/arch;C:\strawberry182\cpan\build\SQL-SplitStatement-1.00020-0boKUf/blib/lib;C:\strawberry182\cpan\build\SQL-Tokenizer-0.24-jxAnwk/blib/arch;C:\strawberry182\cpan\build\SQL-Tokenizer-0.24-jxAnwk/blib/lib;C:\strawberry182\cpan\build\String-Replace-0.02-C7vR2Q/blib/arch;C:\strawberry182\cpan\build\String-Replace-0.02-C7vR2Q/blib/lib;C:\strawberry182\cpan\build\Test-Subs-0.08-O9NkT5/blib/arch;C:\strawberry182\cpan\build\Test-Subs-0.08-O9NkT5/blib/lib"
    PERL5_CPANPLUS_IS_RUNNING="1188"
    PERL5_CPAN_IS_RUNNING="1188"
    PERL5_CPAN_IS_RUNNING_IN_RECURSION="1156,1188"
    PERL_CR_SMOKER_CURRENT="SQL-Exec-0.10"
    PERL_EXTUTILS_AUTOINSTALL="--defaultdeps"
    PERL_HASH_SEED="0x11111111"
    PERL_MM_USE_DEFAULT="1"
  @INC:
    C:\strawberry182\cpan\build\SQL-SplitStatement-1.00020-0boKUf/blib/arch
    C:\strawberry182\cpan\build\SQL-SplitStatement-1.00020-0boKUf/blib/lib
    C:\strawberry182\cpan\build\SQL-Tokenizer-0.24-jxAnwk/blib/arch
    C:\strawberry182\cpan\build\SQL-Tokenizer-0.24-jxAnwk/blib/lib
    C:\strawberry182\cpan\build\String-Replace-0.02-C7vR2Q/blib/arch
    C:\strawberry182\cpan\build\String-Replace-0.02-C7vR2Q/blib/lib
    C:\strawberry182\cpan\build\Test-Subs-0.08-O9NkT5/blib/arch
    C:\strawberry182\cpan\build\Test-Subs-0.08-O9NkT5/blib/lib
    C:/strawberry182/perl/site/lib
    C:/strawberry182/perl/vendor/lib
    C:/strawberry182/perl/lib
    .