Back
From: metabase:user:320bfe00-2aae-11df-837a-5e0a49663a4f
Subject: PASS Catalyst-Model-CacheFunky-Loader-0.06 v5.25.9 GNU/Linux
Date: 2017-03-16T05:39:09Z
This distribution has been tested as part of the CPAN Testers
project, supporting the Perl programming language. See
http://wiki.cpantesters.org/ for more information or email
questions to cpan-testers-discuss@perl.org
--
Dear Tomohiro Teranishi,
This is a computer-generated report for Catalyst-Model-CacheFunky-Loader-0.06
on perl 5.25.9, created by CPAN-Reporter-1.2018.
Thank you for uploading your work to CPAN. Congratulations!
All tests were successful.
Sections of this report:
* Tester comments
* Program output
* Prerequisites
* Environment and other context
------------------------------
TESTER COMMENTS
------------------------------
Additional comments from tester:
this report is from an automated smoke testing program
and was not reviewed by a human for accuracy
------------------------------
PROGRAM OUTPUT
------------------------------
Output from '/usr/bin/make test':
"/home/sand/src/perl/repoperls/installed-perls/host/k93msid/v5.25.9/5ea4/bin/perl" "-Iinc" Makefile.PL --config= --installdeps=Cache::Funky,0,Module::Recursive::Require,0.04
Cannot determine perl version info from lib/Catalyst/Model/CacheFunky/Loader.pm
PERL_DL_NONLAZY=1 "/home/sand/src/perl/repoperls/installed-perls/host/k93msid/v5.25.9/5ea4/bin/perl" "-MExtUtils::Command::MM" "-MTest::Harness" "-e" "undef *Test::Harness::Switches; test_harness(0, 'inc', 'blib/lib', 'blib/arch')" t/00-load.t t/01_app.t t/boilerplate.t t/pod-coverage.t t/pod.t t/spelling.t
# Testing Catalyst::Model::CacheFunky::Loader 0.06, Perl 5.025009, /home/sand/src/perl/repoperls/installed-perls/host/k93msid/v5.25.9/5ea4/bin/perl
t/00-load.t ....... ok
WWW::Form::UrlEncoded::XS 0.24 is require. fallback to PP version at /home/sand/src/perl/repoperls/installed-perls/host/k93msid/v5.25.9/5ea4/lib/site_perl/5.25.9/x86_64-linux-thread-multi-ld/WWW/Form/UrlEncoded.pm line 17.
[debug] Debug messages enabled
[debug] Statistics enabled
Catalyst::Model::CacheFunky::Loader uses NEXT, which is deprecated. Please see the Class::C3::Adopt::NEXT documentation for details. NEXT used at /tmp/loop_over_bdir-13835-LeF2vp/Catalyst-Model-CacheFunky-Loader-0.06-0/blib/lib/Catalyst/Model/CacheFunky/Loader.pm line 13.
[debug] Loaded plugins:
.-----------------------------------------------------------------------------.
| Catalyst::Plugin::ConfigLoader 0.34 |
'-----------------------------------------------------------------------------'
[debug] Loaded PSGI Middleware:
.-----------------------------------------------------------------------------.
| Catalyst::Middleware::Stash |
| Plack::Middleware::HTTPExceptions |
| Plack::Middleware::RemoveRedundantBody 0.04 |
| Plack::Middleware::FixMissingBodyInRedirect 0.12 |
| Plack::Middleware::ContentLength |
| Plack::Middleware::MethodOverride 0.15 |
| Plack::Middleware::Head |
'-----------------------------------------------------------------------------'
[debug] Loaded Request Data Handlers:
.-----------------------------------------------------------------------------.
| application/x-www-form-urlencoded |
| application/json |
'-----------------------------------------------------------------------------'
[debug] Loaded dispatcher "Catalyst::Dispatcher"
[debug] Loaded engine "Catalyst::Engine"
[debug] Found home "/tmp/loop_over_bdir-13835-LeF2vp/Catalyst-Model-CacheFunky-Loader-0.06-0/t/lib/TestApp"
[debug] Loaded components:
.------------------------------------------------------------------+----------.
| Class | Type |
+------------------------------------------------------------------+----------+
| TestApp::Controller::Root | instance |
| TestApp::Model::Funky | instance |
| TestApp::Model::Funky::Context | class |
| TestApp::Model::Funky::Date | class |
'------------------------------------------------------------------+----------'
[debug] Loaded Private actions:
.----------------------+--------------------------------------+---------------.
| Private | Class | Method |
+----------------------+--------------------------------------+---------------+
| /date | TestApp::Controller::Root | date |
| /context | TestApp::Controller::Root | context |
| /default | TestApp::Controller::Root | default |
'----------------------+--------------------------------------+---------------'
[debug] Loaded Path actions:
.--------------------------------------+--------------------------------------.
| Path | Private |
+--------------------------------------+--------------------------------------+
| /context/... | /context |
| /date/... | /date |
'--------------------------------------+--------------------------------------'
[info] TestApp powered by Catalyst 5.90114
[info] *** Request 1 (1.000/s) [17742] [Thu Mar 16 05:38:57 2017] ***
[debug] Path is "date"
[debug] "GET" request for "date" from "127.0.0.1"
[debug] Response Code: 200; Content-Type: unknown; Content-Length: unknown
[info] Request took 1.004049s (0.996/s)
.-------------------------------------------------------------+-----------.
| Action | Time |
+-------------------------------------------------------------+-----------+
| /date | 1.000340s |
'-------------------------------------------------------------+-----------'
[info] *** Request 2 (1.000/s) [17742] [Thu Mar 16 05:38:58 2017] ***
[debug] Path is "context"
[debug] "GET" request for "context" from "127.0.0.1"
[debug] Response Code: 200; Content-Type: unknown; Content-Length: unknown
[info] Request took 0.001559s (641.437/s)
.-------------------------------------------------------------+-----------.
| Action | Time |
+-------------------------------------------------------------+-----------+
| /context | 0.000113s |
'-------------------------------------------------------------+-----------'
t/01_app.t ........ ok
t/boilerplate.t ... ok
t/pod-coverage.t .. ok
t/pod.t ........... ok
t/spelling.t ...... ok
All tests successful.
Files=6, Tests=9, 4 wallclock secs ( 0.04 usr 0.03 sys + 1.57 cusr 0.26 csys = 1.90 CPU)
Result: PASS
------------------------------
PREREQUISITES
------------------------------
Prerequisite modules loaded:
requires:
Module Need Have
------------------------------ ---- --------
Cache::Funky 0 0.06
Catalyst 0 5.90114
Catalyst::Plugin::ConfigLoader 0 0.34
Module::Recursive::Require 0.04 0.04
Test::More 0 1.302078
Test::Spelling 0 0.20
build_requires:
Module Need Have
------------------------------ ---- --------
ExtUtils::MakeMaker 0 7.25_01
------------------------------
ENVIRONMENT AND OTHER CONTEXT
------------------------------
Environment variables:
AUTOMATED_TESTING = 1
LANG = en_US.UTF-8
PATH = /home/sand/bin:/usr/local/bin:/usr/bin:/bin:/usr/games:/usr/local/perl/bin:/usr/X11/bin:/sbin:/usr/sbin
PERL5LIB =
PERL5OPT =
PERL5_CPANPLUS_IS_RUNNING = 13855
PERL5_CPAN_IS_RUNNING = 13855
PERL_CANARY_STABILITY_NOPROMPT = 1
PERL_MM_USE_DEFAULT = 1
PERL_USE_UNSAFE_INC = 1
SHELL = /usr/bin/zsh
TERM = screen
Perl special variables (and OS-specific diagnostics, for MSWin32):
$^X = /home/sand/src/perl/repoperls/installed-perls/host/k93msid/v5.25.9/5ea4/bin/perl
$UID/$EUID = 1005 / 1005
$GID = 1005 1005
$EGID = 1005 1005
Perl module toolchain versions installed:
Module Have
------------------- ----------
CPAN 2.17
CPAN::Meta 2.150010
Cwd 3.66
ExtUtils::CBuilder 0.280224
ExtUtils::Command 7.25_01
ExtUtils::Install 2.04
ExtUtils::MakeMaker 7.25_01
ExtUtils::Manifest 1.70
ExtUtils::ParseXS 3.30
File::Spec 3.66
JSON 2.90
JSON::PP 2.27400_02
Module::Build 0.4220
Module::Signature 0.81
Parse::CPAN::Meta 2.150010
Test::Harness 3.38
Test::More 1.302078
YAML 1.23
YAML::Syck 1.29
version 0.9917
--
Summary of my perl5 (revision 5 version 25 subversion 9) configuration:
Commit id: 5d577b6f636aba916a1b0519669de4b2454c68ab
Platform:
osname=linux
osvers=4.8.0-2-amd64
archname=x86_64-linux-thread-multi-ld
uname='linux k93msid 4.8.0-2-amd64 #1 smp debian 4.8.11-1 (2016-12-02) x86_64 gnulinux '
config_args='-Dprefix=/home/sand/src/perl/repoperls/installed-perls/host/k93msid/v5.25.9/5ea4 -Dmyhostname=k93msid -Dinstallusrbinperl=n -Uversiononly -Dusedevel -des -Ui_db -Dlibswanted=cl pthread socket inet nsl gdbm dbm malloc dl ld sun m crypt sec util c cposix posix ucb BSD gdbm_compat -Duseithreads -Duselongdouble -DDEBUGGING=-g'
hint=recommended
useposix=true
d_sigaction=define
useithreads=define
usemultiplicity=define
use64bitint=define
use64bitall=define
uselongdouble=define
usemymalloc=n
bincompat5005=undef
Compiler:
cc='cc'
ccflags ='-D_REENTRANT -D_GNU_SOURCE -fwrapv -fno-strict-aliasing -pipe -fstack-protector-strong -I/usr/local/include -D_LARGEFILE_SOURCE -D_FILE_OFFSET_BITS=64'
optimize='-O2 -g'
cppflags='-D_REENTRANT -D_GNU_SOURCE -fwrapv -fno-strict-aliasing -pipe -fstack-protector-strong -I/usr/local/include'
ccversion=''
gccversion='6.2.1 20161124'
gccosandvers=''
intsize=4
longsize=8
ptrsize=8
doublesize=8
byteorder=12345678
doublekind=3
d_longlong=define
longlongsize=8
d_longdbl=define
longdblsize=16
longdblkind=3
ivtype='long'
ivsize=8
nvtype='long double'
nvsize=16
Off_t='off_t'
lseeksize=8
alignbytes=16
prototype=define
Linker and Libraries:
ld='cc'
ldflags =' -fstack-protector-strong -L/usr/local/lib'
libpth=/usr/local/lib /usr/lib/gcc/x86_64-linux-gnu/6/include-fixed /usr/include/x86_64-linux-gnu /usr/lib /lib/x86_64-linux-gnu /lib/../lib /usr/lib/x86_64-linux-gnu /usr/lib/../lib /lib
libs=-lpthread -lnsl -ldl -lm -lcrypt -lutil -lc
perllibs=-lpthread -lnsl -ldl -lm -lcrypt -lutil -lc
libc=libc-2.24.so
so=so
useshrplib=false
libperl=libperl.a
gnulibc_version='2.24'
Dynamic Linking:
dlsrc=dl_dlopen.xs
dlext=so
d_dlsymun=undef
ccdlflags='-Wl,-E'
cccdlflags='-fPIC'
lddlflags='-shared -O2 -g -L/usr/local/lib -fstack-protector-strong'
Characteristics of this binary (from libperl):
Compile-time options:
HAS_TIMES
MULTIPLICITY
PERLIO_LAYERS
PERL_COPY_ON_WRITE
PERL_DONT_CREATE_GVSV
PERL_IMPLICIT_CONTEXT
PERL_MALLOC_WRAP
PERL_OP_PARENT
PERL_PRESERVE_IVUV
PERL_USE_DEVEL
USE_64_BIT_ALL
USE_64_BIT_INT
USE_ITHREADS
USE_LARGE_FILES
USE_LOCALE
USE_LOCALE_COLLATE
USE_LOCALE_CTYPE
USE_LOCALE_NUMERIC
USE_LOCALE_TIME
USE_LONG_DOUBLE
USE_PERLIO
USE_PERL_ATOF
USE_REENTRANT_API
Built under linux
Compiled at Jan 20 2017 17:48:38
%ENV:
PERL5LIB=""
PERL5OPT=""
PERL5_CPANPLUS_IS_RUNNING="13855"
PERL5_CPAN_IS_RUNNING="13855"
PERL_CANARY_STABILITY_NOPROMPT="1"
PERL_MM_USE_DEFAULT="1"
PERL_USE_UNSAFE_INC="1"
@INC:
/home/sand/src/perl/repoperls/installed-perls/host/k93msid/v5.25.9/5ea4/lib/site_perl/5.25.9/x86_64-linux-thread-multi-ld
/home/sand/src/perl/repoperls/installed-perls/host/k93msid/v5.25.9/5ea4/lib/site_perl/5.25.9
/home/sand/src/perl/repoperls/installed-perls/host/k93msid/v5.25.9/5ea4/lib/5.25.9/x86_64-linux-thread-multi-ld
/home/sand/src/perl/repoperls/installed-perls/host/k93msid/v5.25.9/5ea4/lib/5.25.9
.