Report for Test-Proto-0.027

Back
From: metabase:user:a0e144f2-373b-11e6-8edd-c6848980b093
Subject: PASS Test-Proto-0.027 v5.26.0 GNU/Linux
Date: 2017-04-17T07:02:53Z

This distribution has been tested as part of the CPAN Testers
project, supporting the Perl programming language.  See
http://wiki.cpantesters.org/ for more information or email
questions to cpan-testers-discuss@perl.org


--
Dear Daniel Perrett,

This is a computer-generated report for Test-Proto-0.027
on perl 5.26.0, created by CPAN-Reporter-1.2018.

Thank you for uploading your work to CPAN.  Congratulations!
All tests were successful.

Sections of this report:

    * Tester comments
    * Program output
    * Prerequisites
    * Environment and other context

------------------------------
TESTER COMMENTS
------------------------------

Additional comments from tester:

this report is from an automated smoke testing program
and was not reviewed by a human for accuracy

------------------------------
PROGRAM OUTPUT
------------------------------

Output from '/usr/bin/make test':

PERL_DL_NONLAZY=1 "/home/cpan3/install/bin/perl" "-MExtUtils::Command::MM" "-MTest::Harness" "-e" "undef *Test::Harness::Switches; test_harness(0, 'blib/lib', 'blib/arch')" t/*.t
t/kwalitee.t .......................... skipped: these tests are for release candidate testing
t/manifest.t .......................... skipped: Author tests not required for installation
t/pod-coverage.t ...................... skipped: Author tests not required for installation
# Testing Test::Proto 0.027, Perl 5.026000, /home/cpan3/install/bin/perl
t/00-load.t ........................... ok
t/pod.t ............................... skipped: Author tests not required for installation
t/Extras-DPath.t ...................... ok
Use of uninitialized value in string ne at (eval 151) line 1.
Use of uninitialized value in string eq at (eval 153) line 1.
Use of uninitialized value in string ne at (eval 163) line 1.
t/Test-Proto-CodeRef.t ................ ok
t/Test-Proto-Base.t ................... ok
t/Test-Proto-Compare.t ................ ok
t/Test-Proto-Common.t ................. ok
t/Test-Proto-Formatter.t .............. ok
t/Test-Proto-ArrayRef.t ............... ok
Use of uninitialized value in string eq at (eval 121) line 1.
Use of uninitialized value in string eq at (eval 227) line 1.
t/Test-Proto-HashRef.t ................ ok
t/Test-Proto-Formatter-TestBuilder.t .. ok
t/Test-Proto-Role-Tagged.t ............ ok
t/Test-Proto-TestCase.t ............... ok
t/Test-Proto-Object.t ................. ok
# Warnings follow, deliberately:
Tried to add an event to a TestRunner which is already complete at /home/cpan3/.cpan/build/Test-Proto-0.027-0/blib/lib/Test/Proto/TestRunner.pm line 213.
Tried to complete something that was already complete (a PASS). (Tried with value=> 0, message=>[undefined]) at /home/cpan3/.cpan/build/Test-Proto-0.027-0/blib/lib/Test/Proto/TestRunner.pm line 172.
Tried to add an event to a TestRunner which is already complete at /home/cpan3/.cpan/build/Test-Proto-0.027-0/blib/lib/Test/Proto/TestRunner.pm line 213.
t/Test-Proto-TestRunner.t ............. ok
t/version.t ........................... ok
Use of uninitialized value in string ne at (eval 163) line 1.
Use of uninitialized value in string ne at (eval 165) line 1.
t/Test-Proto.t ........................ ok
All tests successful.

Test Summary Report
-------------------
t/Test-Proto-Base.t                 (Wstat: 0 Tests: 250 Failed: 0)
  TODO passed:   152-156, 158-159
Files=20, Tests=843,  2 wallclock secs ( 0.28 usr  0.02 sys +  5.84 cusr  0.30 csys =  6.44 CPU)
Result: PASS

------------------------------
PREREQUISITES
------------------------------

Prerequisite modules loaded:

requires:

    Module              Need   Have    
    ------------------- ------ --------
    Data::Dumper        0      2.161   
    Moo                 0      2.001001
    Object::ID          v0.0.5 v0.1.2  
    Scalar::Util        1.14   1.47    
    Test::Deep::NoTest  0      0       
    Test::More          0      1.302078

build_requires:

    Module              Need   Have    
    ------------------- ------ --------
    ExtUtils::MakeMaker 0      7.24    

configure_requires:

    Module              Need   Have    
    ------------------- ------ --------
    ExtUtils::MakeMaker 0      7.24    


------------------------------
ENVIRONMENT AND OTHER CONTEXT
------------------------------

Environment variables:

    AUTOMATED_TESTING = 1
    HARNESS_OPTIONS = j3
    LANG = en_US.UTF-8
    PATH = /usr/local/bin:/usr/bin:/bin:/usr/local/games:/usr/games
    PERL5LIB = 
    PERL5OPT = 
    PERL5_CPANPLUS_IS_RUNNING = 10864
    PERL5_CPAN_IS_RUNNING = 10864
    PERL5_CPAN_IS_RUNNING_IN_RECURSION = 28781,10864
    PERL_CR_SMOKER_CURRENT = Test-Proto-0.027
    PERL_CR_SMOKER_RUNONCE = 1
    PERL_EXTUTILS_AUTOINSTALL = --defaultdeps
    PERL_MM_USE_DEFAULT = 1
    SHELL = /bin/bash
    TERM = putty-256color

Perl special variables (and OS-specific diagnostics, for MSWin32):

    $^X = /home/cpan3/install/bin/perl
    $UID/$EUID = 1004 / 1004
    $GID = 1004 1004
    $EGID = 1004 1004

Perl module toolchain versions installed:

    Module              Have    
    ------------------- --------
    CPAN                2.16    
    CPAN::Meta          2.150010
    Cwd                 3.62    
    ExtUtils::CBuilder  0.280224
    ExtUtils::Command   7.24    
    ExtUtils::Install   2.04    
    ExtUtils::MakeMaker 7.24    
    ExtUtils::Manifest  1.70    
    ExtUtils::ParseXS   3.30    
    File::Spec          3.62    
    JSON                2.91_04 
    JSON::PP            2.27400 
    Module::Build       0.4222  
    Module::Signature   0.81    
    Parse::CPAN::Meta   2.150010
    Test::Harness       3.39    
    Test::More          1.302078
    YAML                1.23    
    YAML::Syck          1.29    
    version             0.9917  


--

Summary of my perl5 (revision 5 version 26 subversion 0) configuration:
  Commit id: f57d8456e7b8d6b2dad0bb49899cfdc68007b794
  Platform:
    osname=linux
    osvers=3.16.0-4-amd64
    archname=x86_64-linux-thread-multi
    uname='linux digitalis 3.16.0-4-amd64 #1 smp debian 3.16.36-1+deb8u2 (2016-10-19) x86_64 gnulinux '
    config_args='-Dusedevel -DDEBUGGING -Dusethreads -Dprefix=/home/cpan3/install -Uversiononly -des'
    hint=recommended
    useposix=true
    d_sigaction=define
    useithreads=define
    usemultiplicity=define
    use64bitint=define
    use64bitall=define
    uselongdouble=undef
    usemymalloc=n
    default_inc_excludes_dot=define
    bincompat5005=undef
  Compiler:
    cc='cc'
    ccflags ='-D_REENTRANT -D_GNU_SOURCE -fwrapv -DDEBUGGING -fno-strict-aliasing -pipe -fstack-protector-strong -I/usr/local/include -D_LARGEFILE_SOURCE -D_FILE_OFFSET_BITS=64 -D_FORTIFY_SOURCE=2'
    optimize='-O2 -g'
    cppflags='-D_REENTRANT -D_GNU_SOURCE -fwrapv -DDEBUGGING -fno-strict-aliasing -pipe -fstack-protector-strong -I/usr/local/include'
    ccversion=''
    gccversion='4.9.2'
    gccosandvers=''
    intsize=4
    longsize=8
    ptrsize=8
    doublesize=8
    byteorder=12345678
    doublekind=3
    d_longlong=define
    longlongsize=8
    d_longdbl=define
    longdblsize=16
    longdblkind=3
    ivtype='long'
    ivsize=8
    nvtype='double'
    nvsize=8
    Off_t='off_t'
    lseeksize=8
    alignbytes=8
    prototype=define
  Linker and Libraries:
    ld='cc'
    ldflags =' -fstack-protector-strong -L/usr/local/lib'
    libpth=/usr/local/lib /usr/lib/gcc/x86_64-linux-gnu/4.9/include-fixed /usr/include/x86_64-linux-gnu /usr/lib /lib/x86_64-linux-gnu /lib/../lib /usr/lib/x86_64-linux-gnu /usr/lib/../lib /lib /lib64 /usr/lib64
    libs=-lpthread -lnsl -ldl -lm -lcrypt -lutil -lc
    perllibs=-lpthread -lnsl -ldl -lm -lcrypt -lutil -lc
    libc=libc-2.19.so
    so=so
    useshrplib=false
    libperl=libperl.a
    gnulibc_version='2.19'
  Dynamic Linking:
    dlsrc=dl_dlopen.xs
    dlext=so
    d_dlsymun=undef
    ccdlflags='-Wl,-E'
    cccdlflags='-fPIC'
    lddlflags='-shared -O2 -g -L/usr/local/lib -fstack-protector-strong'


Characteristics of this binary (from libperl): 
  Compile-time options:
    DEBUGGING
    HAS_TIMES
    MULTIPLICITY
    PERLIO_LAYERS
    PERL_COPY_ON_WRITE
    PERL_DONT_CREATE_GVSV
    PERL_IMPLICIT_CONTEXT
    PERL_MALLOC_WRAP
    PERL_OP_PARENT
    PERL_PRESERVE_IVUV
    PERL_TRACK_MEMPOOL
    PERL_USE_DEVEL
    USE_64_BIT_ALL
    USE_64_BIT_INT
    USE_ITHREADS
    USE_LARGE_FILES
    USE_LOCALE
    USE_LOCALE_COLLATE
    USE_LOCALE_CTYPE
    USE_LOCALE_NUMERIC
    USE_LOCALE_TIME
    USE_PERLIO
    USE_PERL_ATOF
    USE_REENTRANT_API
  Built under linux
  Compiled at Apr 11 2017 21:41:23
  %ENV:
    PERL5LIB=""
    PERL5OPT=""
    PERL5_CPANPLUS_IS_RUNNING="10864"
    PERL5_CPAN_IS_RUNNING="10864"
    PERL5_CPAN_IS_RUNNING_IN_RECURSION="28781,10864"
    PERL_CR_SMOKER_CURRENT="Test-Proto-0.027"
    PERL_CR_SMOKER_RUNONCE="1"
    PERL_EXTUTILS_AUTOINSTALL="--defaultdeps"
    PERL_MM_USE_DEFAULT="1"
  @INC:
    /home/cpan3/install/lib/perl5/site_perl/5.26.0/x86_64-linux-thread-multi
    /home/cpan3/install/lib/perl5/site_perl/5.26.0
    /home/cpan3/install/lib/perl5/5.26.0/x86_64-linux-thread-multi
    /home/cpan3/install/lib/perl5/5.26.0