Report for POE-Component-Client-RADIUS-1.02

Back
From: metabase:user:d2c9f356-b46f-11df-9a90-20a83c0b7757
Subject: PASS POE-Component-Client-RADIUS-1.02 v5.15.6 SunOS/Solaris
Date: 2012-01-07T06:21:46Z

This distribution has been tested as part of the CPAN Testers
project, supporting the Perl programming language.  See
http://wiki.cpantesters.org/ for more information or email
questions to cpan-testers-discuss@perl.org


--
Dear Chris Williams,

This is a computer-generated report for POE-Component-Client-RADIUS-1.02
on perl 5.15.6, created by CPAN-Reporter-1.2003.

Thank you for uploading your work to CPAN.  Congratulations!
All tests were successful.

Sections of this report:

    * Tester comments
    * Program output
    * Prerequisites
    * Environment and other context

------------------------------
TESTER COMMENTS
------------------------------

Additional comments from tester:

this report is from an automated smoke testing program
and was not reviewed by a human for accuracy

------------------------------
PROGRAM OUTPUT
------------------------------

Output from '/usr/local/bin/make test':

PERL_DL_NONLAZY=1 /export/home/cpant4/perl5/bin/perl5.15.6 "-MExtUtils::Command::MM" "-e" "test_harness(0, 'inc', 'blib/lib', 'blib/arch')" t/*.t
# Testing POE::Component::Client::RADIUS-1.02, POE-1.350, Perl 5.015006, /export/home/cpant4/perl5/bin/perl5.15.6
t/00_use.t ......... ok
# Waiting 5 seconds for a timeout
t/01_sauth_time.t .. ok
# 127.0.0.1
t/02_sauth_acc.t ... ok
t/03_sauth_rej.t ... ok
# Waiting 5 seconds for a timeout
t/04_auth_time.t ... ok
t/05_auth_acc.t .... ok
t/06_auth_rej.t .... ok
# Waiting 5 seconds for a timeout
t/07_sacct_time.t .. ok
t/08_sacct.t ....... ok
# Waiting 5 seconds for a timeout
t/09_acct_time.t ... ok
t/10_acct.t ........ ok
All tests successful.
Files=11, Tests=69, 31 wallclock secs ( 0.05 usr  0.02 sys +  1.31 cusr  0.22 csys =  1.60 CPU)
Result: PASS

------------------------------
PREREQUISITES
------------------------------

Prerequisite modules loaded:

requires:

    Module                  Need   Have    
    ----------------------- ------ --------
    Math::Random            0.69   0.71    
    Net::Radius::Dictionary 1.55   1.55    
    Net::Radius::Packet     1.55   1.55    
    perl                    5.006  5.015006
    POE                     0.9999 1.350   

build_requires:

    Module                  Need   Have    
    ----------------------- ------ --------
    ExtUtils::MakeMaker     6.42   6.63_02 
    Test::More              0.47   0.98    

configure_requires:

    Module                  Need   Have    
    ----------------------- ------ --------
    ExtUtils::MakeMaker     6.42   6.63_02 


------------------------------
ENVIRONMENT AND OTHER CONTEXT
------------------------------

Environment variables:

    AUTOMATED_TESTING = 1
    LANG = C
    LD_LIBRARY_PATH = /usr/local/lib:
    PATH = /export/home/cpant4/perl5/bin:/usr/local/bin:/usr/bin
    PERL5LIB = /export/home/cpant4/.cpan/build/Net-Radius-2.103-0NgOBm/blib/arch:/export/home/cpant4/.cpan/build/Net-Radius-2.103-0NgOBm/blib/lib:/export/home/cpant4/.cpan/build/Net-IP-Minimal-0.02-qgOcnt/blib/arch:/export/home/cpant4/.cpan/build/Net-IP-Minimal-0.02-qgOcnt/blib/lib:/export/home/cpant4/.cpan/build/Math-Random-0.71-Hy7WjR/blib/arch:/export/home/cpant4/.cpan/build/Math-Random-0.71-Hy7WjR/blib/lib
    PERL5OPT = 
    PERL5_CPANPLUS_IS_RUNNING = 17675
    PERL5_CPAN_IS_RUNNING = 17675
    PERL5_CPAN_IS_RUNNING_IN_RECURSION = 18508,17675
    PERL_CR_SMOKER_CURRENT = POE-Component-Server-RADIUS-1.06
    PERL_EXTUTILS_AUTOINSTALL = --defaultdeps
    PERL_MM_USE_DEFAULT = 1
    SHELL = /bin/bash
    TERM = xterm

Perl special variables (and OS-specific diagnostics, for MSWin32):

    $^X = /export/home/cpant4/perl5/bin/perl5.15.6
    $UID/$EUID = 104 / 104
    $GID = 1 1
    $EGID = 1 1

Perl module toolchain versions installed:

    Module              Have    
    ------------------- --------
    CPAN                1.9800  
    CPAN::Meta          2.113640
    Cwd                 3.38    
    ExtUtils::CBuilder  0.280205
    ExtUtils::Command   1.17    
    ExtUtils::Install   1.57    
    ExtUtils::MakeMaker 6.63_02 
    ExtUtils::Manifest  1.60    
    ExtUtils::ParseXS   3.11    
    File::Spec          3.34    
    JSON                2.53    
    JSON::PP            2.27200 
    Module::Build       0.39_01 
    Module::Signature   n/a     
    Parse::CPAN::Meta   1.4401  
    Test::Harness       3.23    
    Test::More          0.98    
    YAML                0.78    
    YAML::Syck          1.19    
    version             0.95    


--

Summary of my perl5 (revision 5 version 15 subversion 6) configuration:
   
  Platform:
    osname=solaris, osvers=2.10, archname=i86pc-solaris-64int
    uname='sunos vmrz0046 5.10 generic_141445-09 i86pc i386 i86pc solaris '
    config_args='-Dcc=gcc -Dprefix=~/perl5 -Duse64bitint -Dusedevel -d'
    hint=recommended, useposix=true, d_sigaction=define
    useithreads=undef, usemultiplicity=undef
    useperlio=define, d_sfio=undef, uselargefiles=define, usesocks=undef
    use64bitint=define, use64bitall=undef, uselongdouble=undef
    usemymalloc=n, bincompat5005=undef
  Compiler:
    cc='gcc', ccflags ='-DPTR_IS_LONG -fno-strict-aliasing -pipe -I/usr/local/include -D_LARGEFILE_SOURCE -D_FILE_OFFSET_BITS=64 -DPERL_USE_SAFE_PUTENV',
    optimize='-O',
    cppflags='-DPTR_IS_LONG -fno-strict-aliasing -pipe -I/usr/local/include'
    ccversion='', gccversion='3.4.6', gccosandvers='solaris2.10'
    intsize=4, longsize=4, ptrsize=4, doublesize=8, byteorder=12345678
    d_longlong=define, longlongsize=8, d_longdbl=define, longdblsize=12
    ivtype='long long', ivsize=8, nvtype='double', nvsize=8, Off_t='off_t', lseeksize=8
    alignbytes=4, prototype=define
  Linker and Libraries:
    ld='gcc', ldflags =' -L/usr/local/lib '
    libpth=/usr/local/lib /usr/lib /usr/ccs/lib
    libs=-lsocket -lnsl -lgdbm -ldl -lm -lc
    perllibs=-lsocket -lnsl -ldl -lm -lc
    libc=/lib/libc.so, so=so, useshrplib=false, libperl=libperl.a
    gnulibc_version=''
  Dynamic Linking:
    dlsrc=dl_dlopen.xs, dlext=so, d_dlsymun=undef, ccdlflags=' '
    cccdlflags='-fPIC', lddlflags='-G -L/usr/local/lib'


Characteristics of this binary (from libperl): 
  Compile-time options: HAS_TIMES PERLIO_LAYERS PERL_DONT_CREATE_GVSV
                        PERL_MALLOC_WRAP PERL_PRESERVE_IVUV PERL_USE_DEVEL
                        PERL_USE_SAFE_PUTENV USE_64_BIT_INT USE_LARGE_FILES
                        USE_LOCALE USE_LOCALE_COLLATE USE_LOCALE_CTYPE
                        USE_LOCALE_NUMERIC USE_PERLIO USE_PERL_ATOF
  Built under solaris
  Compiled at Jan  2 2012 15:02:15
  %ENV:
    PERL5LIB="/export/home/cpant4/.cpan/build/Net-Radius-2.103-0NgOBm/blib/arch:/export/home/cpant4/.cpan/build/Net-Radius-2.103-0NgOBm/blib/lib:/export/home/cpant4/.cpan/build/Net-IP-Minimal-0.02-qgOcnt/blib/arch:/export/home/cpant4/.cpan/build/Net-IP-Minimal-0.02-qgOcnt/blib/lib:/export/home/cpant4/.cpan/build/Math-Random-0.71-Hy7WjR/blib/arch:/export/home/cpant4/.cpan/build/Math-Random-0.71-Hy7WjR/blib/lib"
    PERL5OPT=""
    PERL5_CPANPLUS_IS_RUNNING="17675"
    PERL5_CPAN_IS_RUNNING="17675"
    PERL5_CPAN_IS_RUNNING_IN_RECURSION="18508,17675"
    PERL_CR_SMOKER_CURRENT="POE-Component-Server-RADIUS-1.06"
    PERL_EXTUTILS_AUTOINSTALL="--defaultdeps"
    PERL_MM_USE_DEFAULT="1"
  @INC:
    /export/home/cpant4/.cpan/build/Net-Radius-2.103-0NgOBm/blib/arch
    /export/home/cpant4/.cpan/build/Net-Radius-2.103-0NgOBm/blib/lib
    /export/home/cpant4/.cpan/build/Net-IP-Minimal-0.02-qgOcnt/blib/arch
    /export/home/cpant4/.cpan/build/Net-IP-Minimal-0.02-qgOcnt/blib/lib
    /export/home/cpant4/.cpan/build/Math-Random-0.71-Hy7WjR/blib/arch
    /export/home/cpant4/.cpan/build/Math-Random-0.71-Hy7WjR/blib/lib
    /export/home/cpant4/perl5/lib/site_perl/5.15.6/i86pc-solaris-64int
    /export/home/cpant4/perl5/lib/site_perl/5.15.6
    /export/home/cpant4/perl5/lib/5.15.6/i86pc-solaris-64int
    /export/home/cpant4/perl5/lib/5.15.6
    /export/home/cpant4/perl5/lib/site_perl
    .