Report for POE-Component-Client-SMTP-0.22

Back
From: metabase:user:cdea2bfa-bc2a-11e3-af89-ed5281c858b0
Subject: PASS POE-Component-Client-SMTP-0.22 v5.14.4 GNU/Linux
Date: 2014-04-07T19:43:21Z

This distribution has been tested as part of the CPAN Testers
project, supporting the Perl programming language.  See
http://wiki.cpantesters.org/ for more information or email
questions to cpan-testers-discuss@perl.org


--
Dear George Patrascan,

This is a computer-generated report for POE-Component-Client-SMTP-0.22
on perl 5.14.4, created by CPAN-Reporter-1.2011.

Thank you for uploading your work to CPAN.  Congratulations!
All tests were successful.

Sections of this report:

    * Tester comments
    * Program output
    * Prerequisites
    * Environment and other context

------------------------------
TESTER COMMENTS
------------------------------

Additional comments from tester:

none provided

------------------------------
PROGRAM OUTPUT
------------------------------

Output from './Build test':

# Testing POE::Component::Client::SMTP 0.22, Perl 5.014004, /opt/perl5/perls/perl-5.14.4/bin/perl
t/00-load.t ......................... ok
ClientFilter ignored with ClientInputFilter and ClientOutputFilter at t/010-send-simple.t line 58.
t/010-send-simple.t ................. ok
ClientFilter ignored with ClientInputFilter and ClientOutputFilter at t/015-receive-5XY-code.t line 59.
t/015-receive-5XY-code.t ............ ok
ClientFilter ignored with ClientInputFilter and ClientOutputFilter at t/015-receive-DATA-5XY-code.t line 59.
t/015-receive-DATA-5XY-code.t ....... ok
ClientFilter ignored with ClientInputFilter and ClientOutputFilter at t/017-unknown-code.t line 60.
t/017-unknown-code.t ................ ok
t/018-consolidated_error_message.t .. ok
ClientFilter ignored with ClientInputFilter and ClientOutputFilter at t/020-send-using-all-params.t line 59.
# All Params
t/020-send-using-all-params.t ....... ok
ClientFilter ignored with ClientInputFilter and ClientOutputFilter at t/025-timeout.t line 29.
t/025-timeout.t ..................... ok
ClientFilter ignored with ClientInputFilter and ClientOutputFilter at t/030-auth-plain1.t line 77.
# Test PLAIN AUTH
t/030-auth-plain1.t ................. ok
ClientFilter ignored with ClientInputFilter and ClientOutputFilter at t/040-transaction-log.t line 71.
t/040-transaction-log.t ............. ok
ClientFilter ignored with ClientInputFilter and ClientOutputFilter at t/045-messagefile-filehandle.t line 68.
t/045-messagefile-filehandle.t ...... ok
ClientFilter ignored with ClientInputFilter and ClientOutputFilter at t/050-send-with-bcc-cc.t line 58.
# Send, To, CC, BCC
t/050-send-with-bcc-cc.t ............ ok
ClientFilter ignored with ClientInputFilter and ClientOutputFilter at t/060-send-defaults.t line 75.
# Defaults
t/060-send-defaults.t ............... ok
ClientFilter ignored with ClientInputFilter and ClientOutputFilter at t/070-test-error-return.t line 59.
t/070-test-error-return.t ........... ok
# Testing SMTP Transparency
# using POE::Component::Client::SMTP VERSION: 0.22
t/080-transparent.t ................. ok
# Using POE::Component::Client::SMTP version: 0.22
t/085-transparent_file.t ............ ok
# Using POE::Component::Client::SMTP version: 0.22
t/090-server_drops_data.t ........... ok
t/pod-coverage.t .................... ok
t/pod.t ............................. ok
All tests successful.
Files=19, Tests=67,  5 wallclock secs ( 0.09 usr  0.17 sys +  1.75 cusr  0.44 csys =  2.45 CPU)
Result: PASS

------------------------------
PREREQUISITES
------------------------------

Prerequisite modules loaded:

requires:

    Module                         Need Have    
    ------------------------------ ---- --------
    Carp                           0    1.3301  
    Data::Dumper                   0    2.151   
    perl                           0    5.014004
    POE                            0.26 1.358   
    POE::Filter::Line              0    1.358   
    POE::Filter::Stream            0    1.358   
    POE::Filter::Transparent::SMTP 0.2  0.2     
    POE::Wheel::ReadWrite          0    1.358   
    POE::Wheel::SocketFactory      0    1.358   
    Socket                         0    2.013   
    Symbol                         0    1.07    
    Test::More                     0    1.001003

configure_requires:

    Module                         Need Have    
    ------------------------------ ---- --------
    ExtUtils::MakeMaker            0    6.94    


------------------------------
ENVIRONMENT AND OTHER CONTEXT
------------------------------

Environment variables:

    LANG = en_US.UTF-8
    PATH = /opt/python3.3.4/bin:/opt/python3.3.4/lib:/opt/python3.3.4/include:/opt/perl5/bin:/opt/perl5/perls/perl-5.14.4/bin:/opt/python3.3.4/bin:/opt/python3.3.4/lib:/opt/python3.3.4/include:/opt/python3.3.4/bin:/opt/python3.3.4/lib:/opt/python3.3.4/include:/opt/python3.3.4/bin:/opt/python3.3.4/lib:/opt/python3.3.4/include:/opt/python3.3.4/bin:/opt/python3.3.4/lib:/opt/python3.3.4/include:/opt/python3.3.4/bin:/opt/python3.3.4/lib:/opt/python3.3.4/include:/opt/python3.3.4/bin:/opt/python3.3.4/lib:/opt/python3.3.4/include:/opt/python3.3.4/bin:/opt/python3.3.4/lib:/opt/python3.3.4/include:/opt/python3.3.4/bin:/opt/python3.3.4/lib:/opt/python3.3.4/include:/opt/python3.3.4/bin:/opt/python3.3.4/lib:/opt/python3.3.4/include:/bin:/sbin:/usr/bin:/usr/sbin:/bin:/sbin:/opt/python3.3.4/bin:/opt/python3.3.4/lib:/opt/python3.3.4/include
    PERL5LIB = 
    PERL5OPT = 
    PERL5_CPANPLUS_IS_RUNNING = 24586
    PERL5_CPAN_IS_RUNNING = 24586
    PERLBREW_BASHRC_VERSION = 0.67
    PERLBREW_HOME = /root/.perlbrew
    PERLBREW_MANPATH = /opt/perl5/perls/perl-5.14.4/man
    PERLBREW_PATH = /opt/perl5/bin:/opt/perl5/perls/perl-5.14.4/bin
    PERLBREW_PERL = perl-5.14.4
    PERLBREW_ROOT = /opt/perl5
    PERLBREW_VERSION = 0.67
    SHELL = /bin/bash
    TERM = xterm

Perl special variables (and OS-specific diagnostics, for MSWin32):

    $^X = /opt/perl5/perls/perl-5.14.4/bin/perl
    $UID/$EUID = 0 / 0
    $GID = 0 0
    $EGID = 0 0

Perl module toolchain versions installed:

    Module              Have     
    ------------------- ---------
    CPAN                1.9600_01
    CPAN::Meta          2.140640 
    Cwd                 3.40     
    ExtUtils::CBuilder  0.280203 
    ExtUtils::Command   1.17     
    ExtUtils::Install   1.56     
    ExtUtils::MakeMaker 6.94     
    ExtUtils::Manifest  1.60     
    ExtUtils::ParseXS   3.24     
    File::Spec          3.40     
    JSON                2.90     
    JSON::PP            2.27203  
    Module::Build       0.4205   
    Module::Signature   n/a      
    Parse::CPAN::Meta   1.4414   
    Test::Harness       3.30     
    Test::More          1.001003 
    YAML                0.90     
    YAML::Syck          1.27     
    version             0.9908   


--

Summary of my perl5 (revision 5 version 14 subversion 4) configuration:
   
  Platform:
    osname=linux, osvers=3.11.0-18-generic, archname=x86_64-linux
    uname='linux ubuntu13 3.11.0-18-generic #32-ubuntu smp tue feb 18 21:11:14 utc 2014 x86_64 x86_64 x86_64 gnulinux '
    config_args='-de -Dprefix=/opt/perl5/perls/perl-5.14.4 -Aeval:scriptdir=/opt/perl5/perls/perl-5.14.4/bin'
    hint=recommended, useposix=true, d_sigaction=define
    useithreads=undef, usemultiplicity=undef
    useperlio=define, d_sfio=undef, uselargefiles=define, usesocks=undef
    use64bitint=define, use64bitall=define, uselongdouble=undef
    usemymalloc=n, bincompat5005=undef
  Compiler:
    cc='cc', ccflags ='-fno-strict-aliasing -pipe -fstack-protector -I/usr/local/include -D_LARGEFILE_SOURCE -D_FILE_OFFSET_BITS=64',
    optimize='-O2',
    cppflags='-fno-strict-aliasing -pipe -fstack-protector -I/usr/local/include'
    ccversion='', gccversion='4.8.1', gccosandvers=''
    intsize=4, longsize=8, ptrsize=8, doublesize=8, byteorder=12345678
    d_longlong=define, longlongsize=8, d_longdbl=define, longdblsize=16
    ivtype='long', ivsize=8, nvtype='double', nvsize=8, Off_t='off_t', lseeksize=8
    alignbytes=8, prototype=define
  Linker and Libraries:
    ld='cc', ldflags =' -fstack-protector -L/usr/local/lib'
    libpth=/usr/local/lib /lib/x86_64-linux-gnu /lib/../lib /usr/lib/x86_64-linux-gnu /usr/lib/../lib /lib /usr/lib
    libs=-lnsl -ldl -lm -lcrypt -lutil -lc
    perllibs=-lnsl -ldl -lm -lcrypt -lutil -lc
    libc=libc-2.17.so, so=so, useshrplib=false, libperl=libperl.a
    gnulibc_version='2.17'
  Dynamic Linking:
    dlsrc=dl_dlopen.xs, dlext=so, d_dlsymun=undef, ccdlflags='-Wl,-E'
    cccdlflags='-fPIC', lddlflags='-shared -O2 -L/usr/local/lib -fstack-protector'


Characteristics of this binary (from libperl): 
  Compile-time options: PERL_DONT_CREATE_GVSV PERL_MALLOC_WRAP
                        PERL_PRESERVE_IVUV USE_64_BIT_ALL USE_64_BIT_INT
                        USE_LARGE_FILES USE_PERLIO USE_PERL_ATOF
  Built under linux
  Compiled at Apr  4 2014 11:56:07
  %ENV:
    PERL5LIB=""
    PERL5OPT=""
    PERL5_CPANPLUS_IS_RUNNING="24586"
    PERL5_CPAN_IS_RUNNING="24586"
    PERLBREW_BASHRC_VERSION="0.67"
    PERLBREW_HOME="/root/.perlbrew"
    PERLBREW_MANPATH="/opt/perl5/perls/perl-5.14.4/man"
    PERLBREW_PATH="/opt/perl5/bin:/opt/perl5/perls/perl-5.14.4/bin"
    PERLBREW_PERL="perl-5.14.4"
    PERLBREW_ROOT="/opt/perl5"
    PERLBREW_VERSION="0.67"
  @INC:
    /opt/perl5/perls/perl-5.14.4/lib/site_perl/5.14.4/x86_64-linux
    /opt/perl5/perls/perl-5.14.4/lib/site_perl/5.14.4
    /opt/perl5/perls/perl-5.14.4/lib/5.14.4/x86_64-linux
    /opt/perl5/perls/perl-5.14.4/lib/5.14.4
    .