Test-PostgreSQL v1.29 Perl 5 v5.41.9 darwin-2level

Status
Pass
From
David Cantrell (DCANTRELL)
Dist
Test-PostgreSQL v1.29
Platform
Perl 5 v5.41.9 darwin-2level
Date
2025-02-25 18:46:51
ID
e00f64d2-f3a8-11ef-bd45-db2a917a42e3
This distribution has been tested as part of the CPAN Testers
project, supporting the Perl programming language.  See
http://wiki.cpantesters.org/ for more information or email
questions to cpan-testers-discuss@perl.org


--
Dear Toby Corkindale,

This is a computer-generated report for Test-PostgreSQL-1.29
on perl 5.41.9, created by CPAN-Reporter-1.2020.

Thank you for uploading your work to CPAN.  Congratulations!
All tests were successful.

Sections of this report:

    * Tester comments
    * Program output
    * Prerequisites
    * Environment and other context

------------------------------
TESTER COMMENTS
------------------------------

Additional comments from tester:

this report is from an automated smoke testing program
and was not reviewed by a human for accuracy

------------------------------
PROGRAM OUTPUT
------------------------------

Output from './Build test':

t/00-base.t .............. ok
t/01-raii.t .............. skipped: could not find postmaster, please set appropriate PATH or POSTGRES_HOME at /Users/cpantesting/cpantesting/perl-blead/.cpan/build/Test-PostgreSQL-1.29-0/blib/lib/Test/PostgreSQL.pm line 309.
t/02-multi.t ............. skipped: could not find postmaster, please set appropriate PATH or POSTGRES_HOME at /Users/cpantesting/cpantesting/perl-blead/.cpan/build/Test-PostgreSQL-1.29-0/blib/lib/Test/PostgreSQL.pm line 309.
t/04-multiprocess.t ...... skipped: could not find postmaster, please set appropriate PATH or POSTGRES_HOME at /Users/cpantesting/cpantesting/perl-blead/.cpan/build/Test-PostgreSQL-1.29-0/blib/lib/Test/PostgreSQL.pm line 309.
t/05-recycle-base-dir.t .. skipped: could not find postmaster, please set appropriate PATH or POSTGRES_HOME at /Users/cpantesting/cpantesting/perl-blead/.cpan/build/Test-PostgreSQL-1.29-0/blib/lib/Test/PostgreSQL.pm line 309.
t/06-unix-socket.t ....... skipped: could not find postmaster, please set appropriate PATH or POSTGRES_HOME at /Users/cpantesting/cpantesting/perl-blead/.cpan/build/Test-PostgreSQL-1.29-0/blib/lib/Test/PostgreSQL.pm line 309.
t/07-configs.t ........... skipped: could not find postmaster, please set appropriate PATH or POSTGRES_HOME at /Users/cpantesting/cpantesting/perl-blead/.cpan/build/Test-PostgreSQL-1.29-0/blib/lib/Test/PostgreSQL.pm line 309.
t/08-postgresql_conf.t ... skipped: could not find postmaster, please set appropriate PATH or POSTGRES_HOME at /Users/cpantesting/cpantesting/perl-blead/.cpan/build/Test-PostgreSQL-1.29-0/blib/lib/Test/PostgreSQL.pm line 309.
t/09-run_psql.t .......... skipped: could not find postmaster, please set appropriate PATH or POSTGRES_HOME at /Users/cpantesting/cpantesting/perl-blead/.cpan/build/Test-PostgreSQL-1.29-0/blib/lib/Test/PostgreSQL.pm line 309.
t/10-seed_scripts.t ...... skipped: could not find postmaster, please set appropriate PATH or POSTGRES_HOME at /Users/cpantesting/cpantesting/perl-blead/.cpan/build/Test-PostgreSQL-1.29-0/blib/lib/Test/PostgreSQL.pm line 309.
t/deadlock.t ............. skipped: could not find postmaster, please set appropriate PATH or POSTGRES_HOME at /Users/cpantesting/cpantesting/perl-blead/.cpan/build/Test-PostgreSQL-1.29-0/blib/lib/Test/PostgreSQL.pm line 309.
All tests successful.
Files=11, Tests=1,  5 wallclock secs ( 0.06 usr  0.04 sys +  3.89 cusr  0.67 csys =  4.66 CPU)
Result: PASS

------------------------------
PREREQUISITES
------------------------------

Prerequisite modules loaded:

requires:

    Module               Need  Have    
    -------------------- ----- --------
  ! DBD::Pg              0     n/a     
    DBI                  0     1.647   
    File::Spec           0     3.93    
    File::Which          0     1.27    
    Function::Parameters 0     2.002005
    Moo                  0     2.005005
    perl                 5.014 5.041009
    POSIX                0     2.23    
    Tie::Hash::Method    0     0.02    
    Try::Tiny            0     0.32    
    Types::Standard      0     2.006000
    User::pwent          0     1.03    

build_requires:

    Module               Need  Have    
    -------------------- ----- --------
  ! DBD::Pg              0     n/a     
    Test::SharedFork     0.06  0.35    

configure_requires:

    Module               Need  Have    
    -------------------- ----- --------
    Module::Build::Tiny  0.035 0.051   


------------------------------
ENVIRONMENT AND OTHER CONTEXT
------------------------------

Environment variables:

    AUTOMATED_TESTING = 1
    NONINTERACTIVE_TESTING = 1
    PATH = /Users/cpantesting/perl5/perlbrew/bin:/Users/cpantesting/perl5/perlbrew/perls/perl-5.32.0/bin:/usr/local/bin:/System/Cryptexes/App/usr/bin:/usr/bin:/bin:/usr/sbin:/sbin:/var/run/com.apple.security.cryptexd/codex.system/bootstrap/usr/local/bin:/var/run/com.apple.security.cryptexd/codex.system/bootstrap/usr/bin:/var/run/com.apple.security.cryptexd/codex.system/bootstrap/usr/appleinternal/bin:/Library/Apple/usr/bin:/Applications/VMware Fusion.app/Contents/Public:/usr/local/zfs/bin:/Users/cpantesting/.cargo/bin
    PERL = blead
    PERL5LIB = 
    PERL5OPT = 
    PERL5_CPANPLUS_IS_RUNNING = 72056
    PERL5_CPAN_IS_RUNNING = 72056
    PERLBREW_HOME = /Users/cpantesting/.perlbrew
    PERLBREW_MANPATH = /Users/cpantesting/perl5/perlbrew/perls/perl-5.32.0/man
    PERLBREW_PATH = /Users/cpantesting/perl5/perlbrew/bin:/Users/cpantesting/perl5/perlbrew/perls/perl-5.32.0/bin
    PERLBREW_PERL = perl-5.32.0
    PERLBREW_ROOT = /Users/cpantesting/perl5/perlbrew
    PERLBREW_SHELLRC_VERSION = 0.94
    PERLBREW_VERSION = 0.94
    PERLVER = blead
    PERL_INLINE_DIRECTORY = /Users/cpantesting/.Inline-blead
    PERL_MM_USE_DEFAULT = 1
    PERL_USE_UNSAFE_INC = 0
    SHELL = /bin/bash
    TERM = screen

Perl special variables (and OS-specific diagnostics, for MSWin32):

    $^X = /Users/cpantesting/cpantesting/perl-blead/bin/perl5.41.9
    $UID/$EUID = 503 / 503
    $GID = 20 20 12 61 703 702 701 100
    $EGID = 20 20 12 61 703 702 701 100

Perl module toolchain versions installed:

    Module              Have    
    ------------------- --------
    CPAN                2.38    
    CPAN::Meta          2.150010
    Cwd                 3.92    
    ExtUtils::CBuilder  0.280240
    ExtUtils::Command   7.70    
    ExtUtils::Install   2.22    
    ExtUtils::MakeMaker 7.70    
    ExtUtils::Manifest  1.75    
    ExtUtils::ParseXS   3.57    
    File::Spec          3.93    
    JSON                4.10    
    JSON::PP            4.16    
    Module::Build       0.4234  
    Module::Signature   n/a     
    Parse::CPAN::Meta   2.150010
    Test2               1.302209
    Test::Harness       3.50    
    Test::More          1.302209
    YAML                1.31    
    YAML::Syck          1.34    
    version             0.9933  


--

Summary of my perl5 (revision 5 version 41 subversion 9) configuration:
  Commit id: 3df6082ad3a242bc0245bc1aa2706a0e032e5d83
  Platform:
    osname=darwin
    osvers=24.2.0
    archname=darwin-2level
    uname='darwin harrow.home 24.2.0 darwin kernel version 24.2.0: fri dec 6 18:41:43 pst 2024; root:xnu-11215.61.5~2release_x86_64 x86_64 '
    config_args='-de -Dprefix=/Users/cpantesting/cpantesting/perl-blead -Dusedevel'
    hint=recommended
    useposix=true
    d_sigaction=define
    useithreads=undef
    usemultiplicity=undef
    use64bitint=define
    use64bitall=define
    uselongdouble=undef
    usemymalloc=n
    default_inc_excludes_dot=define
  Compiler:
    cc='cc'
    ccflags ='-fno-common -DPERL_DARWIN -mmacosx-version-min=15.2 -DNO_THREAD_SAFE_QUERYLOCALE -DNO_POSIX_2008_LOCALE -DHAS_BROKEN_LANGINFO_CODESET -fno-strict-aliasing -pipe -fstack-protector-strong -I/usr/local/include'
    optimize='-O3'
    cppflags='-fno-common -DPERL_DARWIN -mmacosx-version-min=15.2 -DNO_THREAD_SAFE_QUERYLOCALE -DNO_POSIX_2008_LOCALE -DHAS_BROKEN_LANGINFO_CODESET -fno-strict-aliasing -pipe -fstack-protector-strong -I/usr/local/include'
    ccversion=''
    gccversion='Apple LLVM 16.0.0 (clang-1600.0.26.6)'
    gccosandvers=''
    intsize=4
    longsize=8
    ptrsize=8
    doublesize=8
    byteorder=12345678
    doublekind=3
    d_longlong=define
    longlongsize=8
    d_longdbl=define
    longdblsize=16
    longdblkind=3
    ivtype='long'
    ivsize=8
    nvtype='double'
    nvsize=8
    Off_t='off_t'
    lseeksize=8
    alignbytes=8
    prototype=define
  Linker and Libraries:
    ld='cc'
    ldflags =' -mmacosx-version-min=15.2 -fstack-protector-strong -L/usr/local/lib'
    libpth=/usr/local/lib /Applications/Xcode.app/Contents/Developer/Toolchains/XcodeDefault.xctoolchain/usr/lib/clang/16/lib /Applications/Xcode.app/Contents/Developer/Platforms/MacOSX.platform/Developer/SDKs/MacOSX.sdk/usr/lib /Applications/Xcode.app/Contents/Developer/Toolchains/XcodeDefault.xctoolchain/usr/lib /usr/lib
    libs=-lgdbm
    perllibs=
    libc=
    so=dylib
    useshrplib=false
    libperl=libperl.a
    gnulibc_version=''
  Dynamic Linking:
    dlsrc=dl_dlopen.xs
    dlext=bundle
    d_dlsymun=undef
    ccdlflags=' '
    cccdlflags=' '
    lddlflags=' -mmacosx-version-min=15.2 -bundle -undefined dynamic_lookup -L/usr/local/lib -fstack-protector-strong'


Characteristics of this binary (from libperl): 
  Compile-time options:
    HAS_LONG_DOUBLE
    HAS_STRTOLD
    HAS_TIMES
    PERLIO_LAYERS
    PERL_COPY_ON_WRITE
    PERL_DONT_CREATE_GVSV
    PERL_HASH_FUNC_SIPHASH13
    PERL_HASH_USE_SBOX32
    PERL_MALLOC_WRAP
    PERL_OP_PARENT
    PERL_PRESERVE_IVUV
    PERL_USE_DEVEL
    PERL_USE_SAFE_PUTENV
    USE_64_BIT_ALL
    USE_64_BIT_INT
    USE_LARGE_FILES
    USE_LOCALE
    USE_LOCALE_COLLATE
    USE_LOCALE_CTYPE
    USE_LOCALE_NUMERIC
    USE_LOCALE_TIME
    USE_PERLIO
    USE_PERL_ATOF
  Built under darwin
  Compiled at Feb 22 2025 11:06:03
  %ENV:
    PERL="blead"
    PERL5LIB=""
    PERL5OPT=""
    PERL5_CPANPLUS_IS_RUNNING="72056"
    PERL5_CPAN_IS_RUNNING="72056"
    PERLBREW_HOME="/Users/cpantesting/.perlbrew"
    PERLBREW_MANPATH="/Users/cpantesting/perl5/perlbrew/perls/perl-5.32.0/man"
    PERLBREW_PATH="/Users/cpantesting/perl5/perlbrew/bin:/Users/cpantesting/perl5/perlbrew/perls/perl-5.32.0/bin"
    PERLBREW_PERL="perl-5.32.0"
    PERLBREW_ROOT="/Users/cpantesting/perl5/perlbrew"
    PERLBREW_SHELLRC_VERSION="0.94"
    PERLBREW_VERSION="0.94"
    PERLVER="blead"
    PERL_INLINE_DIRECTORY="/Users/cpantesting/.Inline-blead"
    PERL_MM_USE_DEFAULT="1"
    PERL_USE_UNSAFE_INC="0"
  @INC:
    /Users/cpantesting/cpantesting/perl-blead/lib/site_perl/5.41.9/darwin-2level
    /Users/cpantesting/cpantesting/perl-blead/lib/site_perl/5.41.9
    /Users/cpantesting/cpantesting/perl-blead/lib/5.41.9/darwin-2level
    /Users/cpantesting/cpantesting/perl-blead/lib/5.41.9