Report for Webservice-InterMine-1.0404

Back
From: metabase:user:320bfe00-2aae-11df-837a-5e0a49663a4f
Subject: PASS Webservice-InterMine-1.0404 v5.22.1 GNU/Linux
Date: 2016-02-06T20:54:54Z

This distribution has been tested as part of the CPAN Testers
project, supporting the Perl programming language.  See
http://wiki.cpantesters.org/ for more information or email
questions to cpan-testers-discuss@perl.org


--
Dear InterMine,

This is a computer-generated report for Webservice-InterMine-1.0404
on perl 5.22.1, created by CPAN-Reporter-1.2015.

Thank you for uploading your work to CPAN.  Congratulations!
All tests were successful.

Sections of this report:

    * Tester comments
    * Program output
    * Prerequisites
    * Environment and other context

------------------------------
TESTER COMMENTS
------------------------------

Additional comments from tester:

this report is from an automated smoke testing program
and was not reviewed by a human for accuracy

------------------------------
PROGRAM OUTPUT
------------------------------

Output from './Build test':

# Testing Webservice::Webservice::InterMine 1.0404, Perl 5.022001, /tmp/basesmoker-reloperl-yngc/bin/perl
t/00-load.t ................................ ok
t/01_path/01_validate.t .................... ok
t/02_pathfeature/01_pathfeature.t .......... ok
t/03_constraint/01_constraint.t ............ ok
t/03_constraint/02_constraint_factory.t .... ok
t/03_constraint/03_template_constraints.t .. ok
t/03_constraint/04_logic.t ................. ok
t/04_query/01_core.t ....................... ok
t/04_query/02_pathquery.t .................. ok
t/04_query/03_saved.t ...................... ok
t/04_query/03_scripted.t ................... ok
t/04_query/04_template.t ................... ok
t/04_query/05_good_and_bad_templates.t ..... ok
t/05_template/01_factory.t ................. ok
t/06_service/01_service.t .................. ok
t/06_service/02_result_iterator.t .......... ok
t/06_service/03_result_objects.t ........... ok
t/06_service/04_serviced_queries.t ......... ok
t/06_service/05_result_row.t ............... ok
t/06_service/06_test_export_exclusion.t .... ok
t/06_service/07_test_inclusion.t ........... ok
t/07_intermine/01_integration.t ............ ok
t/10_acceptance/01_live_test.t ............. skipped: Acceptance tests for release testing only
t/10_acceptance/02_lists.t ................. skipped: Acceptance tests for release testing only
t/10_acceptance/02_lists_with_tokens.t ..... skipped: Acceptance tests for release testing only
t/10_acceptance/04_paths.t ................. skipped: Acceptance tests for release testing only
t/10_acceptance/05_summaries.t ............. skipped: Acceptance tests for release testing only
t/10_acceptance/06_redirection.t ........... skipped: Acceptance tests for release testing only
t/10_acceptance/07_lazy_references.t ....... skipped: Acceptance tests for release testing only
t/10_acceptance/08_enrichment.t ............ skipped: Acceptance tests for release testing only
t/10_acceptance/09_widgets.t ............... skipped: Acceptance tests for release testing only
t/10_acceptance/10_id_resolution.t ......... skipped: Acceptance tests for release testing only
t/manifest.t ............................... skipped: Author tests not required for installation
t/moose-hygiene.t .......................... ok
t/pod-coverage.t ........................... skipped: Complete documentation coverage is coming shortly
t/pod.t .................................... ok
All tests successful.
Files=36, Tests=4583, 67 wallclock secs ( 0.65 usr  0.32 sys + 64.15 cusr  2.85 csys = 67.97 CPU)
Result: PASS

------------------------------
PREREQUISITES
------------------------------

Prerequisite modules loaded:

requires:

    Module                        Need   Have      
    ----------------------------- ------ ----------
    AppConfig                     0      1.71      
    Class::InsideOut              1.04   1.13      
    DateTime                      0      1.21      
    DateTime::Format::ISO8601     0      0.08      
    HTTP::Request::Common         0      6.11      
    HTTP::Response                0      6.11      
    InterMine::Model              0.9901 0.9901    
    IO::File                      0      1.16      
    IO::Handle                    0      1.35      
    JSON                          0      2.90      
    JSON::XS                      0      3.01      
    List::MoreUtils               0.22   0.413     
    LWP                           5.8    6.15      
    MIME::Base64                  0      3.15      
    Module::Build                 0      0.4216    
    Module::Find                  0.05   0.13      
    Moose                         0.95   2.1604    
    MooseX::Role::WithOverloading 0.03   0.17      
    MooseX::Types                 0.34   0.46      
    perl                          v5.8.3 5.022001  
    Perl6::Junction               0      1.60000   
    Pod::Usage                    0      1.68      
    Scalar::Util                  0      1.42      
    Set::Object                   0      1.35      
    Time::HiRes                   0      1.9726    
    URI                           1.37   1.71      
    XML::DOM                      0      1.45      
    XML::Parser::PerlSAX          0.08   0.08      

build_requires:

    Module                        Need   Have      
    ----------------------------- ------ ----------
    Module::Build                 0.36   0.4216    
    Set::CrossProduct             0      1.96      
    Test::Class                   0      0.50      
    Test::Exception               0      0.43      
    Test::MockObject              0      1.20150527
    Test::MockObject::Extends     0      1.20150527
    Test::More                    0.9    1.001014  
    Test::XML                     0      0.08      
    XML::Compare                  0.04   0.05      
    XML::Rules                    0      1.16      

configure_requires:

    Module                        Need   Have      
    ----------------------------- ------ ----------
    Module::Build                 0.36   0.4216    


------------------------------
ENVIRONMENT AND OTHER CONTEXT
------------------------------

Environment variables:

    AUTOMATED_TESTING = 1
    LANG = en_US.UTF-8
    LANGUAGE = en_US:en
    PATH = /usr/lib/ccache:/home/sand/bin:/usr/local/bin:/usr/bin:/bin:/usr/games:/usr/local/perl/bin:/usr/X11/bin:/sbin:/usr/sbin
    PERL5LIB = 
    PERL5OPT = 
    PERL5_CPANPLUS_IS_RUNNING = 13194
    PERL5_CPAN_IS_RUNNING = 13194
    PERL_MM_USE_DEFAULT = 1
    SHELL = /usr/bin/zsh
    TERM = screen

Perl special variables (and OS-specific diagnostics, for MSWin32):

    $^X = /tmp/basesmoker-reloperl-yngc/bin/perl
    $UID/$EUID = 1005 / 1005
    $GID = 1005 1005
    $EGID = 1005 1005

Perl module toolchain versions installed:

    Module              Have    
    ------------------- --------
    CPAN                2.12    
    CPAN::Meta          2.150005
    Cwd                 3.62    
    ExtUtils::CBuilder  0.280224
    ExtUtils::Command   7.10    
    ExtUtils::Install   2.04    
    ExtUtils::MakeMaker 7.10    
    ExtUtils::Manifest  1.70    
    ExtUtils::ParseXS   3.28    
    File::Spec          3.62    
    JSON                2.90    
    JSON::PP            2.27300 
    Module::Build       0.4216  
    Module::Signature   0.79    
    Parse::CPAN::Meta   1.4417  
    Test::Harness       3.36    
    Test::More          1.001014
    YAML                1.15    
    YAML::Syck          1.29    
    version             0.9909  


--

Summary of my perl5 (revision 5 version 22 subversion 1) configuration:
  Commit id: 0ab152a1d10861997fe3e1b985cc92f142f4cec7
  Platform:
    osname=linux, osvers=4.3.0-1-amd64, archname=x86_64-linux
    uname='linux k83 4.3.0-1-amd64 #1 smp debian 4.3.3-7 (2016-01-19) x86_64 gnulinux '
    config_args='-Dprefix=/home/sand/src/perl/repoperls/installed-perls/perl/v5.22.1/f991f -Dmyhostname=k83 -Dinstallusrbinperl=n -Uversiononly -Dusedevel -des -Ui_db -Dlibswanted=cl pthread socket inet nsl gdbm dbm malloc dl ld sun m crypt sec util c cposix posix ucb BSD gdbm_compat -Uuseithreads -Uuselongdouble'
    hint=recommended, useposix=true, d_sigaction=define
    useithreads=undef, usemultiplicity=undef
    use64bitint=define, use64bitall=define, uselongdouble=undef
    usemymalloc=n, bincompat5005=undef
  Compiler:
    cc='cc', ccflags ='-fwrapv -fno-strict-aliasing -pipe -fstack-protector-strong -I/usr/local/include -D_LARGEFILE_SOURCE -D_FILE_OFFSET_BITS=64',
    optimize='-O2',
    cppflags='-fwrapv -fno-strict-aliasing -pipe -fstack-protector-strong -I/usr/local/include'
    ccversion='', gccversion='5.3.1 20160121', gccosandvers=''
    intsize=4, longsize=8, ptrsize=8, doublesize=8, byteorder=12345678, doublekind=3
    d_longlong=define, longlongsize=8, d_longdbl=define, longdblsize=16, longdblkind=3
    ivtype='long', ivsize=8, nvtype='double', nvsize=8, Off_t='off_t', lseeksize=8
    alignbytes=8, prototype=define
  Linker and Libraries:
    ld='cc', ldflags =' -fstack-protector-strong -L/usr/local/lib'
    libpth=/usr/local/lib /usr/lib/gcc/x86_64-linux-gnu/5/include-fixed /usr/include/x86_64-linux-gnu /usr/lib /lib/x86_64-linux-gnu /lib/../lib /usr/lib/x86_64-linux-gnu /usr/lib/../lib /lib
    libs=-lpthread -lnsl -lgdbm -ldl -lm -lcrypt -lutil -lc -lgdbm_compat
    perllibs=-lpthread -lnsl -ldl -lm -lcrypt -lutil -lc
    libc=libc-2.21.so, so=so, useshrplib=false, libperl=libperl.a
    gnulibc_version='2.21'
  Dynamic Linking:
    dlsrc=dl_dlopen.xs, dlext=so, d_dlsymun=undef, ccdlflags='-Wl,-E'
    cccdlflags='-fPIC', lddlflags='-shared -O2 -L/usr/local/lib -fstack-protector-strong'


Characteristics of this binary (from libperl): 
  Compile-time options: HAS_TIMES PERLIO_LAYERS PERL_DONT_CREATE_GVSV
                        PERL_HASH_FUNC_ONE_AT_A_TIME_HARD PERL_MALLOC_WRAP
                        PERL_NEW_COPY_ON_WRITE PERL_PRESERVE_IVUV
                        PERL_USE_DEVEL USE_64_BIT_ALL USE_64_BIT_INT
                        USE_LARGE_FILES USE_LOCALE USE_LOCALE_COLLATE
                        USE_LOCALE_CTYPE USE_LOCALE_NUMERIC USE_LOCALE_TIME
                        USE_PERLIO USE_PERL_ATOF
  Built under linux
  Compiled at Feb  6 2016 13:16:43
  %ENV:
    PERL5LIB=""
    PERL5OPT=""
    PERL5_CPANPLUS_IS_RUNNING="13194"
    PERL5_CPAN_IS_RUNNING="13194"
    PERL_MM_USE_DEFAULT="1"
  @INC:
    /home/sand/src/perl/repoperls/installed-perls/perl/v5.22.1/f991f/lib/site_perl/5.22.1/x86_64-linux
    /home/sand/src/perl/repoperls/installed-perls/perl/v5.22.1/f991f/lib/site_perl/5.22.1
    /home/sand/src/perl/repoperls/installed-perls/perl/v5.22.1/f991f/lib/5.22.1/x86_64-linux
    /home/sand/src/perl/repoperls/installed-perls/perl/v5.22.1/f991f/lib/5.22.1
    .