WWW-Mechanize-Cached v1.56 Perl 5 v5.28.3 arm64-freebsd
- Status
- Pass
- From
- Slaven Rezić
- Dist
-
WWW-Mechanize-Cached v1.56
- Platform
- Perl 5 v5.28.3 arm64-freebsd
- Date
- 2025-04-22 21:29:29
- ID
- dfc9efa8-1fc0-11f0-9fb1-cf3a6e8775ea
This distribution has been tested as part of the CPAN Testers
project, supporting the Perl programming language. See
http://wiki.cpantesters.org/ for more information or email
questions to cpan-testers-discuss@perl.org
--
Dear Olaf Alders,
This is a computer-generated report for WWW-Mechanize-Cached-1.56
on perl 5.28.3, created by CPAN-Reporter-1.2019.
Thank you for uploading your work to CPAN. Congratulations!
All tests were successful.
Sections of this report:
* Tester comments
* Program output
* Prerequisites
* Environment and other context
------------------------------
TESTER COMMENTS
------------------------------
Additional comments from tester:
none provided
------------------------------
PROGRAM OUTPUT
------------------------------
Output from '/usr/bin/make test':
PERL_DL_NONLAZY=1 "/usr/perl5.28.3/bin/perl" "-MExtUtils::Command::MM" "-MTest::Harness" "-e" "undef *Test::Harness::Switches; test_harness(0, 'blib/lib', 'blib/arch')" t/*.t
#
# Versions for all modules listed in MYMETA.json (including optional ones):
#
# === Configure Requires ===
#
# Module Want Have
# ------------------- ---- ----
# ExtUtils::MakeMaker any 7.70
#
# === Build Requires ===
#
# Module Want Have
# ------------------- ---- ----
# ExtUtils::MakeMaker any 7.70
#
# === Test Requires ===
#
# Module Want Have
# ---------------------- ---- --------
# CHI any 0.61
# Cache::FileCache any undef
# ExtUtils::MakeMaker any 7.70
# File::Spec any 3.75
# HTTP::Request any 6.46
# HTTP::Response any 6.46
# Path::Tiny any 0.146
# Test::Fatal any 0.017
# Test::More any 1.302209
# Test::Needs any 0.002010
# Test::RequiresInternet any 0.05
# Test::Warnings any 0.037
# URI::file any 5.28
# constant any 1.33
# lib any 0.64
# strict any 1.11
#
# === Test Recommends ===
#
# Module Want Have
# ---------- -------- --------
# CPAN::Meta 2.120900 2.150010
#
# === Runtime Requires ===
#
# Module Want Have
# ---------------------------- -------- --------
# Cache::FileCache any undef
# Carp any 1.50
# Data::Dump any 1.25
# LWP::UserAgent 6.66 6.77
# Module::Runtime any 0.016
# Moo 1.004005 2.005005
# MooX::Types::MooseLike::Base any 0.29
# Storable 2.21 3.25
# WWW::Mechanize any 2.18
# namespace::clean any 0.27
# warnings any 1.42
#
# === Runtime Recommends ===
#
# Module Want Have
# ------ ---- ----
# CHI any 0.61
#
t/00-report-prereqs.t ........ ok
t/002-bad-custom-cache.t ..... ok
t/004-cached.t ............... ok
t/005-custom-cache.t ......... ok
t/006-cached-chi.t ........... ok
t/007-clear-cache.t .......... ok
t/007-initialize-warnings.t .. ok
# reversing page order
t/cache_key.t ................ ok
t/cache_ok.t ................. ok
t/default.t .................. ok
t/is_cached.t ................ ok
t/response_cache_ok.t ........ ok
All tests successful.
Files=12, Tests=129, 10 wallclock secs ( 0.09 usr 0.00 sys + 2.75 cusr 0.41 csys = 3.24 CPU)
Result: PASS
------------------------------
PREREQUISITES
------------------------------
Prerequisite modules loaded:
requires:
Module Need Have
---------------------------- -------- --------
Cache::FileCache 0 0
Carp 0 1.50
Data::Dump 0 1.25
LWP::UserAgent 6.66 6.77
Module::Runtime 0 0.016
Moo 1.004005 2.005005
MooX::Types::MooseLike::Base 0 0.29
namespace::clean 0 0.27
perl 5.008 5.028003
Storable 2.21 3.25
warnings 0 1.42
WWW::Mechanize 0 2.18
build_requires:
Module Need Have
---------------------------- -------- --------
Cache::FileCache 0 0
CHI 0 0.61
constant 0 1.33
ExtUtils::MakeMaker 0 7.70
File::Spec 0 3.75
HTTP::Request 0 6.46
HTTP::Response 0 6.46
lib 0 0.64
Path::Tiny 0 0.146
strict 0 1.11
Test::Fatal 0 0.017
Test::More 0 1.302209
Test::Needs 0 0.002010
Test::RequiresInternet 0 0.05
Test::Warnings 0 0.037
URI::file 0 5.28
configure_requires:
Module Need Have
---------------------------- -------- --------
ExtUtils::MakeMaker 0 7.70
perl 5.006 5.028003
------------------------------
ENVIRONMENT AND OTHER CONTEXT
------------------------------
Environment variables:
LANG = C.UTF-8
PATH = /usr/local/bin:/usr/bin:/bin:/usr/local/sbin:/usr/sbin:/sbin:/home/cpansand/bin/sh:/home/cpansand/bin:/usr/games:/home/cpansand/devel:/home/eserte/src/srezic-misc/scripts
PERL5LIB =
PERL5OPT =
PERL5_CPANPLUS_IS_RUNNING = 23091
PERL5_CPAN_IS_RUNNING = 23091
PERL5_CPAN_IS_RUNNING_IN_RECURSION = 17400,23091
PERL_BATCH = yes
PERL_CANARY_STABILITY_NOPROMPT = 1
PERL_CPAN_REPORTER_CONFIG = /var/tmp/cpansmoker-1023/2025042221/cpanreporter_000_config.ini
PERL_EXTUTILS_AUTOINSTALL = --defaultdeps
PERL_USE_UNSAFE_INC = 1
SHELL = /bin/sh
TMPDIR = /var/tmp/cpansmoker-1023/2025042221
Perl special variables (and OS-specific diagnostics, for MSWin32):
$^X = /usr/perl5.28.3/bin/perl
$UID/$EUID = 1023 / 1023
$GID = 1023 1023
$EGID = 1023 1023
Perl module toolchain versions installed:
Module Have
------------------- --------
CPAN 2.20
CPAN::Meta 2.150010
Cwd 3.75
ExtUtils::CBuilder 0.280236
ExtUtils::Command 7.70
ExtUtils::Install 2.22
ExtUtils::MakeMaker 7.70
ExtUtils::Manifest 1.75
ExtUtils::ParseXS 3.51
File::Spec 3.75
JSON 4.10
JSON::PP 4.16
Module::Build 0.4234
Module::Signature n/a
Parse::CPAN::Meta 2.150010
Test2 1.302209
Test::Harness 3.50
Test::More 1.302209
YAML 1.31
YAML::Syck 1.34
version 0.9923
--
Summary of my perl5 (revision 5 version 28 subversion 3) configuration:
Platform:
osname=freebsd
osvers=14.1-stable
archname=arm64-freebsd
uname='freebsd cloud9.bbbike.org 14.1-stable freebsd 14.1-stable stable14-n268041-bb7b7b0eb7cf generic arm64 '
config_args='-ds -e -Dprefix=/usr/perl5.28.3 -Dcf_email=srezic@cpan.org -Doptimize=-O2 -pipe'
hint=recommended
useposix=true
d_sigaction=define
useithreads=undef
usemultiplicity=undef
use64bitint=define
use64bitall=define
uselongdouble=undef
usemymalloc=n
default_inc_excludes_dot=define
bincompat5005=undef
Compiler:
cc='cc'
ccflags ='-DHAS_FPSETMASK -DHAS_FLOATINGPOINT_H -fno-strict-aliasing -pipe -fstack-protector-strong -I/usr/local/include'
optimize='-O2 -pipe'
cppflags='-DHAS_FPSETMASK -DHAS_FLOATINGPOINT_H -fno-strict-aliasing -pipe -fstack-protector-strong -I/usr/local/include'
ccversion=''
gccversion='FreeBSD Clang 18.1.6 (https://github.com/llvm/llvm-project.git llvmorg-18.1.6-0-g1118c2e05e67)'
gccosandvers=''
intsize=4
longsize=8
ptrsize=8
doublesize=8
byteorder=12345678
doublekind=3
d_longlong=define
longlongsize=8
d_longdbl=define
longdblsize=16
longdblkind=1
ivtype='long'
ivsize=8
nvtype='double'
nvsize=8
Off_t='off_t'
lseeksize=8
alignbytes=8
prototype=define
Linker and Libraries:
ld='cc'
ldflags ='-Wl,-E -fstack-protector-strong -L/usr/local/lib'
libpth=/usr/lib /usr/local/lib /usr/lib/clang/18/lib /usr/lib
libs=-lpthread -lgdbm -ldl -lm -lcrypt -lutil -lc
perllibs=-lpthread -ldl -lm -lcrypt -lutil -lc
libc=
so=so
useshrplib=false
libperl=libperl.a
gnulibc_version=''
Dynamic Linking:
dlsrc=dl_dlopen.xs
dlext=so
d_dlsymun=undef
ccdlflags=' '
cccdlflags='-DPIC -fPIC'
lddlflags='-shared -L/usr/local/lib -fstack-protector-strong'
Characteristics of this binary (from libperl):
Compile-time options:
HAS_TIMES
PERLIO_LAYERS
PERL_COPY_ON_WRITE
PERL_DONT_CREATE_GVSV
PERL_MALLOC_WRAP
PERL_OP_PARENT
PERL_PRESERVE_IVUV
USE_64_BIT_ALL
USE_64_BIT_INT
USE_LARGE_FILES
USE_LOCALE
USE_LOCALE_COLLATE
USE_LOCALE_CTYPE
USE_LOCALE_NUMERIC
USE_LOCALE_TIME
USE_PERLIO
USE_PERL_ATOF
Locally applied patches:
Devel::PatchPerl 2.08
Built under freebsd
Compiled at Jun 30 2024 07:39:37
%ENV:
PERL5LIB=""
PERL5OPT=""
PERL5_CPANPLUS_IS_RUNNING="23091"
PERL5_CPAN_IS_RUNNING="23091"
PERL5_CPAN_IS_RUNNING_IN_RECURSION="17400,23091"
PERL_BATCH="yes"
PERL_CANARY_STABILITY_NOPROMPT="1"
PERL_CPAN_REPORTER_CONFIG="/var/tmp/cpansmoker-1023/2025042221/cpanreporter_000_config.ini"
PERL_EXTUTILS_AUTOINSTALL="--defaultdeps"
PERL_USE_UNSAFE_INC="1"
@INC:
/usr/perl5.28.3/lib/site_perl/5.28.3/arm64-freebsd
/usr/perl5.28.3/lib/site_perl/5.28.3
/usr/perl5.28.3/lib/5.28.3/arm64-freebsd
/usr/perl5.28.3/lib/5.28.3
.