Wx-Data v0.01_01 Perl 5 v5.24.3 x86_64-linux

Status
Pass
From
Andreas J. K├Ânig (ANDK)
Dist
Wx-Data v0.01_01
Platform
Perl 5 v5.24.3 x86_64-linux
Date
2017-12-17T10:56:02
ID
df8496d4-e318-11e7-b41f-88c41a9bfa2c
This distribution has been tested as part of the CPAN Testers
project, supporting the Perl programming language.  See
http://wiki.cpantesters.org/ for more information or email
questions to cpan-testers-discuss@perl.org


--
Dear Eriam Schaffter,

This is a computer-generated report for Wx-Data-0.01_01
on perl 5.24.3, created by CPAN-Reporter-1.2018.

Thank you for uploading your work to CPAN.  Congratulations!
All tests were successful.

Sections of this report:

    * Tester comments
    * Program output
    * Prerequisites
    * Environment and other context

------------------------------
TESTER COMMENTS
------------------------------

Additional comments from tester:

this report is from an automated smoke testing program
and was not reviewed by a human for accuracy

------------------------------
PROGRAM OUTPUT
------------------------------

Output from '/usr/bin/make test':

PERL_DL_NONLAZY=1 "/home/sand/src/perl/repoperls/installed-perls/host/k93msid/v5.24.3/89ad/bin/perl" "-MExtUtils::Command::MM" "-MTest::Harness" "-e" "undef *Test::Harness::Switches; test_harness(0, 'inc', 'blib/lib', 'blib/arch')" t/*.t
t/01_load.t ....... ok
t/02_control.t .... ok
t/03_cache.t ...... ok
t/04_serialize.t .. ok
Scalar value @_[3] better written as $_[3] at t/05_streaming.t line 166.
Data::Serializer error: Can't find string terminator "'" anywhere before EOF at (eval 416) line 1.
	while evaluating:
 'this is top this is top this is top this is top this is top this is top this is top this is top this is top this is top this is top this is top this is top this is top this is top this is top this is top this is top this is top this is top this is top this is top this is top this is top this ip at /tmp/loop_over_bdir-32474-KgcODW/Wx-Data-0.01_01-0/blib/lib/Wx/Data/Plugin/Serializer.pm line 39.
t/05_streaming.t .. ok
Scalar value @_[3] better written as $_[3] at t/06_chunking.t line 191.
Data::Serializer error: Can't find string terminator "'" anywhere before EOF at (eval 417) line 1.
	while evaluating:
 'this is top this is top this is top this is top this is top this is top this is top this is top this is top this is top this is top this is top this is top this is top this is top this is top this is top this is top this is top this is top this is top this is top this is top this is top this ip at /tmp/loop_over_bdir-32474-KgcODW/Wx-Data-0.01_01-0/blib/lib/Wx/Data/Plugin/Serializer.pm line 39.
t/06_chunking.t ... ok
t/07_auth_wsse.t .. ok
All tests successful.
Files=7, Tests=11, 17 wallclock secs ( 0.03 usr  0.03 sys +  2.94 cusr  1.44 csys =  4.44 CPU)
Result: PASS

------------------------------
PREREQUISITES
------------------------------

Prerequisite modules loaded:

requires:

    Module                             Need Have   
    ---------------------------------- ---- -------
    Alien::wxWidgets                   0    0.69   
    Class::Inspector                   0    1.32   
    Data::Serializer                   0    0.60   
    POE                                0.38 1.367  
    POE::Component::Server::SimpleHTTP 0    2.26   
  ! POE::Loop::Wx                      0.03 broken 
    Wx                                 0    0.9932 

build_requires:

    Module                             Need Have   
    ---------------------------------- ---- -------
    ExtUtils::MakeMaker                0    7.31_04


------------------------------
ENVIRONMENT AND OTHER CONTEXT
------------------------------

Environment variables:

    AUTOMATED_TESTING = 1
    LANG = en_US.UTF-8
    PATH = /home/sand/bin:/usr/local/bin:/usr/bin:/bin:/usr/games:/usr/local/perl/bin:/usr/X11/bin:/sbin:/usr/sbin
    PERL5LIB = /tmp/loop_over_bdir-32474-KgcODW/POE-Loop-Wx-0.04-0/blib/arch:/tmp/loop_over_bdir-32474-KgcODW/POE-Loop-Wx-0.04-0/blib/lib
    PERL5OPT = 
    PERL5_CPANPLUS_IS_RUNNING = 32481
    PERL5_CPAN_IS_RUNNING = 32481
    PERL5_CPAN_IS_RUNNING_IN_RECURSION = 22402,32481
    PERL_CANARY_STABILITY_NOPROMPT = 1
    PERL_MM_USE_DEFAULT = 1
    PERL_USE_UNSAFE_INC = 1
    SHELL = /usr/bin/zsh
    TERM = screen

Perl special variables (and OS-specific diagnostics, for MSWin32):

    $^X = /home/sand/src/perl/repoperls/installed-perls/host/k93msid/v5.24.3/89ad/bin/perl
    $UID/$EUID = 1005 / 1005
    $GID = 1005 1005
    $EGID = 1005 1005

Perl module toolchain versions installed:

    Module              Have    
    ------------------- --------
    CPAN                2.20    
    CPAN::Meta          2.150010
    Cwd                 3.63_01 
    ExtUtils::CBuilder  0.280226
    ExtUtils::Command   7.31_04 
    ExtUtils::Install   2.06    
    ExtUtils::MakeMaker 7.31_04 
    ExtUtils::Manifest  1.70    
    ExtUtils::ParseXS   3.31    
    File::Spec          3.63_01 
    JSON                2.94    
    JSON::PP            2.96    
    Module::Build       0.42_26 
    Module::Signature   0.81    
    Parse::CPAN::Meta   2.150010
    Test::Harness       3.39    
    Test::More          1.302120
    YAML                1.24    
    YAML::Syck          1.30    
    version             0.9916  


--

Summary of my perl5 (revision 5 version 24 subversion 3) configuration:
  Derived from: 9f1d3884c227a955e9ecaaadba4cba3280c47e3a
  Platform:
    osname=linux, osvers=4.12.0-2-amd64, archname=x86_64-linux
    uname='linux k93msid 4.12.0-2-amd64 #1 smp debian 4.12.13-1 (2017-09-19) x86_64 gnulinux '
    config_args='-Dprefix=/home/sand/src/perl/repoperls/installed-perls/host/k93msid/v5.24.3/89ad -Dmyhostname=k93msid -Dinstallusrbinperl=n -Uversiononly -Dusedevel -des -Ui_db -Dlibswanted=cl pthread socket inet nsl gdbm dbm malloc dl ld sun m crypt sec util c cposix posix ucb BSD gdbm_compat -Uuseithreads -Uuselongdouble -DDEBUGGING=-g'
    hint=recommended, useposix=true, d_sigaction=define
    useithreads=undef, usemultiplicity=undef
    use64bitint=define, use64bitall=define, uselongdouble=undef
    usemymalloc=n, bincompat5005=undef
  Compiler:
    cc='cc', ccflags ='-fwrapv -fno-strict-aliasing -pipe -fstack-protector-strong -I/usr/local/include -D_LARGEFILE_SOURCE -D_FILE_OFFSET_BITS=64 -D_FORTIFY_SOURCE=2',
    optimize='-O2 -g',
    cppflags='-fwrapv -fno-strict-aliasing -pipe -fstack-protector-strong -I/usr/local/include'
    ccversion='', gccversion='7.2.0', gccosandvers=''
    intsize=4, longsize=8, ptrsize=8, doublesize=8, byteorder=12345678, doublekind=3
    d_longlong=define, longlongsize=8, d_longdbl=define, longdblsize=16, longdblkind=3
    ivtype='long', ivsize=8, nvtype='double', nvsize=8, Off_t='off_t', lseeksize=8
    alignbytes=8, prototype=define
  Linker and Libraries:
    ld='cc', ldflags =' -fstack-protector-strong -L/usr/local/lib'
    libpth=/usr/local/lib /usr/lib/gcc/x86_64-linux-gnu/7/include-fixed /usr/include/x86_64-linux-gnu /usr/lib /lib/x86_64-linux-gnu /lib/../lib /usr/lib/x86_64-linux-gnu /usr/lib/../lib /lib
    libs=-lpthread -lnsl -ldl -lm -lcrypt -lutil -lc
    perllibs=-lpthread -lnsl -ldl -lm -lcrypt -lutil -lc
    libc=libc-2.24.so, so=so, useshrplib=false, libperl=libperl.a
    gnulibc_version='2.24'
  Dynamic Linking:
    dlsrc=dl_dlopen.xs, dlext=so, d_dlsymun=undef, ccdlflags='-Wl,-E'
    cccdlflags='-fPIC', lddlflags='-shared -O2 -g -L/usr/local/lib -fstack-protector-strong'


Characteristics of this binary (from libperl): 
  Compile-time options: HAS_TIMES PERLIO_LAYERS PERL_COPY_ON_WRITE
                        PERL_DONT_CREATE_GVSV
                        PERL_HASH_FUNC_ONE_AT_A_TIME_HARD PERL_MALLOC_WRAP
                        PERL_PRESERVE_IVUV PERL_USE_DEVEL USE_64_BIT_ALL
                        USE_64_BIT_INT USE_LARGE_FILES USE_LOCALE
                        USE_LOCALE_COLLATE USE_LOCALE_CTYPE
                        USE_LOCALE_NUMERIC USE_LOCALE_TIME USE_PERLIO
                        USE_PERL_ATOF
  Locally applied patches:
	uncommitted-changes
  Built under linux
  Compiled at Oct  2 2017 05:12:35
  %ENV:
    PERL5LIB="/tmp/loop_over_bdir-32474-KgcODW/POE-Loop-Wx-0.04-0/blib/arch:/tmp/loop_over_bdir-32474-KgcODW/POE-Loop-Wx-0.04-0/blib/lib"
    PERL5OPT=""
    PERL5_CPANPLUS_IS_RUNNING="32481"
    PERL5_CPAN_IS_RUNNING="32481"
    PERL5_CPAN_IS_RUNNING_IN_RECURSION="22402,32481"
    PERL_CANARY_STABILITY_NOPROMPT="1"
    PERL_MM_USE_DEFAULT="1"
    PERL_USE_UNSAFE_INC="1"
  @INC:
    /tmp/loop_over_bdir-32474-KgcODW/POE-Loop-Wx-0.04-0/blib/arch
    /tmp/loop_over_bdir-32474-KgcODW/POE-Loop-Wx-0.04-0/blib/lib
    /home/sand/src/perl/repoperls/installed-perls/host/k93msid/v5.24.3/89ad/lib/site_perl/5.24.3/x86_64-linux
    /home/sand/src/perl/repoperls/installed-perls/host/k93msid/v5.24.3/89ad/lib/site_perl/5.24.3
    /home/sand/src/perl/repoperls/installed-perls/host/k93msid/v5.24.3/89ad/lib/5.24.3/x86_64-linux
    /home/sand/src/perl/repoperls/installed-perls/host/k93msid/v5.24.3/89ad/lib/5.24.3
    .