Report for WebService-DataDog-1.0.3

Back
From: metabase:user:917c2b6a-77f3-11e5-af78-c9d573d1e3cf
Subject: PASS WebService-DataDog-1.0.3 v5.18.1 GNU/Linux
Date: 2015-12-27T03:28:18Z

This distribution has been tested as part of the CPAN Testers
project, supporting the Perl programming language.  See
http://wiki.cpantesters.org/ for more information or email
questions to cpan-testers-discuss@perl.org


--
Dear Jennifer Pinkham,

This is a computer-generated report for WebService-DataDog-1.0.3
on perl 5.18.1, created by CPAN-Reporter-1.2015.

Thank you for uploading your work to CPAN.  Congratulations!
All tests were successful.

Sections of this report:

    * Tester comments
    * Program output
    * Prerequisites
    * Environment and other context

------------------------------
TESTER COMMENTS
------------------------------

Additional comments from tester:

this report is from an automated smoke testing program
and was not reviewed by a human for accuracy

------------------------------
PROGRAM OUTPUT
------------------------------

Output from './Build test':

# Testing WebService::DataDog 1.0.3, Perl 5.018001, /usr/bin/perl5.18.1
t/00-load.t .................... ok
t/10-new.t ..................... ok
t/15-build.t ................... skipped: Local connection information for DataDog required to run tests.
# Testing WebService::DataDog::Alert 1.0.3, Perl 5.018001, /usr/bin/perl5.18.1
t/Alert/00-load.t .............. ok
t/Alert/10-retrieve_all.t ...... skipped: Local connection information for DataDog required to run tests.
t/Alert/20-create.t ............ skipped: Local connection information for DataDog required to run tests.
t/Alert/30-retrieve.t .......... skipped: Local connection information for DataDog required to run tests.
t/Alert/40-update.t ............ skipped: Local connection information for DataDog required to run tests.
t/Alert/50-mute_all.t .......... skipped: Local connection information for DataDog required to run tests.
t/Alert/60-unmute_all.t ........ skipped: Local connection information for DataDog required to run tests.
t/Alert/70-delete.t ............ skipped: Local connection information for DataDog required to run tests.
t/Alert/99-cleanup.t ........... ok
# Testing WebService::DataDog::Comment 1.0.3, Perl 5.018001, /usr/bin/perl5.18.1
t/Comment/00-load.t ............ ok
t/Comment/10-create.t .......... skipped: Local connection information for DataDog required to run tests.
t/Comment/20-update.t .......... skipped: Local connection information for DataDog required to run tests.
t/Comment/30-delete.t .......... skipped: Local connection information for DataDog required to run tests.
t/Comment/99-cleanup.t ......... ok
# Testing WebService::DataDog::Dashboard 1.0.3, Perl 5.018001, /usr/bin/perl5.18.1
t/Dashboard/00-load.t .......... ok
t/Dashboard/10-retrieve_all.t .. skipped: Local connection information for DataDog required to run tests.
t/Dashboard/20-create.t ........ skipped: Local connection information for DataDog required to run tests.
t/Dashboard/30-retrieve.t ...... skipped: Local connection information for DataDog required to run tests.
t/Dashboard/50-update.t ........ skipped: Local connection information for DataDog required to run tests.
t/Dashboard/60-delete.t ........ skipped: Local connection information for DataDog required to run tests.
t/Dashboard/99-cleanup.t ....... ok
# Testing WebService::DataDog::Event 1.0.3, Perl 5.018001, /usr/bin/perl5.18.1
t/Event/00-load.t .............. ok
t/Event/20-search.t ............ skipped: Local connection information for DataDog required to run tests.
t/Event/30-retrieve.t .......... skipped: Local connection information for DataDog required to run tests.
t/Event/40-create.t ............ skipped: Local connection information for DataDog required to run tests.
t/Event/99-cleanup.t ........... ok
# Testing WebService::DataDog::Graph 1.0.3, Perl 5.018001, /usr/bin/perl5.18.1
t/Graph/00-load.t .............. ok
t/Graph/10-snapshot.t .......... skipped: Local connection information for DataDog required to run tests.
# Testing WebService::DataDog::Metric 1.0.3, Perl 5.018001, /usr/bin/perl5.18.1
t/Metric/00-load.t ............. ok
t/Metric/20-emit.t ............. skipped: Local connection information for DataDog required to run tests.
# Testing WebService::DataDog::Search 1.0.3, Perl 5.018001, /usr/bin/perl5.18.1
t/Search/00-load.t ............. ok
t/Search/10-retrieve.t ......... skipped: Local connection information for DataDog required to run tests.
# Testing WebService::DataDog::Tag 1.0.3, Perl 5.018001, /usr/bin/perl5.18.1
t/Tag/00-load.t ................ ok
t/Tag/10-retrieve_all.t ........ skipped: Local connection information for DataDog required to run tests.
t/Tag/20-retrieve.t ............ skipped: No tags found for the configured account.
t/Tag/30-update.t .............. skipped: No tags found for the configured account.
t/Tag/40-add.t ................. skipped: No tags found for the configured account.
t/Tag/50-delete.t .............. skipped: No tags found for the configured account.
t/Tag/99-cleanup.t ............. ok
# Testing WebService::DataDog::User 1.0.3, Perl 5.018001, /usr/bin/perl5.18.1
t/User/00-load.t ............... ok
t/User/10-invite.t ............. skipped: Local connection information for DataDog required to run tests.
All tests successful.
Files=44, Tests=17,  4 wallclock secs ( 0.12 usr  0.05 sys +  3.22 cusr  0.45 csys =  3.84 CPU)
Result: PASS

------------------------------
PREREQUISITES
------------------------------

Prerequisite modules loaded:

requires:

    Module               Need   Have    
    -------------------- ------ --------
    Carp                 0      1.29    
    Class::Load          0      0.23    
    Data::Dumper         0      2.145   
    Data::Validate::Type v1.1.0 1.5.1   
    HTTP::Request        0      6.11    
    JSON                 0      2.90    
    LWP::UserAgent       0      6.13    
    perl                 5.006  5.018001
    Try::Tiny            0      0.22    

build_requires:

    Module               Need   Have    
    -------------------- ------ --------
    Scalar::Util         0      1.42    
    Storable             0      2.41    
    Test::FailWarnings   0      0.008   
    Test::Most           0      0.34    

configure_requires:

    Module               Need   Have    
    -------------------- ------ --------
    Module::Build        0      0.4003  


------------------------------
ENVIRONMENT AND OTHER CONTEXT
------------------------------

Environment variables:

    AUTOMATED_TESTING = 1
    LANG = cs_CZ.UTF-8
    LC_ALL = cs_CZ.UTF-8
    LC_COLLATE = C
    LC_CTYPES = cs_CZ.UTF-8
    PATH = /home/petr/perl5/bin:/usr/local/bin:/usr/bin:/bin:/usr/games:/usr/lib64/qt/bin:/home/petr/bin
    PERL5LIB = /home/petr/.local/share/.cpan/build/Class-Load-0.23-Ii9wEw/blib/arch:/home/petr/.local/share/.cpan/build/Class-Load-0.23-Ii9wEw/blib/lib:/home/petr/.local/share/.cpan/build/Package-Stash-XS-0.28-Y1EpYP/blib/arch:/home/petr/.local/share/.cpan/build/Package-Stash-XS-0.28-Y1EpYP/blib/lib:/home/petr/.local/share/.cpan/build/Package-Stash-0.37-CBQDGm/blib/arch:/home/petr/.local/share/.cpan/build/Package-Stash-0.37-CBQDGm/blib/lib:/home/petr/.local/share/.cpan/build/Data-Validate-Type-v1.5.1-3bSngk/blib/arch:/home/petr/.local/share/.cpan/build/Data-Validate-Type-v1.5.1-3bSngk/blib/lib:/home/petr/.local/share/.cpan/build/Data-Dump-1.23-DsPuFp/blib/arch:/home/petr/.local/share/.cpan/build/Data-Dump-1.23-DsPuFp/blib/lib:/home/petr/.local/share/.cpan/build/Test-FailWarnings-0.008-tmon3v/blib/arch:/home/petr/.local/share/.cpan/build/Test-FailWarnings-0.008-tmon3v/blib/lib:/home/petr/.local/share/.cpan/build/Test-Most-0.34-lHyTrp/blib/arch:/home/petr/.local/share/.cpan/build/Test-Most-0.34-lHyTrp/blib/lib:/home/petr/.local/share/.cpan/build/Test-Warn-0.30-U6axET/blib/arch:/home/petr/.local/share/.cpan/build/Test-Warn-0.30-U6axET/blib/lib:/home/petr/.local/share/.cpan/build/Test-Differences-0.64-kAY35L/blib/arch:/home/petr/.local/share/.cpan/build/Test-Differences-0.64-kAY35L/blib/lib:/home/petr/perl5/lib/perl5
    PERL5OPT = 
    PERL5_CPANPLUS_IS_RUNNING = 13743
    PERL5_CPAN_IS_RUNNING = 13743
    PERL5_CPAN_IS_RUNNING_IN_RECURSION = 980,13743
    PERL_CR_SMOKER_CURRENT = WebService-DataDog-1.0.3
    PERL_EXTUTILS_AUTOINSTALL = --defaultdeps
    PERL_LOCAL_LIB_ROOT = /home/petr/perl5
    PERL_LWP_SSL_CA_PATH = /etc/ssl/certs
    PERL_MB_OPT = --install_base "/home/petr/perl5"
    PERL_MM_OPT = INSTALL_BASE=/home/petr/perl5
    PERL_MM_USE_DEFAULT = 1
    SHELL = /bin/bash
    TERM = screen

Perl special variables (and OS-specific diagnostics, for MSWin32):

    $^X = /usr/bin/perl5.18.1
    $UID/$EUID = 1000 / 1000
    $GID = 100 7 10 11 17 18 19 93 100
    $EGID = 100 7 10 11 17 18 19 93 100

Perl module toolchain versions installed:

    Module              Have    
    ------------------- --------
    CPAN                2.10    
    CPAN::Meta          2.150005
    Cwd                 3.40    
    ExtUtils::CBuilder  0.280210
    ExtUtils::Command   7.10    
    ExtUtils::Install   1.59    
    ExtUtils::MakeMaker 7.10    
    ExtUtils::Manifest  1.65    
    ExtUtils::ParseXS   3.18    
    File::Spec          3.40    
    JSON                2.90    
    JSON::PP            2.27203 
    Module::Build       0.4003  
    Module::Signature   n/a     
    Parse::CPAN::Meta   1.4417  
    Test::Harness       3.26    
    Test::More          1.001014
    YAML                1.15    
    YAML::Syck          1.29    
    version             0.9902  


--

Summary of my perl5 (revision 5 version 18 subversion 1) configuration:
   
  Platform:
    osname=linux, osvers=3.10.9, archname=x86_64-linux-thread-multi
    uname='linux hive64 3.10.9 #1 smp wed aug 21 14:50:51 cdt 2013 x86_64 amd phenom(tm) ii x6 1100t processor authenticamd gnulinux '
    config_args='-de -Dprefix=/usr -Dsiteprefix=/usr/local -Dsitelib=/usr/local/share/perl5 -Dsitearch=/usr/local/lib64/perl5 -Darchlib=/usr/lib64/perl5 -Dvendorprefix=/usr -Dprivlib=/usr/share/perl5 -Dvendorlib=/usr/share/perl5/vendor_perl -Dvendorarch=/usr/lib64/perl5/vendor_perl -Dscriptdir=/usr/bin -Dcccdlflags=-fPIC -Dinstallprefix=/usr -Dlibpth=/usr/local/lib64 /usr/lib64 /lib64 -Doptimize=-O2 -fPIC -Dusethreads -Duseithreads -Duseshrplib -Ubincompat5005 -Uversiononly -Dpager=/usr/bin/less -isr -Darchname=x86_64-linux'
    hint=recommended, useposix=true, d_sigaction=define
    useithreads=define, usemultiplicity=define
    useperlio=define, d_sfio=undef, uselargefiles=define, usesocks=undef
    use64bitint=define, use64bitall=define, uselongdouble=undef
    usemymalloc=n, bincompat5005=undef
  Compiler:
    cc='cc', ccflags ='-D_REENTRANT -D_GNU_SOURCE -fno-strict-aliasing -pipe -fstack-protector -I/usr/local/include -D_LARGEFILE_SOURCE -D_FILE_OFFSET_BITS=64',
    optimize='-O2 -fPIC',
    cppflags='-D_REENTRANT -D_GNU_SOURCE -fno-strict-aliasing -pipe -fstack-protector -I/usr/local/include'
    ccversion='', gccversion='4.8.1', gccosandvers=''
    intsize=4, longsize=8, ptrsize=8, doublesize=8, byteorder=12345678
    d_longlong=define, longlongsize=8, d_longdbl=define, longdblsize=16
    ivtype='long', ivsize=8, nvtype='double', nvsize=8, Off_t='off_t', lseeksize=8
    alignbytes=8, prototype=define
  Linker and Libraries:
    ld='cc', ldflags =' -fstack-protector'
    libpth=/usr/local/lib64 /usr/lib64 /lib64
    libs=-lnsl -lgdbm -ldb -ldl -lm -lcrypt -lutil -lpthread -lc
    perllibs=-lnsl -ldl -lm -lcrypt -lutil -lpthread -lc
    libc=/lib64/libc-2.17.so, so=so, useshrplib=true, libperl=libperl.so
    gnulibc_version='2.17'
  Dynamic Linking:
    dlsrc=dl_dlopen.xs, dlext=so, d_dlsymun=undef, ccdlflags='-Wl,-E -Wl,-rpath,/usr/lib64/perl5/CORE'
    cccdlflags='-fPIC', lddlflags='-shared -O2 -fPIC -fstack-protector'


Characteristics of this binary (from libperl): 
  Compile-time options: HAS_TIMES MULTIPLICITY PERLIO_LAYERS
                        PERL_DONT_CREATE_GVSV
                        PERL_HASH_FUNC_ONE_AT_A_TIME_HARD
                        PERL_IMPLICIT_CONTEXT PERL_MALLOC_WRAP
                        PERL_PRESERVE_IVUV PERL_SAWAMPERSAND USE_64_BIT_ALL
                        USE_64_BIT_INT USE_ITHREADS USE_LARGE_FILES
                        USE_LOCALE USE_LOCALE_COLLATE USE_LOCALE_CTYPE
                        USE_LOCALE_NUMERIC USE_PERLIO USE_PERL_ATOF
                        USE_REENTRANT_API
  Built under linux
  Compiled at Sep  2 2013 18:11:30
  %ENV:
    PERL5LIB="/home/petr/.local/share/.cpan/build/Class-Load-0.23-Ii9wEw/blib/arch:/home/petr/.local/share/.cpan/build/Class-Load-0.23-Ii9wEw/blib/lib:/home/petr/.local/share/.cpan/build/Package-Stash-XS-0.28-Y1EpYP/blib/arch:/home/petr/.local/share/.cpan/build/Package-Stash-XS-0.28-Y1EpYP/blib/lib:/home/petr/.local/share/.cpan/build/Package-Stash-0.37-CBQDGm/blib/arch:/home/petr/.local/share/.cpan/build/Package-Stash-0.37-CBQDGm/blib/lib:/home/petr/.local/share/.cpan/build/Data-Validate-Type-v1.5.1-3bSngk/blib/arch:/home/petr/.local/share/.cpan/build/Data-Validate-Type-v1.5.1-3bSngk/blib/lib:/home/petr/.local/share/.cpan/build/Data-Dump-1.23-DsPuFp/blib/arch:/home/petr/.local/share/.cpan/build/Data-Dump-1.23-DsPuFp/blib/lib:/home/petr/.local/share/.cpan/build/Test-FailWarnings-0.008-tmon3v/blib/arch:/home/petr/.local/share/.cpan/build/Test-FailWarnings-0.008-tmon3v/blib/lib:/home/petr/.local/share/.cpan/build/Test-Most-0.34-lHyTrp/blib/arch:/home/petr/.local/share/.cpan/build/Test-Most-0.34-lHyTrp/blib/lib:/home/petr/.local/share/.cpan/build/Test-Warn-0.30-U6axET/blib/arch:/home/petr/.local/share/.cpan/build/Test-Warn-0.30-U6axET/blib/lib:/home/petr/.local/share/.cpan/build/Test-Differences-0.64-kAY35L/blib/arch:/home/petr/.local/share/.cpan/build/Test-Differences-0.64-kAY35L/blib/lib:/home/petr/perl5/lib/perl5"
    PERL5OPT=""
    PERL5_CPANPLUS_IS_RUNNING="13743"
    PERL5_CPAN_IS_RUNNING="13743"
    PERL5_CPAN_IS_RUNNING_IN_RECURSION="980,13743"
    PERL_CR_SMOKER_CURRENT="WebService-DataDog-1.0.3"
    PERL_EXTUTILS_AUTOINSTALL="--defaultdeps"
    PERL_LOCAL_LIB_ROOT="/home/petr/perl5"
    PERL_LWP_SSL_CA_PATH="/etc/ssl/certs"
    PERL_MB_OPT="--install_base "/home/petr/perl5""
    PERL_MM_OPT="INSTALL_BASE=/home/petr/perl5"
    PERL_MM_USE_DEFAULT="1"
  @INC:
    /home/petr/.local/share/.cpan/build/Class-Load-0.23-Ii9wEw/blib/arch
    /home/petr/.local/share/.cpan/build/Class-Load-0.23-Ii9wEw/blib/lib
    /home/petr/.local/share/.cpan/build/Package-Stash-XS-0.28-Y1EpYP/blib/arch
    /home/petr/.local/share/.cpan/build/Package-Stash-XS-0.28-Y1EpYP/blib/lib
    /home/petr/.local/share/.cpan/build/Package-Stash-0.37-CBQDGm/blib/arch
    /home/petr/.local/share/.cpan/build/Package-Stash-0.37-CBQDGm/blib/lib
    /home/petr/.local/share/.cpan/build/Data-Validate-Type-v1.5.1-3bSngk/blib/arch
    /home/petr/.local/share/.cpan/build/Data-Validate-Type-v1.5.1-3bSngk/blib/lib
    /home/petr/.local/share/.cpan/build/Data-Dump-1.23-DsPuFp/blib/arch
    /home/petr/.local/share/.cpan/build/Data-Dump-1.23-DsPuFp/blib/lib
    /home/petr/.local/share/.cpan/build/Test-FailWarnings-0.008-tmon3v/blib/arch
    /home/petr/.local/share/.cpan/build/Test-FailWarnings-0.008-tmon3v/blib/lib
    /home/petr/.local/share/.cpan/build/Test-Most-0.34-lHyTrp/blib/arch
    /home/petr/.local/share/.cpan/build/Test-Most-0.34-lHyTrp/blib/lib
    /home/petr/.local/share/.cpan/build/Test-Warn-0.30-U6axET/blib/arch
    /home/petr/.local/share/.cpan/build/Test-Warn-0.30-U6axET/blib/lib
    /home/petr/.local/share/.cpan/build/Test-Differences-0.64-kAY35L/blib/arch
    /home/petr/.local/share/.cpan/build/Test-Differences-0.64-kAY35L/blib/lib
    /home/petr/perl5/lib/perl5/5.18.1/x86_64-linux-thread-multi
    /home/petr/perl5/lib/perl5/5.18.1
    /home/petr/perl5/lib/perl5/x86_64-linux-thread-multi
    /home/petr/perl5/lib/perl5
    /usr/local/lib64/perl5
    /usr/local/share/perl5
    /usr/lib64/perl5/vendor_perl
    /usr/share/perl5/vendor_perl
    /usr/lib64/perl5
    /usr/share/perl5
    .