Cog v0.11 Perl 5 v5.43.2 OpenBSD.amd64-openbsd

Status
Pass
From
Carlos Guevara
Dist
Cog v0.11
Platform
Perl 5 v5.43.2 OpenBSD.amd64-openbsd
Date
2025-08-06 00:25:36
ID
df7ed23c-725b-11f0-b6bc-9797da3ae050
This distribution has been tested as part of the CPAN Testers
project, supporting the Perl programming language.  See
http://wiki.cpantesters.org/ for more information or email
questions to cpan-testers-discuss@perl.org


--
Dear Ingy dot Net,

This is a computer-generated report for Cog-0.11
on perl 5.43.2, created by CPAN-Reporter-1.2020.

Thank you for uploading your work to CPAN.  Congratulations!
All tests were successful.

Sections of this report:

    * Tester comments
    * Program output
    * Prerequisites
    * Environment and other context

------------------------------
TESTER COMMENTS
------------------------------

Additional comments from tester:

this report is from an automated smoke testing program
and was not reviewed by a human for accuracy

------------------------------
PROGRAM OUTPUT
------------------------------

Output from '/usr/bin/make test':

Skip blib/lib/auto/share/dist/Cog/js/jquery.json-2.5.1.js (unchanged)
Skip blib/lib/auto/share/dist/Cog/template/header.html (unchanged)
Skip blib/lib/auto/share/dist/Cog/js/jquery.js (unchanged)
Skip blib/lib/auto/share/dist/Cog/js/jquery-1.11.3.js (unchanged)
Skip blib/lib/auto/share/dist/Cog/template/page-list.html (unchanged)
Skip blib/lib/auto/share/dist/Cog/js/cog.js (unchanged)
Skip blib/lib/auto/share/dist/Cog/template/start.js (unchanged)
Skip blib/lib/auto/share/dist/Cog/js/fixups.js (unchanged)
Skip blib/lib/auto/share/dist/Cog/template/css-mf.mk (unchanged)
Skip blib/lib/auto/share/dist/Cog/template/config.js (unchanged)
Skip blib/lib/auto/share/dist/Cog/template/head.html (unchanged)
Skip blib/lib/auto/share/dist/Cog/template/js-mf.mk (unchanged)
Skip blib/lib/auto/share/dist/Cog/template/config.yaml (unchanged)
Skip blib/lib/auto/share/dist/Cog/template/javascript.html (unchanged)
Skip blib/lib/auto/share/dist/Cog/template/url-map.js (unchanged)
Skip blib/lib/auto/share/dist/Cog/template/404.html (unchanged)
Skip blib/lib/auto/share/dist/Cog/image/logo.png (unchanged)
Skip blib/lib/auto/share/dist/Cog/template/index.html (unchanged)
Skip blib/lib/auto/share/dist/Cog/js/jquery-json.js (unchanged)
Skip blib/lib/auto/share/dist/Cog/js/jquery-ui-1.11.4.js (unchanged)
Skip blib/lib/auto/share/dist/Cog/css/layout.css (unchanged)
Skip blib/lib/auto/share/dist/Cog/image/favicon.ico (unchanged)
Skip blib/lib/auto/share/dist/Cog/template/tag-list.html (unchanged)
Skip blib/lib/auto/share/dist/Cog/js/jquery-ui.js (unchanged)
Skip blib/lib/auto/share/dist/Cog/template/site-navigation.html (unchanged)
Skip blib/lib/auto/share/dist/Cog/css/page-list.css (unchanged)
Skip blib/lib/auto/share/dist/Cog/template/page-display.html (unchanged)
Skip blib/lib/auto/share/dist/Cog/template/index-table.html (unchanged)
Skip blib/lib/auto/share/dist/Cog/css/layout-table.css (unchanged)
Skip blib/lib/auto/share/dist/Cog/js/jquery.cookie.js (unchanged)
Skip blib/lib/auto/share/dist/Cog/js/jquery.jemplate.js (unchanged)
Skip blib/lib/auto/share/dist/Cog/image/tile.gif (unchanged)
Skip blib/lib/auto/share/dist/Cog/template/layout-table.html (unchanged)
Skip blib/lib/auto/share/dist/Cog/template/login-navigation.html (unchanged)
Skip blib/lib/auto/share/dist/Cog/template/main.html (unchanged)
Skip blib/lib/auto/share/dist/Cog/css/reset.css (unchanged)
Skip blib/lib/auto/share/dist/Cog/css/page-display.css (unchanged)
PERL_DL_NONLAZY=1 "/home/cpan/bin/perl/bin/perl5.43.2" "-MExtUtils::Command::MM" "-MTest::Harness" "-e" "undef *Test::Harness::Switches; test_harness(0, 'blib/lib', 'blib/arch')" t/*.t
t/000-compile-modules.t .. ok
t/release-pod-syntax.t ... skipped: these tests are for release candidate testing
t/use_ok.t ............... ok
All tests successful.
Files=3, Tests=19,  1 wallclock secs ( 0.02 usr  0.00 sys +  0.35 cusr  0.07 csys =  0.44 CPU)
Result: PASS

------------------------------
PREREQUISITES
------------------------------

Prerequisite modules loaded:

requires:

    Module                      Need     Have      
    --------------------------- -------- ----------
    Convert::Base32::Crockford  0        0.16      
    File::Basename              0        2.86      
    File::Copy                  0        2.41      
    File::ShareDir              0        1.118     
    IO::All                     0        0.87      
    IPC::Run                    0        20231003.0
    Jemplate                    0        0.30      
    JSON                        0        4.10      
    Mo                          0        0.40      
    perl                        5.008001 5.043002  
    Plack                       0        1.0051    
    Plack::Middleware::Cache    0        0.19      
    Plack::Middleware::ETag     0        0.05      
    Plack::Middleware::Header   0        0.04      
    Plack::Middleware::ProxyMap 0        0.20      
    Pod::Simple::HTML           0        3.47      
    Template::Toolkit::Simple   0        0.31      
    YAML::XS                    0        v0.904.0  

build_requires:

    Module                      Need     Have      
    --------------------------- -------- ----------
    ExtUtils::MakeMaker         0        7.76      

configure_requires:

    Module                      Need     Have      
    --------------------------- -------- ----------
    ExtUtils::MakeMaker         0        7.76      
    File::ShareDir::Install     0.06     0.14      


------------------------------
ENVIRONMENT AND OTHER CONTEXT
------------------------------

Environment variables:

    AUTOMATED_TESTING = 1
    DATE_MANIP_TEST_DM5 = 1
    LC_ALL = C
    NONINTERACTIVE_TESTING = 1
    NO_NETWORK_TESTING = 1
    PATH = /home/cpan/bin/perl/bin:/home/cpan/bin:/home/cpan/bin:/bin:/sbin:/usr/bin:/usr/sbin:/usr/X11R6/bin:/usr/local/bin:/usr/local/sbin
    PERL5LIB = 
    PERL5OPT = 
    PERL5_CPANPLUS_IS_RUNNING = 96183
    PERL5_CPAN_IS_RUNNING = 96183
    PERL_MM_USE_DEFAULT = 1
    PERL_USE_UNSAFE_INC = 1
    SHELL = /usr/local/bin/bash
    TERM = screen
    TMPDIR = /home/cpan/tmp

Perl special variables (and OS-specific diagnostics, for MSWin32):

    $^X = /home/cpan/bin/perl/bin/perl5.43.2
    $UID/$EUID = 1001 / 1001
    $GID = 1001 1001
    $EGID = 1001 1001

Perl module toolchain versions installed:

    Module              Have    
    ------------------- --------
    CPAN                2.38    
    CPAN::Meta          2.150010
    Cwd                 3.94    
    ExtUtils::CBuilder  0.280242
    ExtUtils::Command   7.76    
    ExtUtils::Install   2.22    
    ExtUtils::MakeMaker 7.76    
    ExtUtils::Manifest  1.75    
    ExtUtils::ParseXS   3.59    
    File::Spec          3.94    
    JSON                4.10    
    JSON::PP            4.16    
    Module::Build       0.4234  
    Module::Signature   0.93    
    Parse::CPAN::Meta   2.150010
    Test2               1.302214
    Test::Harness       3.52    
    Test::More          1.302214
    YAML                1.31    
    YAML::Syck          1.34    
    version             0.9933  


--

Summary of my perl5 (revision 5 version 43 subversion 2) configuration:
  Commit id: 7bc502f4a9802f9463d056de608f3f5291c56b0b
  Platform:
    osname=openbsd
    osvers=7.7
    archname=OpenBSD.amd64-openbsd
    uname='openbsd cjg-openbsd7 7.7 generic#2 amd64 '
    config_args='-des -Dprefix=/home/cpan/bin/perl -Dscriptdir=/home/cpan/bin/perl/bin -Dusedevel -Duse64bitall'
    hint=recommended
    useposix=true
    d_sigaction=define
    useithreads=undef
    usemultiplicity=undef
    use64bitint=define
    use64bitall=define
    uselongdouble=undef
    usemymalloc=n
    default_inc_excludes_dot=define
  Compiler:
    cc='cc'
    ccflags ='-DNO_LOCALE_NUMERIC -DNO_LOCALE_COLLATE -DNO_LOCALE_MONETARY -DNO_LOCALE_TIME -DNO_LOCALE_MESSAGES -DLIBC_HANDLES_MISMATCHED_CTYPE -fno-strict-aliasing -pipe -fstack-protector-strong -I/usr/local/include'
    optimize='-O2'
    cppflags='-DNO_LOCALE_NUMERIC -DNO_LOCALE_COLLATE -DNO_LOCALE_MONETARY -DNO_LOCALE_TIME -DNO_LOCALE_MESSAGES -DLIBC_HANDLES_MISMATCHED_CTYPE -fno-strict-aliasing -pipe -fstack-protector-strong -I/usr/local/include'
    ccversion=''
    gccversion='OpenBSD Clang 16.0.6'
    gccosandvers=''
    intsize=4
    longsize=8
    ptrsize=8
    doublesize=8
    byteorder=12345678
    doublekind=3
    d_longlong=define
    longlongsize=8
    d_longdbl=define
    longdblsize=16
    longdblkind=3
    ivtype='long'
    ivsize=8
    nvtype='double'
    nvsize=8
    Off_t='off_t'
    lseeksize=8
    alignbytes=8
    prototype=define
  Linker and Libraries:
    ld='cc'
    ldflags ='-Wl,-E  -fstack-protector-strong -L/usr/local/lib'
    libpth=/usr/lib/clang/16/lib /usr/lib /usr/local/lib
    libs=-lpthread -lm -lutil -lc
    perllibs=-lpthread -lm -lutil -lc
    libc=/usr/lib/libc.so.100.3
    so=so
    useshrplib=false
    libperl=libperl.a
    gnulibc_version=''
  Dynamic Linking:
    dlsrc=dl_dlopen.xs
    dlext=so
    d_dlsymun=undef
    ccdlflags=' '
    cccdlflags='-DPIC -fPIC '
    lddlflags='-shared -fPIC  -L/usr/local/lib -fstack-protector-strong'


Characteristics of this binary (from libperl): 
  Compile-time options:
    HAS_LONG_DOUBLE
    HAS_STRTOLD
    HAS_TIMES
    PERLIO_LAYERS
    PERL_COPY_ON_WRITE
    PERL_DONT_CREATE_GVSV
    PERL_HASH_FUNC_SIPHASH13
    PERL_HASH_USE_SBOX32
    PERL_MALLOC_WRAP
    PERL_OP_PARENT
    PERL_PRESERVE_IVUV
    PERL_USE_DEVEL
    PERL_USE_SAFE_PUTENV
    USE_64_BIT_ALL
    USE_64_BIT_INT
    USE_LARGE_FILES
    USE_LOCALE
    USE_LOCALE_CTYPE
    USE_PERLIO
    USE_PERL_ATOF
  Built under openbsd
  Compiled at Aug  5 2025 04:01:17
  %ENV:
    PERL5LIB=""
    PERL5OPT=""
    PERL5_CPANPLUS_IS_RUNNING="96183"
    PERL5_CPAN_IS_RUNNING="96183"
    PERL_MM_USE_DEFAULT="1"
    PERL_USE_UNSAFE_INC="1"
  @INC:
    /home/cpan/bin/perl/lib/site_perl/5.43.2/OpenBSD.amd64-openbsd
    /home/cpan/bin/perl/lib/site_perl/5.43.2
    /home/cpan/bin/perl/lib/5.43.2/OpenBSD.amd64-openbsd
    /home/cpan/bin/perl/lib/5.43.2
    .