Test-Command v0.11 Perl 5 v5.22.0 darwin-thread-multi-2level
- Status
- Pass
- From
- Nigel Horne
- Dist
-
Test-Command v0.11
- Platform
- Perl 5 v5.22.0 darwin-thread-multi-2level
- Date
- 2018-08-24 11:35:59
- ID
- df70a92e-a791-11e8-9729-7b23558d364c
This distribution has been tested as part of the CPAN Testers
project, supporting the Perl programming language. See
http://wiki.cpantesters.org/ for more information or email
questions to cpan-testers-discuss@perl.org
--
Dear Daniel B. Boorstein,
This is a computer-generated report for Test-Command-0.11
on perl 5.22.0, created by CPAN-Reporter-1.2018.
Thank you for uploading your work to CPAN. Congratulations!
All tests were successful.
Sections of this report:
* Tester comments
* Program output
* Prerequisites
* Environment and other context
------------------------------
TESTER COMMENTS
------------------------------
Additional comments from tester:
this report is from an automated smoke testing program
and was not reviewed by a human for accuracy
------------------------------
PROGRAM OUTPUT
------------------------------
Output from './Build test':
# Testing Test::Command 0.11, Perl 5.022000, /Users/hornenj/perl5/perlbrew/perls/perl-5.22.0/bin/perl
t/00-load.t ....... ok
t/01-funcs.t ...... ok
t/02-exit.t ....... ok
Argument "foo\nbar\n" isn't numeric in numeric eq (==) at (eval in cmp_ok) t/05-object.t line 40.
Argument "foo\nbar\n" isn't numeric in numeric ne (!=) at (eval in cmp_ok) t/05-object.t line 41.
Argument "bar\nfoo\n" isn't numeric in numeric eq (==) at (eval in cmp_ok) t/05-object.t line 54.
Argument "bar\nfoo\n" isn't numeric in numeric ne (!=) at (eval in cmp_ok) t/05-object.t line 55.
t/05-object.t ..... ok
t/03-stdout.t ..... ok
t/04-stderr.t ..... ok
t/pod-coverage.t .. ok
t/06-signal.t ..... ok
t/pod.t ........... ok
All tests successful.
Files=9, Tests=119, 1 wallclock secs ( 0.03 usr 0.02 sys + 0.74 cusr 0.47 csys = 1.26 CPU)
Result: PASS
------------------------------
PREREQUISITES
------------------------------
Prerequisite modules loaded:
build_requires:
Module Need Have
------------ ---- --------
Test::Simple 0.62 1.302106
------------------------------
ENVIRONMENT AND OTHER CONTEXT
------------------------------
Environment variables:
AUTOMATED_TESTING = 1
HARNESS_OPTIONS = j4
LANG = en_US.UTF-8
LC_ALL = POSIX
PATH = /Users/hornenj/perl5/perlbrew/bin:/Users/hornenj/perl5/perlbrew/perls/perl-5.22.0/bin:/Users/hornenj/homebrew/bin:/Users/hornenj/bin:/usr/bin:/bin:/usr/X11R6/bin:/sw/bin:/Users/hornenj/src/njh/smoker/bin
PERL5LIB = /Users/hornenj/.cpan/build/Contextual-Return-0.004014-14/blib/arch:/Users/hornenj/.cpan/build/Contextual-Return-0.004014-14/blib/lib:/Users/hornenj/.cpan/build/Want-0.29-14/blib/arch:/Users/hornenj/.cpan/build/Want-0.29-14/blib/lib:/Users/hornenj/.cpan/build/Proc-Fork-0.806-14/blib/arch:/Users/hornenj/.cpan/build/Proc-Fork-0.806-14/blib/lib:/Users/hornenj/.cpan/build/Exporter-Tidy-0.08-14/blib/arch:/Users/hornenj/.cpan/build/Exporter-Tidy-0.08-14/blib/lib
PERL5OPT =
PERL5_CPANPLUS_IS_RUNNING = 52130
PERL5_CPAN_IS_RUNNING = 52130
PERLBREW_HOME = /Users/hornenj/.perlbrew
PERLBREW_MANPATH = /Users/hornenj/perl5/perlbrew/perls/perl-5.22.0/man
PERLBREW_PATH = /Users/hornenj/perl5/perlbrew/bin:/Users/hornenj/perl5/perlbrew/perls/perl-5.22.0/bin
PERLBREW_PERL = perl-5.22.0
PERLBREW_ROOT = /Users/hornenj/perl5/perlbrew
PERLBREW_SHELLRC_VERSION = 0.84
PERLBREW_VERSION = 0.84
SHELL = /bin/bash
TERM = xterm-256color
TMPDIR = /var/folders/pz/pd7y1qjs6s3cbk170cw50fjc000c61/T//testwrapper.52116
VERSIONER_PERL_PREFER_32_BIT = no
VERSIONER_PERL_VERSION = 5.18
Perl special variables (and OS-specific diagnostics, for MSWin32):
$^X = /Users/hornenj/perl5/perlbrew/perls/perl-5.22.0/bin/perl
$UID/$EUID = 12481 / 12481
$GID = 14 14 206 5344 37191 527 12 62 98 204 399 37223 241 223 100
$EGID = 14 14 206 5344 37191 527 12 62 98 204 399 37223 241 223 100
Perl module toolchain versions installed:
Module Have
------------------- --------
CPAN 2.16
CPAN::Meta 2.150005
Cwd 3.74
ExtUtils::CBuilder 0.280223
ExtUtils::Command 7.34
ExtUtils::Install 2.06
ExtUtils::MakeMaker 7.34
ExtUtils::Manifest 1.70
ExtUtils::ParseXS 3.30
File::Spec 3.74
JSON 2.97001
JSON::PP 2.27400
Module::Build 0.4214
Module::Signature n/a
Parse::CPAN::Meta 1.4422
Test::Harness 3.36
Test::More 1.302106
YAML 1.26
YAML::Syck 1.30
version 0.9912
--
Summary of my perl5 (revision 5 version 22 subversion 0) configuration:
Platform:
osname=darwin, osvers=14.3.0, archname=darwin-thread-multi-2level
uname='darwin ncbimac2027.ncbi.nlm.nih.gov 14.3.0 darwin kernel version 14.3.0: mon mar 23 11:59:05 pdt 2015; root:xnu-2782.20.48~5release_x86_64 x86_64 '
config_args='-de -Dprefix=/Users/hornenj/perl5/perlbrew/perls/perl-5.22.0 -Duseithreads -Dusemultiplicity -Dusedevel -Accflags=-O2 -W -Wformat=2 -Wswitch -Wshadow -Wwrite-strings -Wuninitialized -Wall -pipe -mtune=native -march=native -fomit-frame-pointer -msse2 -msse -mmmx -pedantic -D_FORTIFY_SOURCE=2 -Wpointer-arith -Wstrict-prototypes -fstack-protector -Wstack-protector -Wextra -Wbad-function-cast -Wcast-align -Wcast-qual -Wdisabled-optimization -Wendif-labels -Wfloat-equal -Wformat-nonliteral -Winline -Wmissing-declarations -Wmissing-prototypes -Wnested-externs -Wpointer-arith -Wundef -Wformat-security -fassociative-math -Acc=cc -Aeval:scriptdir=/Users/hornenj/perl5/perlbrew/perls/perl-5.22.0/bin'
hint=recommended, useposix=true, d_sigaction=define
useithreads=define, usemultiplicity=define
use64bitint=define, use64bitall=define, uselongdouble=undef
usemymalloc=n, bincompat5005=undef
Compiler:
cc=' cc', ccflags ='-fno-common -DPERL_DARWIN -O2 -W -Wformat=2 -Wswitch -Wshadow -Wwrite-strings -Wuninitialized -Wall -pipe -mtune=native -march=native -fomit-frame-pointer -msse2 -msse -mmmx -pedantic -D_FORTIFY_SOURCE=2 -Wpointer-arith -Wstrict-prototypes -fstack-protector -Wstack-protector -Wextra -Wbad-function-cast -Wcast-align -Wcast-qual -Wdisabled-optimization -Wendif-labels -Wfloat-equal -Wformat-nonliteral -Winline -Wmissing-declarations -Wmissing-prototypes -Wnested-externs -Wpointer-arith -Wundef -Wformat-security -fassociative-math -fno-strict-aliasing -I/usr/local/include',
optimize='-O3',
cppflags='-fno-common -DPERL_DARWIN -O2 -W -Wformat=2 -Wswitch -Wshadow -Wwrite-strings -Wuninitialized -Wall -pipe -mtune=native -march=native -fomit-frame-pointer -msse2 -msse -mmmx -pedantic -D_FORTIFY_SOURCE=2 -Wpointer-arith -Wstrict-prototypes -fstack-protector -Wstack-protector -Wextra -Wbad-function-cast -Wcast-align -Wcast-qual -Wdisabled-optimization -Wendif-labels -Wfloat-equal -Wformat-nonliteral -Winline -Wmissing-declarations -Wmissing-prototypes -Wnested-externs -Wpointer-arith -Wundef -Wformat-security -fassociative-math -fno-strict-aliasing -I/usr/local/include'
ccversion='', gccversion='4.2.1 Compatible Apple LLVM 6.0 (clang-600.0.56)', gccosandvers=''
intsize=4, longsize=8, ptrsize=8, doublesize=8, byteorder=12345678, doublekind=3
d_longlong=define, longlongsize=8, d_longdbl=define, longdblsize=16, longdblkind=3
ivtype='long', ivsize=8, nvtype='double', nvsize=8, Off_t='off_t', lseeksize=8
alignbytes=8, prototype=define
Linker and Libraries:
ld='env MACOSX_DEPLOYMENT_TARGET=10.3 cc', ldflags =' -fstack-protector -L/usr/local/lib'
libpth=/Applications/Xcode.app/Contents/Developer/Toolchains/XcodeDefault.xctoolchain/usr/bin/../lib/clang/6.0/lib /Applications/Xcode.app/Contents/Developer/Toolchains/XcodeDefault.xctoolchain/usr/lib /Applications/Xcode.app/Contents/Developer/Platforms/MacOSX.platform/Developer/SDKs/MacOSX10.10.sdk/usr/lib /usr/local/lib /usr/lib
libs=-lpthread -ldbm -ldl -lm -lutil -lc
perllibs=-lpthread -ldl -lm -lutil -lc
libc=, so=dylib, useshrplib=false, libperl=libperl.a
gnulibc_version=''
Dynamic Linking:
dlsrc=dl_dlopen.xs, dlext=bundle, d_dlsymun=undef, ccdlflags=' '
cccdlflags=' ', lddlflags=' -bundle -undefined dynamic_lookup -L/usr/local/lib -fstack-protector'
Characteristics of this binary (from libperl):
Compile-time options: HAS_TIMES MULTIPLICITY PERLIO_LAYERS
PERL_DONT_CREATE_GVSV
PERL_HASH_FUNC_ONE_AT_A_TIME_HARD
PERL_IMPLICIT_CONTEXT PERL_MALLOC_WRAP
PERL_NEW_COPY_ON_WRITE PERL_PRESERVE_IVUV
PERL_USE_DEVEL USE_64_BIT_ALL USE_64_BIT_INT
USE_ITHREADS USE_LARGE_FILES USE_LOCALE
USE_LOCALE_COLLATE USE_LOCALE_CTYPE
USE_LOCALE_NUMERIC USE_LOCALE_TIME USE_PERLIO
USE_PERL_ATOF USE_REENTRANT_API
Locally applied patches:
Devel::PatchPerl 1.30
Built under darwin
Compiled at Jun 2 2015 11:16:32
%ENV:
PERL5LIB="/Users/hornenj/.cpan/build/Contextual-Return-0.004014-14/blib/arch:/Users/hornenj/.cpan/build/Contextual-Return-0.004014-14/blib/lib:/Users/hornenj/.cpan/build/Want-0.29-14/blib/arch:/Users/hornenj/.cpan/build/Want-0.29-14/blib/lib:/Users/hornenj/.cpan/build/Proc-Fork-0.806-14/blib/arch:/Users/hornenj/.cpan/build/Proc-Fork-0.806-14/blib/lib:/Users/hornenj/.cpan/build/Exporter-Tidy-0.08-14/blib/arch:/Users/hornenj/.cpan/build/Exporter-Tidy-0.08-14/blib/lib"
PERL5OPT=""
PERL5_CPANPLUS_IS_RUNNING="52130"
PERL5_CPAN_IS_RUNNING="52130"
PERLBREW_HOME="/Users/hornenj/.perlbrew"
PERLBREW_MANPATH="/Users/hornenj/perl5/perlbrew/perls/perl-5.22.0/man"
PERLBREW_PATH="/Users/hornenj/perl5/perlbrew/bin:/Users/hornenj/perl5/perlbrew/perls/perl-5.22.0/bin"
PERLBREW_PERL="perl-5.22.0"
PERLBREW_ROOT="/Users/hornenj/perl5/perlbrew"
PERLBREW_SHELLRC_VERSION="0.84"
PERLBREW_VERSION="0.84"
@INC:
/Users/hornenj/.cpan/build/Contextual-Return-0.004014-14/blib/arch
/Users/hornenj/.cpan/build/Contextual-Return-0.004014-14/blib/lib
/Users/hornenj/.cpan/build/Want-0.29-14/blib/arch
/Users/hornenj/.cpan/build/Want-0.29-14/blib/lib
/Users/hornenj/.cpan/build/Proc-Fork-0.806-14/blib/arch
/Users/hornenj/.cpan/build/Proc-Fork-0.806-14/blib/lib
/Users/hornenj/.cpan/build/Exporter-Tidy-0.08-14/blib/arch
/Users/hornenj/.cpan/build/Exporter-Tidy-0.08-14/blib/lib
/Users/hornenj/perl5/perlbrew/perls/perl-5.22.0/lib/site_perl/5.22.0/darwin-thread-multi-2level
/Users/hornenj/perl5/perlbrew/perls/perl-5.22.0/lib/site_perl/5.22.0
/Users/hornenj/perl5/perlbrew/perls/perl-5.22.0/lib/5.22.0/darwin-thread-multi-2level
/Users/hornenj/perl5/perlbrew/perls/perl-5.22.0/lib/5.22.0
.