Alt-Crypt-RSA-BigInt v0.06 Perl 5 v5.28.0 x86_64-linux-thread-multi

Status
Pass
From
Perlbotics
Dist
Alt-Crypt-RSA-BigInt v0.06
Platform
Perl 5 v5.28.0 x86_64-linux-thread-multi
Date
2018-09-20 18:06:18
ID
df43b97c-bcff-11e8-bfd5-c4b7c38b373e
This distribution has been tested as part of the CPAN Testers
project, supporting the Perl programming language.  See
http://wiki.cpantesters.org/ for more information or email
questions to cpan-testers-discuss@perl.org


--
Dear Dana Jacobsen,

This is a computer-generated report for Alt-Crypt-RSA-BigInt-0.06
on perl 5.28.0, created by CPAN-Reporter-1.2018.

Thank you for uploading your work to CPAN.  Congratulations!
All tests were successful.

Sections of this report:

    * Tester comments
    * Program output
    * Prerequisites
    * Environment and other context

------------------------------
TESTER COMMENTS
------------------------------

Additional comments from tester:

none provided

------------------------------
PROGRAM OUTPUT
------------------------------

Output from '/usr/bin/make test':

PERL_DL_NONLAZY=1 "/opt/perl-5.28.0/bin/perl" "-MExtUtils::Command::MM" "-MTest::Harness" "-e" "undef *Test::Harness::Switches; test_harness(0, 'blib/lib', 'blib/arch')" t/*.t
t/00-errorhandler.t ........ ok
t/01-i2osp.t ............... ok
t/02-os2ip.t ............... ok
t/02a-h2osp.t .............. ok
t/03-random_octet.t ........ ok
t/04-octet_xor.t ........... ok
t/05-primitives.t .......... ok
# BigInt library: GMP
t/06-oaep.t ................ ok
t/07-pss.t ................. ok
t/08-secretkey.t ........... ok
t/09-publickey.t ........... ok
t/10-keygen.t .............. ok
t/11-wrapper.t ............. ok
t/12-versioning.t .......... ok
t/13-es-pkcs1v15.t ......... ok
t/14-ss-pkcs1v15.t ......... ok
t/15-benchmark.t ........... ok
t/16-serialize.t ........... ok
t/17-public-ssh.t .......... ok
t/18-private-ssh.t ......... ok
t/91-release-pod-syntax.t .. skipped: these tests are for release candidate testing
All tests successful.
Files=21, Tests=117,  2 wallclock secs ( 0.04 usr  0.02 sys +  1.72 cusr  0.20 csys =  1.98 CPU)
Result: PASS

------------------------------
PREREQUISITES
------------------------------

Prerequisite modules loaded:

requires:

    Module                 Need  Have    
    ---------------------- ----- --------
    Carp                   0     1.50    
    Class::Loader          0     2.03    
    Convert::ASCII::Armour 0     1.4     
    Crypt::Blowfish        0     2.14    
    Crypt::CBC             2.17  2.33    
    Data::Buffer           0     0.04    
    Data::Dumper           0     2.170   
    Digest::MD2            0     2.04    
    Digest::MD5            0     2.55    
    Digest::SHA            0     6.01    
    Exporter               0     5.73    
    Math::BigInt           1.78  1.999813
    Math::BigInt::GMP      0     1.6005  
    Math::Prime::Util      0.64  0.71    
    Math::Prime::Util::GMP 0     0.51    
    perl                   5.008 5.028000
    Sort::Versions         0     1.62    
    Tie::EncryptedHash     0     1.8     

build_requires:

    Module                 Need  Have    
    ---------------------- ----- --------
    Benchmark              0     1.22    
    MIME::Base64           0     3.15    
    Test::More             0.45  1.302140

configure_requires:

    Module                 Need  Have    
    ---------------------- ----- --------
    ExtUtils::MakeMaker    0     7.34    


------------------------------
ENVIRONMENT AND OTHER CONTEXT
------------------------------

Environment variables:

    LANG = de_DE.UTF-8
    PATH = /opt/perl/bin:.:/home/perl5/bin:/usr/local/bin:/usr/bin:/bin:/usr/bin/X11:/usr/games:./tools
    PERL5LIB = /home/perl5/.cpan/build/DBI-1.641-0/blib/arch:/home/perl5/.cpan/build/DBI-1.641-0/blib/lib:/home/perl5/.cpan/build/XML-Parser-2.44-1/blib/arch:/home/perl5/.cpan/build/XML-Parser-2.44-1/blib/lib:/home/perl5/.cpan/build/IO-Socket-SSL-2.060-0/blib/arch:/home/perl5/.cpan/build/IO-Socket-SSL-2.060-0/blib/lib:/home/perl5/.cpan/build/URI-1.74-0/blib/arch:/home/perl5/.cpan/build/URI-1.74-0/blib/lib:/home/perl5/.cpan/build/Digest-MD5-2.55-0/blib/arch:/home/perl5/.cpan/build/Digest-MD5-2.55-0/blib/lib:/home/perl5/.cpan/build/Convert-ASN1-0.27-0/blib/arch:/home/perl5/.cpan/build/Convert-ASN1-0.27-0/blib/lib
    PERL5OPT = 
    PERL5_CPANPLUS_IS_RUNNING = 7748
    PERL5_CPAN_IS_RUNNING = 7748
    SHELL = /bin/bash
    TERM = xterm-256color

Perl special variables (and OS-specific diagnostics, for MSWin32):

    $^X = /opt/perl-5.28.0/bin/perl
    $UID/$EUID = 1006 / 1006
    $GID = 100 100
    $EGID = 100 100

Perl module toolchain versions installed:

    Module              Have    
    ------------------- --------
    CPAN                2.16    
    CPAN::Meta          2.150010
    Cwd                 3.74    
    ExtUtils::CBuilder  0.280230
    ExtUtils::Command   7.34    
    ExtUtils::Install   2.14    
    ExtUtils::MakeMaker 7.34    
    ExtUtils::Manifest  1.70    
    ExtUtils::ParseXS   3.39    
    File::Spec          3.74    
    JSON                2.97001 
    JSON::PP            2.97001 
    Module::Build       0.4224  
    Module::Signature   n/a     
    Parse::CPAN::Meta   2.150010
    Test::Harness       3.42    
    Test::More          1.302140
    YAML                1.26    
    YAML::Syck          1.30    
    version             0.9923  


--

Summary of my perl5 (revision 5 version 28 subversion 0) configuration:
   
  Platform:
    osname=linux
    osvers=4.4.155-68-default
    archname=x86_64-linux-thread-multi
    uname='linux robo 4.4.155-68-default #1 smp tue sep 11 13:07:19 utc 2018 (4ecc783) x86_64 x86_64 x86_64 gnulinux '
    config_args='-des -Dusethreads -Dprefix=/opt/perl-5.28.0'
    hint=recommended
    useposix=true
    d_sigaction=define
    useithreads=define
    usemultiplicity=define
    use64bitint=define
    use64bitall=define
    uselongdouble=undef
    usemymalloc=n
    default_inc_excludes_dot=define
    bincompat5005=undef
  Compiler:
    cc='cc'
    ccflags ='-D_REENTRANT -D_GNU_SOURCE -fwrapv -fno-strict-aliasing -pipe -fstack-protector -I/usr/local/include -I/opt/local/include -D_LARGEFILE_SOURCE -D_FILE_OFFSET_BITS=64 -D_FORTIFY_SOURCE=2'
    optimize='-O2'
    cppflags='-D_REENTRANT -D_GNU_SOURCE -fwrapv -fno-strict-aliasing -pipe -fstack-protector -I/usr/local/include -I/opt/local/include'
    ccversion=''
    gccversion='4.8.5'
    gccosandvers=''
    intsize=4
    longsize=8
    ptrsize=8
    doublesize=8
    byteorder=12345678
    doublekind=3
    d_longlong=define
    longlongsize=8
    d_longdbl=define
    longdblsize=16
    longdblkind=3
    ivtype='long'
    ivsize=8
    nvtype='double'
    nvsize=8
    Off_t='off_t'
    lseeksize=8
    alignbytes=8
    prototype=define
  Linker and Libraries:
    ld='cc'
    ldflags =' -fstack-protector -L/usr/local/lib -L/opt/local/lib'
    libpth=/usr/local/lib /usr/lib64/gcc/x86_64-suse-linux/4.8/include-fixed /usr/lib64/gcc/x86_64-suse-linux/4.8/../../../../x86_64-suse-linux/lib /usr/lib /opt/local/lib /lib/../lib64 /usr/lib/../lib64 /lib /lib64 /usr/lib64 /usr/local/lib64
    libs=-lpthread -lnsl -lgdbm -ldl -lm -lcrypt -lutil -lc -lgdbm_compat
    perllibs=-lpthread -lnsl -ldl -lm -lcrypt -lutil -lc
    libc=libc-2.22.so
    so=so
    useshrplib=false
    libperl=libperl.a
    gnulibc_version='2.22'
  Dynamic Linking:
    dlsrc=dl_dlopen.xs
    dlext=so
    d_dlsymun=undef
    ccdlflags='-Wl,-E'
    cccdlflags='-fPIC'
    lddlflags='-shared -O2 -L/usr/local/lib -L/opt/local/lib -fstack-protector'


Characteristics of this binary (from libperl): 
  Compile-time options:
    HAS_TIMES
    MULTIPLICITY
    PERLIO_LAYERS
    PERL_COPY_ON_WRITE
    PERL_DONT_CREATE_GVSV
    PERL_IMPLICIT_CONTEXT
    PERL_MALLOC_WRAP
    PERL_OP_PARENT
    PERL_PRESERVE_IVUV
    USE_64_BIT_ALL
    USE_64_BIT_INT
    USE_ITHREADS
    USE_LARGE_FILES
    USE_LOCALE
    USE_LOCALE_COLLATE
    USE_LOCALE_CTYPE
    USE_LOCALE_NUMERIC
    USE_LOCALE_TIME
    USE_PERLIO
    USE_PERL_ATOF
    USE_REENTRANT_API
  Built under linux
  Compiled at Sep 18 2018 23:13:30
  %ENV:
    PERL5LIB="/home/perl5/.cpan/build/DBI-1.641-0/blib/arch:/home/perl5/.cpan/build/DBI-1.641-0/blib/lib:/home/perl5/.cpan/build/XML-Parser-2.44-1/blib/arch:/home/perl5/.cpan/build/XML-Parser-2.44-1/blib/lib:/home/perl5/.cpan/build/IO-Socket-SSL-2.060-0/blib/arch:/home/perl5/.cpan/build/IO-Socket-SSL-2.060-0/blib/lib:/home/perl5/.cpan/build/URI-1.74-0/blib/arch:/home/perl5/.cpan/build/URI-1.74-0/blib/lib:/home/perl5/.cpan/build/Digest-MD5-2.55-0/blib/arch:/home/perl5/.cpan/build/Digest-MD5-2.55-0/blib/lib:/home/perl5/.cpan/build/Convert-ASN1-0.27-0/blib/arch:/home/perl5/.cpan/build/Convert-ASN1-0.27-0/blib/lib"
    PERL5OPT=""
    PERL5_CPANPLUS_IS_RUNNING="7748"
    PERL5_CPAN_IS_RUNNING="7748"
  @INC:
    /home/perl5/.cpan/build/DBI-1.641-0/blib/arch
    /home/perl5/.cpan/build/DBI-1.641-0/blib/lib
    /home/perl5/.cpan/build/XML-Parser-2.44-1/blib/arch
    /home/perl5/.cpan/build/XML-Parser-2.44-1/blib/lib
    /home/perl5/.cpan/build/IO-Socket-SSL-2.060-0/blib/arch
    /home/perl5/.cpan/build/IO-Socket-SSL-2.060-0/blib/lib
    /home/perl5/.cpan/build/URI-1.74-0/blib/arch
    /home/perl5/.cpan/build/URI-1.74-0/blib/lib
    /home/perl5/.cpan/build/Digest-MD5-2.55-0/blib/arch
    /home/perl5/.cpan/build/Digest-MD5-2.55-0/blib/lib
    /home/perl5/.cpan/build/Convert-ASN1-0.27-0/blib/arch
    /home/perl5/.cpan/build/Convert-ASN1-0.27-0/blib/lib
    /opt/perl-5.28.0/lib/site_perl/5.28.0/x86_64-linux-thread-multi
    /opt/perl-5.28.0/lib/site_perl/5.28.0
    /opt/perl-5.28.0/lib/5.28.0/x86_64-linux-thread-multi
    /opt/perl-5.28.0/lib/5.28.0