JSON-PP v4.17_01 Perl 5 v5.22.2 x86_64-linux

Status
Pass
From
Slaven Rezić
Dist
JSON-PP v4.17_01
Platform
Perl 5 v5.22.2 x86_64-linux
Date
2023-08-02 23:04:02
ID
df2e9896-3188-11ee-be10-87186e8775ea
This distribution has been tested as part of the CPAN Testers
project, supporting the Perl programming language.  See
http://wiki.cpantesters.org/ for more information or email
questions to cpan-testers-discuss@perl.org


--
Dear Kenichi Ishigaki,

This is a computer-generated report for JSON-PP-4.17_01
on perl 5.22.2, created by CPAN-Reporter-1.2018.

Thank you for uploading your work to CPAN.  Congratulations!
All tests were successful.

Sections of this report:

    * Tester comments
    * Program output
    * Prerequisites
    * Environment and other context

------------------------------
TESTER COMMENTS
------------------------------

Additional comments from tester:

none provided

------------------------------
PROGRAM OUTPUT
------------------------------

Output from '/usr/bin/make test':

PERL_DL_NONLAZY=1 "/opt/perl-5.22.2/bin/perl" "-MExtUtils::Command::MM" "-MTest::Harness" "-e" "undef *Test::Harness::Switches; test_harness(0, 'blib/lib', 'blib/arch')" t/*.t
t/000_load.t .......................... ok
t/001_utf8.t .......................... ok
t/002_error.t ......................... ok
t/003_types.t ......................... ok
t/004_dwiw_encode.t ................... ok
t/005_dwiw_decode.t ................... ok
t/006_pc_pretty.t ..................... ok
t/007_pc_esc.t ........................ ok
t/008_pc_base.t ....................... ok
t/009_pc_extra_number.t ............... ok
t/010_pc_keysort.t .................... ok
t/011_pc_expo.t ....................... ok
t/012_blessed.t ....................... ok
t/013_limit.t ......................... ok
t/014_latin1.t ........................ ok
t/015_prefix.t ........................ ok
t/016_tied.t .......................... ok
t/017_relaxed.t ....................... ok
t/018_json_checker.t .................. ok
t/019_incr.t .......................... ok
t/020_faihu.t ......................... ok
t/020_unknown.t ....................... ok
t/021_evans.t ......................... ok
t/022_comment_at_eof.t ................ ok
t/052_object.t ........................ ok
t/099_binary00.t ...................... ok
t/099_binary01.t ...................... ok
t/099_binary02.t ...................... ok
t/099_binary03.t ...................... ok
t/099_binary04.t ...................... ok
t/099_binary05.t ...................... ok
t/099_binary06.t ...................... ok
t/099_binary07.t ...................... ok
t/099_binary08.t ...................... ok
t/099_binary09.t ...................... ok
t/099_binary10.t ...................... ok
t/099_binary11.t ...................... ok
t/099_binary12.t ...................... ok
t/099_binary13.t ...................... ok
t/099_binary14.t ...................... ok
t/099_binary15.t ...................... ok
t/104_sortby.t ........................ ok
t/105_esc_slash.t ..................... ok
t/106_allow_barekey.t ................. ok
t/107_allow_singlequote.t ............. ok
t/108_decode.t ........................ ok
t/109_encode.t ........................ ok
t/110_bignum.t ........................ ok
t/112_upgrade.t ....................... ok
t/113_overloaded_eq.t ................. ok
t/114_decode_prefix.t ................. ok
t/115_tie_ixhash.t .................... ok
t/116_incr_parse_fixed.t .............. ok
t/117_numbers.t ....................... ok
t/118_boolean_values.t ................ ok
t/119_incr_parse_utf8.t ............... ok
t/120_incr_parse_truncated.t .......... ok
t/121_reentrant.t ..................... ok
t/core_bools.t ........................ ok
t/gh_28_json_test_suite.t ............. ok
t/gh_29_trailing_false_value.t ........ ok
t/rt_116998_wrong_character_offset.t .. ok
t/rt_122270_old_xs_boolean.t .......... ok
t/rt_90071_incr_parse.t ............... ok
t/zero-mojibake.t ..................... ok
All tests successful.
Files=65, Tests=25921, 52 wallclock secs ( 1.04 usr  0.48 sys + 41.69 cusr  7.09 csys = 50.30 CPU)
Result: PASS

------------------------------
PREREQUISITES
------------------------------

Prerequisite modules loaded:

requires:

    Module              Need Have    
    ------------------- ---- --------
    Scalar::Util        1.08 1.45    
    Test::More          0    1.302052

build_requires:

    Module              Need Have    
    ------------------- ---- --------
    ExtUtils::MakeMaker 0    7.24    

configure_requires:

    Module              Need Have    
    ------------------- ---- --------
    ExtUtils::MakeMaker 0    7.24    


------------------------------
ENVIRONMENT AND OTHER CONTEXT
------------------------------

Environment variables:

    LANG = en_US.UTF-8
    LANGUAGE = en_US:en
    LC_ALL = en_US.UTF-8
    PATH = /usr/local/bin:/usr/bin:/bin:/usr/local/sbin:/usr/sbin:/sbin:/home/cpansand/bin/linux-gnu:/home/cpansand/bin/sh:/home/cpansand/bin:/usr/games:/home/cpansand/devel:/home/eserte/src/srezic-misc/scripts
    PERL5LIB = 
    PERL5OPT = 
    PERL5_CPANPLUS_IS_RUNNING = 27518
    PERL5_CPAN_IS_RUNNING = 27518
    PERL5_CPAN_IS_RUNNING_IN_RECURSION = 3051,27518
    PERLDOC = -MPod::Perldoc::ToTextOverstrike
    PERL_BATCH = yes
    PERL_CANARY_STABILITY_NOPROMPT = 1
    PERL_CPAN_REPORTER_CONFIG = /var/tmp/cpansmoker-1023/2023080220/cpanreporter_000_config.ini
    PERL_EXTUTILS_AUTOINSTALL = --defaultdeps
    PERL_USE_UNSAFE_INC = 1
    SHELL = /bin/zsh
    TERM = screen
    TMPDIR = /var/tmp/cpansmoker-1023/2023080220

Perl special variables (and OS-specific diagnostics, for MSWin32):

    $^X = /opt/perl-5.22.2/bin/perl
    $UID/$EUID = 1023 / 1023
    $GID = 1023 1023
    $EGID = 1023 1023

Perl module toolchain versions installed:

    Module              Have    
    ------------------- --------
    CPAN                2.16    
    CPAN::Meta          2.150010
    Cwd                 3.62    
    ExtUtils::CBuilder  0.280221
    ExtUtils::Command   7.24    
    ExtUtils::Install   2.04    
    ExtUtils::MakeMaker 7.24    
    ExtUtils::Manifest  1.70    
    ExtUtils::ParseXS   3.28    
    File::Spec          3.62    
    JSON                2.90    
    JSON::PP            2.27300 
    Module::Build       0.4220  
    Module::Signature   0.81    
    Parse::CPAN::Meta   2.150010
    Test::Harness       3.35    
    Test::More          1.302052
    YAML                1.17    
    YAML::Syck          1.29    
    version             0.9917  


--

Summary of my perl5 (revision 5 version 22 subversion 2) configuration:
   
  Platform:
    osname=linux, osvers=3.2.0-4-amd64, archname=x86_64-linux
    uname='linux cvrsnica-wheezy 3.2.0-4-amd64 #1 smp debian 3.2.54-2 x86_64 gnulinux '
    config_args='-ds -e -Dprefix=/opt/perl-5.22.2 -Dcf_email=srezic@cpan.org'
    hint=recommended, useposix=true, d_sigaction=define
    useithreads=undef, usemultiplicity=undef
    use64bitint=define, use64bitall=define, uselongdouble=undef
    usemymalloc=n, bincompat5005=undef
  Compiler:
    cc='cc', ccflags ='-fwrapv -fno-strict-aliasing -pipe -fstack-protector -I/usr/local/include -D_LARGEFILE_SOURCE -D_FILE_OFFSET_BITS=64 -D_FORTIFY_SOURCE=2',
    optimize='-O2',
    cppflags='-fwrapv -fno-strict-aliasing -pipe -fstack-protector -I/usr/local/include'
    ccversion='', gccversion='4.7.2', gccosandvers=''
    intsize=4, longsize=8, ptrsize=8, doublesize=8, byteorder=12345678, doublekind=3
    d_longlong=define, longlongsize=8, d_longdbl=define, longdblsize=16, longdblkind=3
    ivtype='long', ivsize=8, nvtype='double', nvsize=8, Off_t='off_t', lseeksize=8
    alignbytes=8, prototype=define
  Linker and Libraries:
    ld='cc', ldflags =' -fstack-protector -L/usr/local/lib'
    libpth=/usr/local/lib /usr/lib/gcc/x86_64-linux-gnu/4.7/include-fixed /usr/include/x86_64-linux-gnu /usr/lib /lib/x86_64-linux-gnu /lib/../lib /usr/lib/x86_64-linux-gnu /usr/lib/../lib /lib
    libs=-lpthread -lnsl -ldb -ldl -lm -lcrypt -lutil -lc
    perllibs=-lpthread -lnsl -ldl -lm -lcrypt -lutil -lc
    libc=libc-2.13.so, so=so, useshrplib=false, libperl=libperl.a
    gnulibc_version='2.13'
  Dynamic Linking:
    dlsrc=dl_dlopen.xs, dlext=so, d_dlsymun=undef, ccdlflags='-Wl,-E'
    cccdlflags='-fPIC', lddlflags='-shared -O2 -L/usr/local/lib -fstack-protector'


Characteristics of this binary (from libperl): 
  Compile-time options: HAS_TIMES PERLIO_LAYERS PERL_DONT_CREATE_GVSV
                        PERL_HASH_FUNC_ONE_AT_A_TIME_HARD PERL_MALLOC_WRAP
                        PERL_NEW_COPY_ON_WRITE PERL_PRESERVE_IVUV
                        USE_64_BIT_ALL USE_64_BIT_INT USE_LARGE_FILES
                        USE_LOCALE USE_LOCALE_COLLATE USE_LOCALE_CTYPE
                        USE_LOCALE_NUMERIC USE_LOCALE_TIME USE_PERLIO
                        USE_PERL_ATOF
  Built under linux
  Compiled at May 29 2016 23:41:57
  %ENV:
    PERL5LIB=""
    PERL5OPT=""
    PERL5_CPANPLUS_IS_RUNNING="27518"
    PERL5_CPAN_IS_RUNNING="27518"
    PERL5_CPAN_IS_RUNNING_IN_RECURSION="3051,27518"
    PERLDOC="-MPod::Perldoc::ToTextOverstrike"
    PERL_BATCH="yes"
    PERL_CANARY_STABILITY_NOPROMPT="1"
    PERL_CPAN_REPORTER_CONFIG="/var/tmp/cpansmoker-1023/2023080220/cpanreporter_000_config.ini"
    PERL_EXTUTILS_AUTOINSTALL="--defaultdeps"
    PERL_USE_UNSAFE_INC="1"
  @INC:
    /opt/perl-5.22.2/lib/site_perl/5.22.2/x86_64-linux
    /opt/perl-5.22.2/lib/site_perl/5.22.2
    /opt/perl-5.22.2/lib/5.22.2/x86_64-linux
    /opt/perl-5.22.2/lib/5.22.2
    .