Report for XML-RSS-1.56

Back
From: metabase:user:f565712c-9189-11e5-af0c-bb5107ab6bc9
Subject: PASS XML-RSS-1.56 v5.22.0 Mac OS X
Date: 2015-12-01T07:48:11Z

This distribution has been tested as part of the CPAN Testers
project, supporting the Perl programming language.  See
http://wiki.cpantesters.org/ for more information or email
questions to cpan-testers-discuss@perl.org


--
Dear Shlomi Fish,

This is a computer-generated report for XML-RSS-1.56
on perl 5.22.0, created by CPAN-Reporter-1.2015.

Thank you for uploading your work to CPAN.  Congratulations!
All tests were successful.

Sections of this report:

    * Tester comments
    * Program output
    * Prerequisites
    * Environment and other context

------------------------------
TESTER COMMENTS
------------------------------

Additional comments from tester:

none provided

------------------------------
PROGRAM OUTPUT
------------------------------

Output from './Build test':

t/load.t .............................. ok
t/pod.t ............................... ok
t/cpan-changes.t ...................... ok
t/style-trailing-space.t .............. ok
t/version.t ........................... ok
t/render-upon-init.t .................. ok
t/encoding.t .......................... ok
t/0.9-generate.t ...................... ok
t/0.9-parse.t ......................... ok
t/0.9-strict.t ........................ ok
t/0.91-parse.t ........................ ok
t/1.0-generate.t ...................... ok
t/1.0-gen-errors-on-missing-fields.t .. ok
t/1.0-parse.t ......................... ok
t/1.0-parse-2.t ....................... ok
t/1.0-parse-exotic.t .................. ok
t/2.0-generate.t ...................... ok
t/2.0-modules.t ....................... ok
t/2.0-permalink.t ..................... ok
t/2.0-parse.t ......................... ok
t/2.0-parse-cloud.t ................... ok
t/2.0-parse-2.t ....................... ok
t/2.0-parse-self.t .................... ok
t/2.0-wo-title.t ...................... ok
t/1.0-to-2.0.t ........................ ok
t/auto_add_modules.t .................. ok
t/enclosures.t ........................ ok
t/enclosures2.t ....................... ok
t/enclosures-multi.t .................. ok
t/encode-output.t ..................... ok
t/test-generated-items.t .............. ok
t/pod-coverage.t ...................... ok
t/rss2-gt-encoding.t .................. ok
t/charset1.t .......................... ok
t/xml-header.t ........................ ok
t/add-item-insert-vs-append.t ......... ok
t/guid.t .............................. ok
t/xml-base.t .......................... ok
t/save-while-in-taint-mode.t .......... ok
All tests successful.
Files=39, Tests=459,  9 wallclock secs ( 0.17 usr  0.12 sys +  7.55 cusr  0.75 csys =  8.59 CPU)
Result: PASS

------------------------------
PREREQUISITES
------------------------------

Prerequisite modules loaded:

requires:

    Module                   Need  Have    
    ------------------------ ----- --------
    DateTime                 0     1.21    
    DateTime::Format::Mail   0     0.402   
    DateTime::Format::W3CDTF 0     0.06    
    HTML::Entities           0     3.69    
    perl                     5.008 5.022000
    XML::Parser              2.23  2.44    

build_requires:

    Module                   Need  Have    
    ------------------------ ----- --------
    Test::Manifest           0.9   2.02    
    Test::More               0     1.001014

configure_requires:

    Module                   Need  Have    
    ------------------------ ----- --------
    Module::Build            0.36  0.4214  


------------------------------
ENVIRONMENT AND OTHER CONTEXT
------------------------------

Environment variables:

    LANG = en_US.UTF-8
    LANGUAGE = en_US.UTF-8
    LC_ALL = en_US.UTF-8
    LC_CTYPE = C
    PATH = /Users/greeneg/bin:/opt/Perl/bin:/opt/Perl/sbin:/opt/Ruby/bin:/opt/Ruby/sbin:/opt/local/bin:/opt/local/sbin:/opt/local/libexec/gnubin:/usr/local/mysql/bin:/usr/local/bin:/usr/bin:/bin:/usr/sbin:/sbin:/opt/X11/bin:/Applications/Server.app/Contents/ServerRoot/usr/bin:/Applications/Server.app/Contents/ServerRoot/usr/sbin:/usr/local/munki
    PERL5LIB = 
    PERL5OPT = 
    PERL5_CPANPLUS_IS_RUNNING = 77220
    PERL5_CPAN_IS_RUNNING = 77220
    SHELL = /bin/zsh
    TERM = xterm
    TMPDIR = /var/folders/x8/dtl9x47x08b6kksc0sh2zy5h000102/T/

Perl special variables (and OS-specific diagnostics, for MSWin32):

    $^X = /opt/Perl/bin/perl
    $UID/$EUID = 1026 / 1026
    $GID = 20 20 80 1025
    $EGID = 20 20 80 1025

Perl module toolchain versions installed:

    Module              Have    
    ------------------- --------
    CPAN                2.11    
    CPAN::Meta          2.150005
    Cwd                 3.60    
    ExtUtils::CBuilder  0.280224
    ExtUtils::Command   7.10    
    ExtUtils::Install   2.04    
    ExtUtils::MakeMaker 7.10    
    ExtUtils::Manifest  1.70    
    ExtUtils::ParseXS   3.30    
    File::Spec          3.60    
    JSON                2.90    
    JSON::PP            2.27300 
    Module::Build       0.4214  
    Module::Signature   0.79    
    Parse::CPAN::Meta   1.4417  
    Test::Harness       3.35    
    Test::More          1.001014
    YAML                1.15    
    YAML::Syck          1.29    
    version             0.9912  


--

Summary of my perl5 (revision 5 version 22 subversion 0) configuration:
   
  Platform:
    osname=darwin, osvers=15.2.0, archname=darwin-thread-multi-ld-2level
    uname='darwin urd.tolharadys.net 15.2.0 darwin kernel version 15.2.0: fri nov 13 19:43:59 pst 2015; root:xnu-3248.20.55~1release_x86_64 x86_64 i386 imac8,1 darwin '
    config_args=''
    hint=recommended, useposix=true, d_sigaction=define
    useithreads=define, usemultiplicity=define
    use64bitint=define, use64bitall=define, uselongdouble=define
    usemymalloc=n, bincompat5005=undef
  Compiler:
    cc='gcc', ccflags ='-fno-common -DPERL_DARWIN -fno-strict-aliasing -pipe -fstack-protector-strong -I/opt/local/include',
    optimize='-O3',
    cppflags='-fno-common -DPERL_DARWIN -fno-strict-aliasing -pipe -fstack-protector-strong -I/opt/local/include'
    ccversion='', gccversion='4.2.1 Compatible Apple LLVM 7.0.0 (clang-700.1.76)', gccosandvers=''
    intsize=4, longsize=8, ptrsize=8, doublesize=8, byteorder=12345678, doublekind=3
    d_longlong=define, longlongsize=8, d_longdbl=define, longdblsize=16, longdblkind=3
    ivtype='long', ivsize=8, nvtype='long double', nvsize=16, Off_t='off_t', lseeksize=8
    alignbytes=16, prototype=define
  Linker and Libraries:
    ld='env MACOSX_DEPLOYMENT_TARGET=10.9 cc', ldflags =' -fstack-protector-strong -L/opt/local/lib'
    libpth=/Applications/Xcode.app/Contents/Developer/Toolchains/XcodeDefault.xctoolchain/usr/bin/../lib/clang/7.0.0/lib /Applications/Xcode.app/Contents/Developer/Toolchains/XcodeDefault.xctoolchain/usr/lib /usr/lib /opt/local/lib
    libs=-lpthread -lgdbm -ldbm -ldl -lm -lutil -lc
    perllibs=-lpthread -ldl -lm -lutil -lc
    libc=, so=dylib, useshrplib=true, libperl=libperl.dylib
    gnulibc_version=''
  Dynamic Linking:
    dlsrc=dl_dlopen.xs, dlext=bundle, d_dlsymun=undef, ccdlflags=' '
    cccdlflags=' ', lddlflags=' -bundle -undefined dynamic_lookup -L/opt/local/lib -fstack-protector-strong'


Characteristics of this binary (from libperl): 
  Compile-time options: HAS_TIMES MULTIPLICITY PERLIO_LAYERS
                        PERL_DONT_CREATE_GVSV
                        PERL_HASH_FUNC_ONE_AT_A_TIME_HARD
                        PERL_IMPLICIT_CONTEXT PERL_MALLOC_WRAP
                        PERL_NEW_COPY_ON_WRITE PERL_PRESERVE_IVUV
                        USE_64_BIT_ALL USE_64_BIT_INT USE_ITHREADS
                        USE_LARGE_FILES USE_LOCALE USE_LOCALE_COLLATE
                        USE_LOCALE_CTYPE USE_LOCALE_NUMERIC USE_LOCALE_TIME
                        USE_LONG_DOUBLE USE_PERLIO USE_PERL_ATOF
  Built under darwin
  Compiled at Nov 22 2015 15:09:36
  %ENV:
    PERL5LIB=""
    PERL5OPT=""
    PERL5_CPANPLUS_IS_RUNNING="77220"
    PERL5_CPAN_IS_RUNNING="77220"
  @INC:
    /opt/Perl/lib/perl5/site_perl/5.22.0/darwin-thread-multi-ld-2level
    /opt/Perl/lib/perl5/site_perl/5.22.0
    /opt/Perl/lib/perl5/5.22.0/darwin-thread-multi-ld-2level
    /opt/Perl/lib/perl5/5.22.0
    .