Back
From: metabase:user:320bfe00-2aae-11df-837a-5e0a49663a4f
Subject: PASS String-Palindrome-2.000001 v5.15.3 GNU/Linux
Date: 2011-09-23T03:05:20Z
This distribution has been tested as part of the CPAN Testers
project, supporting the Perl programming language. See
http://wiki.cpantesters.org/ for more information or email
questions to cpan-testers-discuss@perl.org
--
Dear Adam Lesperance,
This is a computer-generated report for String-Palindrome-2.000001
on perl 5.15.3, created by CPAN-Reporter-1.1902.
Thank you for uploading your work to CPAN. Congratulations!
All tests were successful.
Sections of this report:
* Tester comments
* Program output
* Prerequisites
* Environment and other context
------------------------------
TESTER COMMENTS
------------------------------
Additional comments from tester:
none provided
------------------------------
PROGRAM OUTPUT
------------------------------
Output from './Build test':
t/00-compile.t .................. ok
#
#
# perl: v5.15.3 (wanted 5.008) on linux from /home/sand/src/perl/repoperls/installed-perls/perl/v5.15.3-32-g2527559/2b65/bin/perl
#
# Data::Dumper => 2.134 (want any version)
# English => 1.04 (want any version)
# Exporter => 5.65 (want any version)
# File::Find => 1.20 (want any version)
# File::Temp => 0.22 (want any version)
# Module::Build => 0.3901 (want 0.3601)
# Test::More => 0.98 (want 0.88)
# utf8 => 1.09 (want any version)
# vars => 1.02 (want any version)
#
# Thanks for using my code. I hope it works for you.
# If not, please try and include this output in the bug report.
# That will help me reproduce the issue and solve you problem.
#
t/000-report-versions-tiny.t .... ok
t/01-func_test.t ................ ok
t/author-critic.t ............... skipped: these tests are for testing by the author
t/release-common_spelling.t ..... skipped: these tests are for release candidate testing
t/release-consistent-version.t .. skipped: these tests are for release candidate testing
t/release-cpan-changes.t ........ skipped: these tests are for release candidate testing
t/release-dist-manifest.t ....... skipped: these tests are for release candidate testing
t/release-distmeta.t ............ skipped: these tests are for release candidate testing
t/release-eol.t ................. skipped: these tests are for release candidate testing
t/release-has-version.t ......... skipped: these tests are for release candidate testing
t/release-kwalitee.t ............ skipped: these tests are for release candidate testing
t/release-minimum-version.t ..... skipped: these tests are for release candidate testing
t/release-no-tabs.t ............. skipped: these tests are for release candidate testing
t/release-pod-coverage.t ........ skipped: these tests are for release candidate testing
t/release-pod-syntax.t .......... skipped: these tests are for release candidate testing
t/release-portability.t ......... skipped: these tests are for release candidate testing
t/release-synopsis.t ............ skipped: these tests are for release candidate testing
t/release-unused-vars.t ......... skipped: these tests are for release candidate testing
All tests successful.
Files=19, Tests=81, 1 wallclock secs ( 0.08 usr 0.05 sys + 0.41 cusr 0.12 csys = 0.66 CPU)
Result: PASS
------------------------------
PREREQUISITES
------------------------------
Prerequisite modules loaded:
requires:
Module Need Have
------------- ------ --------
Exporter 0 5.65
perl 5.008 5.015003
utf8 0 1.09
vars 0 1.02
build_requires:
Module Need Have
------------- ------ --------
Data::Dumper 0 2.134
English 0 1.04
File::Find 0 1.20
File::Temp 0 0.22
Module::Build 0.3601 0.39_01
Test::More 0.88 0.98
configure_requires:
Module Need Have
------------- ------ --------
Module::Build 0.3601 0.39_01
------------------------------
ENVIRONMENT AND OTHER CONTEXT
------------------------------
Environment variables:
LANG = en_US.UTF-8
LANGUAGE = en_US:en
PATH = /usr/lib/ccache:/home/sand/bin:/usr/local/bin:/usr/bin:/bin:/usr/bin/X11:/usr/games:/usr/local/perl/bin:/usr/X11/bin:/sbin:/usr/sbin
PERL5LIB = /home/sand/.cpan/build/Encode-IBM-0.11-qweUGW/blib/arch:/home/sand/.cpan/build/Encode-IBM-0.11-qweUGW/blib/lib:/home/sand/.cpan/build/Mail-SpamAssassin-2.43-g7XBGJ/blib/arch:/home/sand/.cpan/build/Mail-SpamAssassin-2.43-g7XBGJ/blib/lib
PERL5OPT =
PERL5_CPANPLUS_IS_RUNNING = 7360
PERL5_CPAN_IS_RUNNING = 7360
SHELL = /usr/bin/zsh
TERM = screen
Perl special variables (and OS-specific diagnostics, for MSWin32):
$^X = /home/sand/src/perl/repoperls/installed-perls/perl/v5.15.3-32-g2527559/2b65/bin/perl
$UID/$EUID = 1001 / 1001
$GID = 1001 1001
$EGID = 1001 1001
Perl module toolchain versions installed:
Module Have
------------------- --------
CPAN 1.9800
Cwd 3.37
ExtUtils::CBuilder 0.280204
ExtUtils::Command 1.17
ExtUtils::Install 1.57
ExtUtils::MakeMaker 6.59
ExtUtils::Manifest 1.60
ExtUtils::ParseXS 3.04_04
File::Spec 3.34
Module::Build 0.39_01
Module::Signature 0.68
Test::Harness 3.23
Test::More 0.98
YAML 0.73
YAML::Syck n/a
version 0.93
--
Summary of my perl5 (revision 5 version 15 subversion 3) configuration:
Commit id: 25275596243468dc2f7e4dddb6ac6eb8aac471f2
Platform:
osname=linux, osvers=3.0.0-1-amd64, archname=x86_64-linux-ld
uname='linux k81 3.0.0-1-amd64 #1 smp tue sep 20 07:03:13 utc 2011 x86_64 gnulinux '
config_args='-Dprefix=/home/src/perl/repoperls/installed-perls/perl/v5.15.3-32-g2527559/2b65 -Dinstallusrbinperl=n -Uversiononly -Dusedevel -des -Ui_db -Uuseithreads -Duselongdouble -DDEBUGGING=-g'
hint=recommended, useposix=true, d_sigaction=define
useithreads=undef, usemultiplicity=undef
useperlio=define, d_sfio=undef, uselargefiles=define, usesocks=undef
use64bitint=define, use64bitall=define, uselongdouble=define
usemymalloc=n, bincompat5005=undef
Compiler:
cc='cc', ccflags ='-fno-strict-aliasing -pipe -fstack-protector -I/usr/local/include -D_LARGEFILE_SOURCE -D_FILE_OFFSET_BITS=64',
optimize='-O2 -g',
cppflags='-fno-strict-aliasing -pipe -fstack-protector -I/usr/local/include'
ccversion='', gccversion='4.6.1', gccosandvers=''
intsize=4, longsize=8, ptrsize=8, doublesize=8, byteorder=12345678
d_longlong=define, longlongsize=8, d_longdbl=define, longdblsize=16
ivtype='long', ivsize=8, nvtype='long double', nvsize=16, Off_t='off_t', lseeksize=8
alignbytes=16, prototype=define
Linker and Libraries:
ld='cc', ldflags =' -fstack-protector -L/usr/local/lib'
libpth=/usr/local/lib /lib/x86_64-linux-gnu /usr/lib/x86_64-linux-gnu /lib /usr/lib /lib64 /usr/lib64
libs=-lnsl -ldb -ldl -lm -lcrypt -lutil -lc
perllibs=-lnsl -ldl -lm -lcrypt -lutil -lc
libc=, so=so, useshrplib=false, libperl=libperl.a
gnulibc_version='2.13'
Dynamic Linking:
dlsrc=dl_dlopen.xs, dlext=so, d_dlsymun=undef, ccdlflags='-Wl,-E'
cccdlflags='-fPIC', lddlflags='-shared -O2 -g -L/usr/local/lib -fstack-protector'
Characteristics of this binary (from libperl):
Compile-time options: HAS_TIMES PERLIO_LAYERS PERL_DONT_CREATE_GVSV
PERL_MALLOC_WRAP PERL_PRESERVE_IVUV PERL_USE_DEVEL
USE_64_BIT_ALL USE_64_BIT_INT USE_LARGE_FILES
USE_LOCALE USE_LOCALE_COLLATE USE_LOCALE_CTYPE
USE_LOCALE_NUMERIC USE_LONG_DOUBLE USE_PERLIO
USE_PERL_ATOF
Built under linux
Compiled at Sep 22 2011 21:15:11
%ENV:
PERL5LIB="/home/sand/.cpan/build/Encode-IBM-0.11-qweUGW/blib/arch:/home/sand/.cpan/build/Encode-IBM-0.11-qweUGW/blib/lib:/home/sand/.cpan/build/Mail-SpamAssassin-2.43-g7XBGJ/blib/arch:/home/sand/.cpan/build/Mail-SpamAssassin-2.43-g7XBGJ/blib/lib"
PERL5OPT=""
PERL5_CPANPLUS_IS_RUNNING="7360"
PERL5_CPAN_IS_RUNNING="7360"
@INC:
/home/sand/.cpan/build/Encode-IBM-0.11-qweUGW/blib/arch
/home/sand/.cpan/build/Encode-IBM-0.11-qweUGW/blib/lib
/home/sand/.cpan/build/Mail-SpamAssassin-2.43-g7XBGJ/blib/arch
/home/sand/.cpan/build/Mail-SpamAssassin-2.43-g7XBGJ/blib/lib
/home/src/perl/repoperls/installed-perls/perl/v5.15.3-32-g2527559/2b65/lib/site_perl/5.15.3/x86_64-linux-ld
/home/src/perl/repoperls/installed-perls/perl/v5.15.3-32-g2527559/2b65/lib/site_perl/5.15.3
/home/src/perl/repoperls/installed-perls/perl/v5.15.3-32-g2527559/2b65/lib/5.15.3/x86_64-linux-ld
/home/src/perl/repoperls/installed-perls/perl/v5.15.3-32-g2527559/2b65/lib/5.15.3
.