Cache-Memcached-Mock v0.05 Perl 5 v5.10.0 powerpc-linux-gnu-thread-multi
- Status
- Pass
- From
- Nigel Horne
- Dist
-
Cache-Memcached-Mock v0.05
- Platform
- Perl 5 v5.10.0 powerpc-linux-gnu-thread-multi
- Date
- 2010-07-11 10:27:13
- ID
- def72b64-8cd6-11df-b5df-a8f9333cd80d
This distribution has been tested as part of the CPAN Testers
project, supporting the Perl programming language. See
http://wiki.cpantesters.org/ for more information or email
questions to cpan-testers-discuss@perl.org
--
Dear Opera Software ASA,
This is a computer-generated report for Cache-Memcached-Mock-0.05
on perl 5.10.0, created by CPAN-Reporter-1.1711.
Thank you for uploading your work to CPAN. Congratulations!
All tests were successful.
Sections of this report:
* Tester comments
* Program output
* Prerequisites
* Environment and other context
------------------------------
TESTER COMMENTS
------------------------------
Additional comments from tester:
this report is from an automated smoke testing program
and was not reviewed by a human for accuracy
------------------------------
PROGRAM OUTPUT
------------------------------
Output from '/usr/bin/make test':
PERL_DL_NONLAZY=1 /usr/bin/perl "-MExtUtils::Command::MM" "-e" "test_harness(0, 'blib/lib', 'blib/arch')" t/*.t
t/000-load.t .......... ok
t/add.t ............... ok
# Sleeping to allow the key to expire
t/expiry.t ............ ok
t/get-multi.t ......... ok
t/get-set.t ........... ok
t/incr-decr.t ......... ok
t/replace.t ........... ok
t/value-size-limit.t .. ok
All tests successful.
Files=8, Tests=44, 9 wallclock secs ( 0.31 usr 0.06 sys + 2.26 cusr 0.31 csys = 2.94 CPU)
Result: PASS
------------------------------
PREREQUISITES
------------------------------
Prerequisite modules loaded:
build_requires:
Module Need Have
------------------- ---- ----
Test::More 0 0.94
configure_requires:
Module Need Have
------------------- ---- ----
ExtUtils::MakeMaker 6.31 6.56
------------------------------
ENVIRONMENT AND OTHER CONTEXT
------------------------------
Environment variables:
AUTOMATED_TESTING = 1
LANG = en_GB.UTF-8
PATH = /usr/local/sbin:/usr/local/bin:/usr/sbin:/usr/bin:/sbin:/bin
PERL5LIB =
PERL5OPT =
PERL5_CPANPLUS_IS_RUNNING = 32480
PERL5_CPAN_IS_RUNNING = 32480
PERL5_MINISMOKEBOX = 0.26
PERL_EXTUTILS_AUTOINSTALL = --defaultdeps
PERL_MM_USE_DEFAULT = 1
SHELL = /bin/bash
TERM = linux
Perl special variables (and OS-specific diagnostics, for MSWin32):
$^X = /usr/bin/perl
$UID/$EUID = 0 / 0
$GID = 0 0
$EGID = 0 0
Perl module toolchain versions installed:
Module Have
------------------- ------
CPAN 1.9402
Cwd 3.31
ExtUtils::CBuilder 0.2703
ExtUtils::Command 1.16
ExtUtils::Install 1.54
ExtUtils::MakeMaker 6.56
ExtUtils::Manifest 1.58
ExtUtils::ParseXS 2.2206
File::Spec 3.31
Module::Build 0.3607
Module::Signature 0.64
Test::Harness 3.21
Test::More 0.94
YAML 0.71
YAML::Syck 1.10
version 0.82
--
Summary of my perl5 (revision 5 version 10 subversion 0) configuration:
Platform:
osname=linux, osvers=2.6.26-2-powerpc-smp, archname=powerpc-linux-gnu-thread-multi
uname='linux voltaire 2.6.26-2-powerpc-smp #1 smp fri aug 14 08:46:19 utc 2009 ppc gnulinux '
config_args='-Dusethreads -Duselargefiles -Dccflags=-DDEBIAN -Dcccdlflags=-fPIC -Darchname=powerpc-linux-gnu -Dprefix=/usr -Dprivlib=/usr/share/perl/5.10 -Darchlib=/usr/lib/perl/5.10 -Dvendorprefix=/usr -Dvendorlib=/usr/share/perl5 -Dvendorarch=/usr/lib/perl5 -Dsiteprefix=/usr/local -Dsitelib=/usr/local/share/perl/5.10.0 -Dsitearch=/usr/local/lib/perl/5.10.0 -Dman1dir=/usr/share/man/man1 -Dman3dir=/usr/share/man/man3 -Dsiteman1dir=/usr/local/man/man1 -Dsiteman3dir=/usr/local/man/man3 -Dman1ext=1 -Dman3ext=3perl -Dpager=/usr/bin/sensible-pager -Uafs -Ud_csh -Ud_ualarm -Uusesfio -Uusenm -DDEBUGGING=-g -Doptimize=-O2 -Duseshrplib -Dlibperl=libperl.so.5.10.0 -Dd_dosuid -des'
hint=recommended, useposix=true, d_sigaction=define
useithreads=define, usemultiplicity=define
useperlio=define, d_sfio=undef, uselargefiles=define, usesocks=undef
use64bitint=undef, use64bitall=undef, uselongdouble=undef
usemymalloc=n, bincompat5005=undef
Compiler:
cc='cc', ccflags ='-D_REENTRANT -D_GNU_SOURCE -DDEBIAN -fno-strict-aliasing -pipe -I/usr/local/include -D_LARGEFILE_SOURCE -D_FILE_OFFSET_BITS=64',
optimize='-O2 -g',
cppflags='-D_REENTRANT -D_GNU_SOURCE -DDEBIAN -fno-strict-aliasing -pipe -I/usr/local/include'
ccversion='', gccversion='4.3.2', gccosandvers=''
intsize=4, longsize=4, ptrsize=4, doublesize=8, byteorder=4321
d_longlong=define, longlongsize=8, d_longdbl=define, longdblsize=16
ivtype='long', ivsize=4, nvtype='double', nvsize=8, Off_t='off_t', lseeksize=8
alignbytes=8, prototype=define
Linker and Libraries:
ld='cc', ldflags =' -L/usr/local/lib'
libpth=/usr/local/lib /lib /usr/lib /lib64 /usr/lib64
libs=-lgdbm -lgdbm_compat -ldb -ldl -lm -lpthread -lc -lcrypt
perllibs=-ldl -lm -lpthread -lc -lcrypt
libc=/lib/libc-2.7.so, so=so, useshrplib=true, libperl=libperl.so.5.10.0
gnulibc_version='2.7'
Dynamic Linking:
dlsrc=dl_dlopen.xs, dlext=so, d_dlsymun=undef, ccdlflags='-Wl,-E'
cccdlflags='-fPIC', lddlflags='-shared -O2 -g -L/usr/local/lib'
Characteristics of this binary (from libperl):
Compile-time options: MULTIPLICITY PERL_DONT_CREATE_GVSV
PERL_IMPLICIT_CONTEXT PERL_MALLOC_WRAP USE_ITHREADS
USE_LARGE_FILES USE_PERLIO USE_REENTRANT_API
Built under linux
Compiled at Aug 28 2009 23:41:24
%ENV:
PERL5LIB=""
PERL5OPT=""
PERL5_CPANPLUS_IS_RUNNING="32480"
PERL5_CPAN_IS_RUNNING="32480"
PERL5_MINISMOKEBOX="0.26"
PERL_EXTUTILS_AUTOINSTALL="--defaultdeps"
PERL_MM_USE_DEFAULT="1"
@INC:
/etc/perl
/usr/local/lib/perl/5.10.0
/usr/local/share/perl/5.10.0
/usr/lib/perl5
/usr/share/perl5
/usr/lib/perl/5.10
/usr/share/perl/5.10
/usr/local/lib/site_perl
.