Back
From: metabase:user:9c36dc84-a30f-11e0-a9fc-0a18abbd4f2f
Subject: PASS MetaPOD-Format-JSON-0.3.0 v5.22.0 OpenBSD
Date: 2015-11-24T17:14:50Z
This distribution has been tested as part of the CPAN Testers
project, supporting the Perl programming language. See
http://wiki.cpantesters.org/ for more information or email
questions to cpan-testers-discuss@perl.org
--
Dear Kent Fredric,
This is a computer-generated report for MetaPOD-Format-JSON-0.3.0
on perl 5.22.0, created by CPAN-Reporter-1.2015.
Thank you for uploading your work to CPAN. Congratulations!
All tests were successful.
Sections of this report:
* Tester comments
* Program output
* Prerequisites
* Environment and other context
------------------------------
TESTER COMMENTS
------------------------------
Additional comments from tester:
this report is from an automated smoke testing program
and was not reviewed by a human for accuracy
------------------------------
PROGRAM OUTPUT
------------------------------
Output from './Build test':
t/00-compile/lib_MetaPOD_Format_JSON_Decoder_v1_pm.t ...... ok
t/00-compile/lib_MetaPOD_Format_JSON_PostCheck_v1_pm.t .... ok
t/00-compile/lib_MetaPOD_Format_JSON_does_v1_pm.t ......... ok
t/00-compile/lib_MetaPOD_Format_JSON_inherits_v1_pm.t ..... ok
t/00-compile/lib_MetaPOD_Format_JSON_interface_v1_1_pm.t .. ok
t/00-compile/lib_MetaPOD_Format_JSON_namespace_v1_pm.t .... ok
t/00-compile/lib_MetaPOD_Format_JSON_pm.t ................. ok
t/00-compile/lib_MetaPOD_Format_JSON_v1_1_pm.t ............ ok
t/00-compile/lib_MetaPOD_Format_JSON_v1_pm.t .............. ok
#
#
# Generated by Dist::Zilla::Plugin::ReportVersions::Tiny v1.10
# perl: 5.022000 (wanted v5.10.0) on openbsd from /home/arfreitas/perl5/perlbrew/perls/perl-5.22.0/bin/perl
#
# Carp => 1.36 (want any version)
# FindBin => 1.51 (want any version)
# JSON => 2.90 (want any version)
# MetaPOD::Assembler => 0.3.6 (want any version)
# MetaPOD::Exception::Decode::Data => 0.3.6 (want any version)
# MetaPOD::Role::Format => 0.3.6 (want any version)
# Module::Build => 0.4214 (want 0.4202)
# Moo => 2.000002 (want 1.000008)
# Moo::Role => 2.000002 (want any version)
# Path::Iterator::Rule => 1.009 (want any version)
# Path::Tiny => 0.075 (want any version)
# Test::Fatal => 0.014 (want any version)
# Test::More => 1.001014 (want 1.001002)
# Try::Tiny => 0.22 (want any version)
# strict => 1.09 (want any version)
# version => 0.9912 (want 0.77)
# warnings => 1.32 (want any version)
#
# Thanks for using my code. I hope it works for you.
# If not, please try and include this output in the bug report.
# That will help me reproduce the issue and solve your problem.
#
t/000-report-versions-tiny.t .............................. ok
t/05-format-json/01-basic.t ............................... ok
t/self-extract.t .......................................... ok
All tests successful.
Files=12, Tests=22, 2 wallclock secs ( 0.03 usr 0.19 sys + 0.73 cusr 0.65 csys = 1.60 CPU)
Result: PASS
------------------------------
PREREQUISITES
------------------------------
Prerequisite modules loaded:
requires:
Module Need Have
-------------------------------- -------- --------
Carp 0 1.36
JSON 0 2.90
MetaPOD::Exception::Decode::Data 0 0.3.6
MetaPOD::Role::Format 0 0.3.6
Moo 1.000008 2.000002
Moo::Role 0 2.000002
perl v5.10.0 5.022000
strict 0 1.09
Try::Tiny 0 0.22
version 0.77 0.9912
warnings 0 1.32
build_requires:
Module Need Have
-------------------------------- -------- --------
FindBin 0 1.51
MetaPOD::Assembler 0 0.3.6
Module::Build 0.4202 0.4214
Path::Iterator::Rule 0 1.009
Path::Tiny 0 0.075
Test::Fatal 0 0.014
Test::More 1.001002 1.001014
configure_requires:
Module Need Have
-------------------------------- -------- --------
Module::Build 0.4202 0.4214
------------------------------
ENVIRONMENT AND OTHER CONTEXT
------------------------------
Environment variables:
AUTOMATED_TESTING = 1
NONINTERACTIVE_TESTING = 1
PATH = /home/arfreitas/perl5/perlbrew/bin:/home/arfreitas/perl5/perlbrew/perls/perl-5.22.0/bin:/usr/bin:/bin:/usr/sbin:/sbin:/usr/X11R6/bin:/usr/local/bin:/usr/local/sbin
PERL5LIB =
PERL5OPT =
PERL5_CPANPLUS_IS_RUNNING = 768
PERL5_CPAN_IS_RUNNING = 768
PERL5_CPAN_IS_RUNNING_IN_RECURSION = 7286,768
PERLBREW_BASHRC_VERSION = 0.73
PERLBREW_HOME = /home/arfreitas/.perlbrew
PERLBREW_MANPATH = /home/arfreitas/perl5/perlbrew/perls/perl-5.22.0/man
PERLBREW_PATH = /home/arfreitas/perl5/perlbrew/bin:/home/arfreitas/perl5/perlbrew/perls/perl-5.22.0/bin
PERLBREW_PERL = perl-5.22.0
PERLBREW_ROOT = /home/arfreitas/perl5/perlbrew
PERLBREW_VERSION = 0.73
PERL_CR_SMOKER_CURRENT = MetaPOD-Format-JSON-0.3.0
PERL_CR_SMOKER_RUNONCE = 1
PERL_EXTUTILS_AUTOINSTALL = --defaultdeps
PERL_MM_USE_DEFAULT = 1
SHELL = /usr/local/bin/bash
TERM = vt220
Perl special variables (and OS-specific diagnostics, for MSWin32):
$^X = /home/arfreitas/perl5/perlbrew/perls/perl-5.22.0/bin/perl
$UID/$EUID = 1000 / 1000
$GID = 1000 1000 0
$EGID = 1000 1000 0
Perl module toolchain versions installed:
Module Have
------------------- --------
CPAN 2.10
CPAN::Meta 2.150005
Cwd 3.59
ExtUtils::CBuilder 0.280224
ExtUtils::Command 7.11_01
ExtUtils::Install 2.04
ExtUtils::MakeMaker 7.11_01
ExtUtils::Manifest 1.70
ExtUtils::ParseXS 3.30
File::Spec 3.59
JSON 2.90
JSON::PP 2.27300
Module::Build 0.4214
Module::Signature 0.79
Parse::CPAN::Meta 1.4417
Test::Harness 3.35
Test::More 1.001014
YAML 1.15
YAML::Syck 1.29
version 0.9912
--
Summary of my perl5 (revision 5 version 22 subversion 0) configuration:
Platform:
osname=openbsd, osvers=5.7, archname=OpenBSD.i386-openbsd
uname='openbsd foobar.spo.virtua.com.br 5.7 generic.mp#767 i386 '
config_args='-de -Dprefix=/home/arfreitas/perl5/perlbrew/perls/perl-5.22.0 -Aeval:scriptdir=/home/arfreitas/perl5/perlbrew/perls/perl-5.22.0/bin'
hint=recommended, useposix=true, d_sigaction=define
useithreads=undef, usemultiplicity=undef
use64bitint=undef, use64bitall=undef, uselongdouble=undef
usemymalloc=n, bincompat5005=undef
Compiler:
cc='cc', ccflags ='-fno-strict-aliasing -pipe -fstack-protector-strong -I/usr/local/include -D_FORTIFY_SOURCE=2',
optimize='-O2',
cppflags='-fno-strict-aliasing -pipe -fstack-protector-strong -I/usr/local/include'
ccversion='', gccversion='4.2.1 20070719 ', gccosandvers='openbsd5.7'
intsize=4, longsize=4, ptrsize=4, doublesize=8, byteorder=1234, doublekind=3
d_longlong=define, longlongsize=8, d_longdbl=define, longdblsize=12, longdblkind=3
ivtype='long', ivsize=4, nvtype='double', nvsize=8, Off_t='off_t', lseeksize=8
alignbytes=4, prototype=define
Linker and Libraries:
ld='cc', ldflags ='-Wl,-E -fstack-protector-strong -L/usr/local/lib'
libpth=/usr/lib /usr/local/lib
libs=-lpthread -lgdbm -lm -lutil -lc
perllibs=-lpthread -lm -lutil -lc
libc=/usr/lib/libc.so.78.1, so=so, useshrplib=false, libperl=libperl.a
gnulibc_version=''
Dynamic Linking:
dlsrc=dl_dlopen.xs, dlext=so, d_dlsymun=undef, ccdlflags=' '
cccdlflags='-DPIC -fPIC ', lddlflags='-shared -fPIC -L/usr/local/lib -fstack-protector-strong'
Characteristics of this binary (from libperl):
Compile-time options: HAS_TIMES PERLIO_LAYERS PERL_DONT_CREATE_GVSV
PERL_HASH_FUNC_ONE_AT_A_TIME_HARD PERL_MALLOC_WRAP
PERL_NEW_COPY_ON_WRITE PERL_PRESERVE_IVUV
USE_LARGE_FILES USE_LOCALE USE_LOCALE_COLLATE
USE_LOCALE_CTYPE USE_LOCALE_NUMERIC USE_LOCALE_TIME
USE_PERLIO USE_PERL_ATOF
Locally applied patches:
Devel::PatchPerl 1.38
Built under openbsd
Compiled at Aug 20 2015 22:28:58
%ENV:
PERL5LIB=""
PERL5OPT=""
PERL5_CPANPLUS_IS_RUNNING="768"
PERL5_CPAN_IS_RUNNING="768"
PERL5_CPAN_IS_RUNNING_IN_RECURSION="7286,768"
PERLBREW_BASHRC_VERSION="0.73"
PERLBREW_HOME="/home/arfreitas/.perlbrew"
PERLBREW_MANPATH="/home/arfreitas/perl5/perlbrew/perls/perl-5.22.0/man"
PERLBREW_PATH="/home/arfreitas/perl5/perlbrew/bin:/home/arfreitas/perl5/perlbrew/perls/perl-5.22.0/bin"
PERLBREW_PERL="perl-5.22.0"
PERLBREW_ROOT="/home/arfreitas/perl5/perlbrew"
PERLBREW_VERSION="0.73"
PERL_CR_SMOKER_CURRENT="MetaPOD-Format-JSON-0.3.0"
PERL_CR_SMOKER_RUNONCE="1"
PERL_EXTUTILS_AUTOINSTALL="--defaultdeps"
PERL_MM_USE_DEFAULT="1"
@INC:
/home/arfreitas/perl5/perlbrew/perls/perl-5.22.0/lib/site_perl/5.22.0/OpenBSD.i386-openbsd
/home/arfreitas/perl5/perlbrew/perls/perl-5.22.0/lib/site_perl/5.22.0
/home/arfreitas/perl5/perlbrew/perls/perl-5.22.0/lib/5.22.0/OpenBSD.i386-openbsd
/home/arfreitas/perl5/perlbrew/perls/perl-5.22.0/lib/5.22.0
.