Back
From: metabase:user:314402c4-2aae-11df-837a-5e0a49663a4f
Subject: PASS Net-Google-DataAPI-0.2805 v5.24.1 GNU/Linux
Date: 2017-01-31T04:00:57Z
This distribution has been tested as part of the CPAN Testers
project, supporting the Perl programming language. See
http://wiki.cpantesters.org/ for more information or email
questions to cpan-testers-discuss@perl.org
--
Dear Nobuo Danjou,
This is a computer-generated report for Net-Google-DataAPI-0.2805
on perl 5.24.1, created by CPAN-Reporter-1.2018.
Thank you for uploading your work to CPAN. Congratulations!
All tests were successful.
Sections of this report:
* Tester comments
* Program output
* Prerequisites
* Environment and other context
------------------------------
TESTER COMMENTS
------------------------------
Additional comments from tester:
none provided
------------------------------
PROGRAM OUTPUT
------------------------------
Output from '/usr/bin/make test':
PERL_DL_NONLAZY=1 "/opt/perl-5.24.1/bin/perl5.24.1" "-MExtUtils::Command::MM" "-MTest::Harness" "-e" "undef *Test::Harness::Switches; test_harness(0, 'inc', 'blib/lib', 'blib/arch')" t/*.t t/01_role/01_service/*.t t/01_role/02_entry/*.t t/01_role/03_has_content/*.t t/02_feedurl/*.t t/03_entry_has/*.t t/04_auth/*.t
Any::Moose is deprecated. Please use Moo instead at /home/cpansand/.cpan/build/2017013103/Net-Google-DataAPI-0.2805-0/blib/lib/Net/Google/DataAPI.pm line 3.
t/00_compile.t ......................................... ok
Any::Moose is deprecated. Please use Moo instead at /home/cpansand/.cpan/build/2017013103/Net-Google-DataAPI-0.2805-0/blib/lib/Net/Google/DataAPI/Role/Service.pm line 2.
t/01_role/01_service/01_instanciate.t .................. ok
Any::Moose is deprecated. Please use Moo instead at /home/cpansand/.cpan/build/2017013103/Net-Google-DataAPI-0.2805-0/blib/lib/Net/Google/DataAPI/Role/Service.pm line 2.
t/01_role/01_service/02_namespace.t .................... ok
Any::Moose is deprecated. Please use Moo instead at t/01_role/01_service/03_request.t line 11.
t/01_role/01_service/03_request.t ...................... ok
Any::Moose is deprecated. Please use Moo instead at t/01_role/01_service/04_methods.t line 9.
t/01_role/01_service/04_methods.t ...................... ok
Any::Moose is deprecated. Please use Moo instead at t/lib/MyService.pm line 2.
t/01_role/01_service/05_debug.t ........................ ok
Any::Moose is deprecated. Please use Moo instead at /home/cpansand/.cpan/build/2017013103/Net-Google-DataAPI-0.2805-0/blib/lib/Net/Google/DataAPI/Role/Service.pm line 2.
t/01_role/01_service/06_pass_through.t ................. ok
Any::Moose is deprecated. Please use Moo instead at /home/cpansand/.cpan/build/2017013103/Net-Google-DataAPI-0.2805-0/blib/lib/Net/Google/DataAPI/Role/Service.pm line 2.
t/01_role/01_service/07_max_line_length.t .............. ok
Any::Moose is deprecated. Please use Moo instead at /home/cpansand/.cpan/build/2017013103/Net-Google-DataAPI-0.2805-0/blib/lib/Net/Google/DataAPI/Role/Service.pm line 2.
t/01_role/01_service/08_max_line_length_custom_size.t .. ok
Any::Moose is deprecated. Please use Moo instead at /home/cpansand/.cpan/build/2017013103/Net-Google-DataAPI-0.2805-0/blib/lib/Net/Google/DataAPI/Role/Entry.pm line 2.
t/01_role/02_entry/01_instanciate.t .................... ok
Any::Moose is deprecated. Please use Moo instead at t/01_role/02_entry/02_update.t line 10.
t/01_role/02_entry/02_update.t ......................... ok
Any::Moose is deprecated. Please use Moo instead at /home/cpansand/.cpan/build/2017013103/Net-Google-DataAPI-0.2805-0/blib/lib/Net/Google/DataAPI/Role/HasContent.pm line 2.
t/01_role/03_has_content/01_basic.t .................... ok
Any::Moose is deprecated. Please use Moo instead at t/lib/MyService.pm line 2.
t/02_feedurl/01_basic.t ................................ ok
Any::Moose is deprecated. Please use Moo instead at t/lib/MyService.pm line 2.
t/02_feedurl/02_add.t .................................. ok
Any::Moose is deprecated. Please use Moo instead at t/lib/MyService.pm line 2.
t/02_feedurl/03_list.t ................................. ok
Any::Moose is deprecated. Please use Moo instead at t/lib/MyService.pm line 2.
t/02_feedurl/04_delete.t ............................... ok
Any::Moose is deprecated. Please use Moo instead at t/02_feedurl/05_error.t line 10.
t/02_feedurl/05_error.t ................................ ok
Any::Moose is deprecated. Please use Moo instead at t/03_entry_has/01_basic.t line 116.
t/03_entry_has/01_basic.t .............................. ok
Any::Moose is deprecated. Please use Moo instead at t/03_entry_has/02_error.t line 8.
t/03_entry_has/02_error.t .............................. ok
Any::Moose is deprecated. Please use Moo instead at t/lib/MyService.pm line 2.
t/04_auth/01_authsub.t ................................. ok
Any::Moose is deprecated. Please use Moo instead at /home/cpansand/.cpan/build/2017013103/Net-Google-DataAPI-0.2805-0/blib/lib/Net/Google/DataAPI/Auth/OAuth.pm line 2.
t/04_auth/02_oauth.t ................................... ok
Any::Moose is deprecated. Please use Moo instead at /home/cpansand/.cpan/build/2017013103/Net-Google-DataAPI-0.2805-0/blib/lib/Net/Google/DataAPI/Auth/ClientLogin/Multiple.pm line 2.
t/04_auth/03_multiple.t ................................ ok
Any::Moose is deprecated. Please use Moo instead at /home/cpansand/.cpan/build/2017013103/Net-Google-DataAPI-0.2805-0/blib/lib/Net/Google/DataAPI/Auth/OAuth2.pm line 2.
t/04_auth/04_oauth2.t .................................. ok
Any::Moose is deprecated. Please use Moo instead at t/05_types.t line 6.
t/05_types.t ........................................... ok
All tests successful.
Files=24, Tests=423, 10 wallclock secs ( 0.14 usr 0.03 sys + 8.59 cusr 1.30 csys = 10.06 CPU)
Result: PASS
------------------------------
PREREQUISITES
------------------------------
Prerequisite modules loaded:
requires:
Module Need Have
--------------------------- -------- ----------
Any::Moose 0.04 0.27
Carp 0 1.38
Digest::SHA1 0 2.13
Lingua::EN::Inflect::Number 0 1.12
LWP::Protocol::https 0 6.06
LWP::UserAgent 0 6.16
Mouse 0.51 v2.4.7
Net::Google::AuthSub 0.5 0.5
Net::OAuth 0 0.28
Net::OAuth2 0.60 0.63
perl 5.008001 5.024001
Text::Glob 0 0.10
URI 0 1.71
XML::Atom 0 0.41
XML::LibXML 0 2.0128
build_requires:
Module Need Have
--------------------------- -------- ----------
ExtUtils::MakeMaker 6.59 7.24
Test::Exception 0 0.43
Test::MockModule 0 0.11
Test::MockObject 0 1.20161202
Test::More 0.88 1.302075
Test::Warn 0 0.32
UNIVERSAL::can 0 1.20140328
UNIVERSAL::isa 0 1.20150614
configure_requires:
Module Need Have
--------------------------- -------- ----------
ExtUtils::MakeMaker 6.59 7.24
opt_requires:
Module Need Have
--------------------------- -------- ----------
Moose 0.56 2.1807
------------------------------
ENVIRONMENT AND OTHER CONTEXT
------------------------------
Environment variables:
LANG = en_US.UTF-8
PATH = /usr/local/bin:/usr/bin:/bin:/usr/local/sbin:/usr/sbin:/sbin:/home/cpansand/bin/linux-gnu:/home/cpansand/bin/sh:/home/cpansand/bin:/usr/games:/home/cpansand/devel:/home/eserte/src/srezic-misc/scripts
PERL5LIB =
PERL5OPT =
PERL5_CPANPLUS_IS_RUNNING = 18094
PERL5_CPAN_IS_RUNNING = 18094
PERL5_CPAN_IS_RUNNING_IN_RECURSION = 14813,18094
PERLDOC = -MPod::Perldoc::ToTextOverstrike
PERL_BATCH = yes
PERL_CANARY_STABILITY_NOPROMPT = 1
PERL_CPAN_REPORTER_CONFIG = /var/tmp/cpansmoker-1002/2017013006/cpanreporter_000_config.ini
PERL_EXTUTILS_AUTOINSTALL = --defaultdeps
SHELL = /bin/zsh
TERM = screen
TMPDIR = /var/tmp/cpansmoker-1002/2017013006
Perl special variables (and OS-specific diagnostics, for MSWin32):
$^X = /opt/perl-5.24.1/bin/perl5.24.1
$UID/$EUID = 1002 / 1002
$GID = 1002 1002
$EGID = 1002 1002
Perl module toolchain versions installed:
Module Have
------------------- --------
CPAN 2.14
CPAN::Meta 2.150010
Cwd 3.62
ExtUtils::CBuilder 0.280224
ExtUtils::Command 7.24
ExtUtils::Install 2.04
ExtUtils::MakeMaker 7.24
ExtUtils::Manifest 1.70
ExtUtils::ParseXS 3.30
File::Spec 3.62
JSON 2.90
JSON::PP 2.27400
Module::Build 0.4220
Module::Signature 0.81
Parse::CPAN::Meta 2.150010
Test::Harness 3.36
Test::More 1.302075
YAML 1.21
YAML::Syck 1.29
version 0.9917
--
Summary of my perl5 (revision 5 version 24 subversion 1) configuration:
Platform:
osname=linux, osvers=4.4.0-59-generic, archname=x86_64-linux
uname='linux prod3.bbbike.org 4.4.0-59-generic #80-ubuntu smp fri jan 6 17:47:47 utc 2017 x86_64 x86_64 x86_64 gnulinux '
config_args='-ds -e -Dprefix=/opt/perl-5.24.1 -Dcf_email=srezic@cpan.org'
hint=recommended, useposix=true, d_sigaction=define
useithreads=undef, usemultiplicity=undef
use64bitint=define, use64bitall=define, uselongdouble=undef
usemymalloc=n, bincompat5005=undef
Compiler:
cc='cc', ccflags ='-fwrapv -fno-strict-aliasing -pipe -fstack-protector-strong -I/usr/local/include -D_LARGEFILE_SOURCE -D_FILE_OFFSET_BITS=64',
optimize='-O2',
cppflags='-fwrapv -fno-strict-aliasing -pipe -fstack-protector-strong -I/usr/local/include'
ccversion='', gccversion='5.4.0 20160609', gccosandvers=''
intsize=4, longsize=8, ptrsize=8, doublesize=8, byteorder=12345678, doublekind=3
d_longlong=define, longlongsize=8, d_longdbl=define, longdblsize=16, longdblkind=3
ivtype='long', ivsize=8, nvtype='double', nvsize=8, Off_t='off_t', lseeksize=8
alignbytes=8, prototype=define
Linker and Libraries:
ld='cc', ldflags =' -fstack-protector-strong -L/usr/local/lib'
libpth=/usr/local/lib /usr/lib/gcc/x86_64-linux-gnu/5/include-fixed /usr/include/x86_64-linux-gnu /usr/lib /lib/x86_64-linux-gnu /lib/../lib /usr/lib/x86_64-linux-gnu /usr/lib/../lib /lib
libs=-lpthread -lnsl -lgdbm -ldb -ldl -lm -lcrypt -lutil -lc -lgdbm_compat
perllibs=-lpthread -lnsl -ldl -lm -lcrypt -lutil -lc
libc=libc-2.23.so, so=so, useshrplib=false, libperl=libperl.a
gnulibc_version='2.23'
Dynamic Linking:
dlsrc=dl_dlopen.xs, dlext=so, d_dlsymun=undef, ccdlflags='-Wl,-E'
cccdlflags='-fPIC', lddlflags='-shared -O2 -L/usr/local/lib -fstack-protector-strong'
Characteristics of this binary (from libperl):
Compile-time options: HAS_TIMES PERLIO_LAYERS PERL_COPY_ON_WRITE
PERL_DONT_CREATE_GVSV
PERL_HASH_FUNC_ONE_AT_A_TIME_HARD PERL_MALLOC_WRAP
PERL_PRESERVE_IVUV USE_64_BIT_ALL USE_64_BIT_INT
USE_LARGE_FILES USE_LOCALE USE_LOCALE_COLLATE
USE_LOCALE_CTYPE USE_LOCALE_NUMERIC USE_LOCALE_TIME
USE_PERLIO USE_PERL_ATOF
Built under linux
Compiled at Jan 14 2017 21:27:44
%ENV:
PERL5LIB=""
PERL5OPT=""
PERL5_CPANPLUS_IS_RUNNING="18094"
PERL5_CPAN_IS_RUNNING="18094"
PERL5_CPAN_IS_RUNNING_IN_RECURSION="14813,18094"
PERLDOC="-MPod::Perldoc::ToTextOverstrike"
PERL_BATCH="yes"
PERL_CANARY_STABILITY_NOPROMPT="1"
PERL_CPAN_REPORTER_CONFIG="/var/tmp/cpansmoker-1002/2017013006/cpanreporter_000_config.ini"
PERL_EXTUTILS_AUTOINSTALL="--defaultdeps"
@INC:
/opt/perl-5.24.1/lib/site_perl/5.24.1/x86_64-linux
/opt/perl-5.24.1/lib/site_perl/5.24.1
/opt/perl-5.24.1/lib/5.24.1/x86_64-linux
/opt/perl-5.24.1/lib/5.24.1
.