MozRepl v0.06 Perl 5 v5.16.1 armv6l-linux-thread-multi

Status
Pass
From
Nigel Horne
Dist
MozRepl v0.06
Platform
Perl 5 v5.16.1 armv6l-linux-thread-multi
Date
2018-10-28 13:10:41
ID
debf5e90-dab2-11e8-afbf-aec3b07506ca
This distribution has been tested as part of the CPAN Testers
project, supporting the Perl programming language.  See
http://wiki.cpantesters.org/ for more information or email
questions to cpan-testers-discuss@perl.org


--
Dear Toru Yamaguchi,

This is a computer-generated report for MozRepl-0.06
on perl 5.16.1, created by CPAN-Reporter-1.2018.

Thank you for uploading your work to CPAN.  Congratulations!
All tests were successful.

Sections of this report:

    * Tester comments
    * Program output
    * Prerequisites
    * Environment and other context

------------------------------
TESTER COMMENTS
------------------------------

Additional comments from tester:

this report is from an automated smoke testing program
and was not reviewed by a human for accuracy

------------------------------
PROGRAM OUTPUT
------------------------------

Output from '/usr/bin/make test':

"/mnt/nas/home/pi2/njh/perl5/perlbrew/perls/perl-5.16.1/bin/perl" "-Iinc" Makefile.PL --config= --installdeps=Data::JavaScript::Anon,0,Module::Pluggable::Fast,0,Template,0,Template::Provider::FromDATA,0,Text::SimpleTable,0
PERL_DL_NONLAZY=1 "/mnt/nas/home/pi2/njh/perl5/perlbrew/perls/perl-5.16.1/bin/perl" "-MExtUtils::Command::MM" "-MTest::Harness" "-e" "undef *Test::Harness::Switches; test_harness(0, 'inc', 'blib/lib', 'blib/arch')" t/00-load.t t/10-plugin-repl-enter.t t/11-plugin-repl-search.t t/12-plugin-repl-inspect.t t/13-plugin-repl-load.t t/14-plugin-repl-rename.t t/15-plugin-repl-print.t t/16-plugin-repl-home.t t/17-plugin-repl-back.t t/18-plugin-repl-util-help_url_for.t t/19-plugin-repl-util-doc_for.t t/20-plugin-json.t t/pod-coverage.t t/pod.t
[DEBUG] MozRepl logging enabled
[DEBUG] 
---- Client arguments ----
.----------------------+------------------------------------------.
| client_arg_name      | client_arg_value                         |
+----------------------+------------------------------------------+
| host                 | localhost                                |
| port                 | 4242                                     |
| timeout              | 10                                       |
| extra_client_args    | {}                                       |
'----------------------+------------------------------------------'
[DEBUG] MozRepl logging enabled
[DEBUG] 
---- Client arguments ----
.----------------------+------------------------------------------.
| client_arg_name      | client_arg_value                         |
+----------------------+------------------------------------------+
| host                 | localhost                                |
| port                 | 4242                                     |
| timeout              | 10                                       |
| extra_client_args    | {}                                       |
'----------------------+------------------------------------------'
[DEBUG] MozRepl logging enabled
[DEBUG] 
---- Client arguments ----
.----------------------+------------------------------------------.
| client_arg_name      | client_arg_value                         |
+----------------------+------------------------------------------+
| host                 | localhost                                |
| port                 | 4242                                     |
| timeout              | 10                                       |
| extra_client_args    | {}                                       |
'----------------------+------------------------------------------'
# Testing MozRepl 0.06
t/00-load.t ........................... ok
t/12-plugin-repl-inspect.t ............ ok
t/10-plugin-repl-enter.t .............. ok
t/11-plugin-repl-search.t ............. ok
[DEBUG] MozRepl logging enabled
[DEBUG] 
---- Client arguments ----
.----------------------+------------------------------------------.
| client_arg_name      | client_arg_value                         |
+----------------------+------------------------------------------+
| host                 | localhost                                |
| port                 | 4242                                     |
| timeout              | 10                                       |
| extra_client_args    | {}                                       |
'----------------------+------------------------------------------'
[DEBUG] MozRepl logging enabled
[DEBUG] 
---- Client arguments ----
.----------------------+------------------------------------------.
| client_arg_name      | client_arg_value                         |
+----------------------+------------------------------------------+
| host                 | localhost                                |
| port                 | 4242                                     |
| timeout              | 10                                       |
| extra_client_args    | {}                                       |
'----------------------+------------------------------------------'
t/13-plugin-repl-load.t ............... ok
t/16-plugin-repl-home.t ............... ok
[DEBUG] MozRepl logging enabled
[DEBUG] 
---- Client arguments ----
.----------------------+------------------------------------------.
| client_arg_name      | client_arg_value                         |
+----------------------+------------------------------------------+
| host                 | localhost                                |
| port                 | 4242                                     |
| timeout              | 10                                       |
| extra_client_args    | {}                                       |
'----------------------+------------------------------------------'
t/15-plugin-repl-print.t .............. ok
[DEBUG] MozRepl logging enabled
[DEBUG] 
---- Client arguments ----
.----------------------+------------------------------------------.
| client_arg_name      | client_arg_value                         |
+----------------------+------------------------------------------+
| host                 | localhost                                |
| port                 | 4242                                     |
| timeout              | 10                                       |
| extra_client_args    | {}                                       |
'----------------------+------------------------------------------'
t/14-plugin-repl-rename.t ............. ok
[DEBUG] MozRepl logging enabled
[DEBUG] 
---- Client arguments ----
.----------------------+------------------------------------------.
| client_arg_name      | client_arg_value                         |
+----------------------+------------------------------------------+
| host                 | localhost                                |
| port                 | 4242                                     |
| timeout              | 10                                       |
| extra_client_args    | {}                                       |
'----------------------+------------------------------------------'
[DEBUG] MozRepl logging enabled
[DEBUG] 
---- Client arguments ----
.----------------------+------------------------------------------.
| client_arg_name      | client_arg_value                         |
+----------------------+------------------------------------------+
| host                 | localhost                                |
| port                 | 4242                                     |
| timeout              | 10                                       |
| extra_client_args    | {}                                       |
'----------------------+------------------------------------------'
[DEBUG] MozRepl logging enabled
[DEBUG] 
---- Client arguments ----
.----------------------+------------------------------------------.
| client_arg_name      | client_arg_value                         |
+----------------------+------------------------------------------+
| host                 | localhost                                |
| port                 | 4242                                     |
| timeout              | 10                                       |
| extra_client_args    | {}                                       |
'----------------------+------------------------------------------'
t/17-plugin-repl-back.t ............... ok
t/20-plugin-json.t .................... ok
t/18-plugin-repl-util-help_url_for.t .. ok
[DEBUG] MozRepl logging enabled
[DEBUG] 
---- Client arguments ----
.----------------------+------------------------------------------.
| client_arg_name      | client_arg_value                         |
+----------------------+------------------------------------------+
| host                 | localhost                                |
| port                 | 4242                                     |
| timeout              | 10                                       |
| extra_client_args    | {}                                       |
'----------------------+------------------------------------------'
t/19-plugin-repl-util-doc_for.t ....... ok
t/pod.t ............................... ok
t/pod-coverage.t ...................... ok
All tests successful.
Files=14, Tests=74,  7 wallclock secs ( 0.43 usr  0.15 sys + 10.96 cusr  4.05 csys = 15.59 CPU)
Result: PASS

------------------------------
PREREQUISITES
------------------------------

Prerequisite modules loaded:

requires:

    Module                       Need Have
    ---------------------------- ---- ----
    Carp::Clan                   0    6.04
    Class::Accessor::Fast        0    0.34
    Class::Data::Inheritable     0    0.08
    Data::Dump                   0    1.22
    Data::JavaScript::Anon       0    1.03
    File::Spec                   0    3.47
    Module::Pluggable::Fast      0    0.19
    Net::Telnet                  0    3.03
    Template                     0    2.28
    Template::Provider::FromDATA 0    0.13
    Text::SimpleTable            0    2.07
    UNIVERSAL::require           0    0.13
    URI                          0    1.60

build_requires:

    Module                       Need Have
    ---------------------------- ---- ----
    ExtUtils::MakeMaker          0    7.30


------------------------------
ENVIRONMENT AND OTHER CONTEXT
------------------------------

Environment variables:

    AUTOMATED_TESTING = 1
    HARNESS_OPTIONS = j4
    LANG = en_GB.UTF-8
    PATH = /home/njh/perl5/perlbrew/bin:/home/njh/perl5/perlbrew/perls/perl-5.16.1/bin:/home/njh/src/njh/smoker/bin:/usr/bin:/bin
    PERL5LIB = /home/njh/.cpan/build/Text-SimpleTable-2.07-0/blib/arch:/home/njh/.cpan/build/Text-SimpleTable-2.07-0/blib/lib:/home/njh/.cpan/build/Template-Provider-FromDATA-0.13-0/blib/arch:/home/njh/.cpan/build/Template-Provider-FromDATA-0.13-0/blib/lib:/home/njh/.cpan/build/Template-Toolkit-2.28-0/blib/arch:/home/njh/.cpan/build/Template-Toolkit-2.28-0/blib/lib:/home/njh/.cpan/build/AppConfig-1.71-0/blib/arch:/home/njh/.cpan/build/AppConfig-1.71-0/blib/lib:/home/njh/.cpan/build/Module-Pluggable-Fast-0.19-1/blib/arch:/home/njh/.cpan/build/Module-Pluggable-Fast-0.19-1/blib/lib:/home/njh/.cpan/build/Data-JavaScript-Anon-1.03-1/blib/arch:/home/njh/.cpan/build/Data-JavaScript-Anon-1.03-1/blib/lib:/home/njh/.cpan/build/Class-Default-1.51-1/blib/arch:/home/njh/.cpan/build/Class-Default-1.51-1/blib/lib:/home/njh/.cpan/build/IPC-Run-20180523.0-1/blib/arch:/home/njh/.cpan/build/IPC-Run-20180523.0-1/blib/lib:/home/njh/.cpan/build/Image-Info-1.41-1/blib/arch:/home/njh/.cpan/build/Image-Info-1.41-1/blib/lib:/home/njh/.cpan/build/HTML-Selector-XPath-0.23-9/blib/arch:/home/njh/.cpan/build/HTML-Selector-XPath-0.23-9/blib/lib
    PERL5OPT = 
    PERL5_CPANPLUS_IS_RUNNING = 25056
    PERL5_CPAN_IS_RUNNING = 25056
    PERLBREW_HOME = /home/njh/.perlbrew
    PERLBREW_MANPATH = /home/njh/perl5/perlbrew/perls/perl-5.16.1/man
    PERLBREW_PATH = /home/njh/perl5/perlbrew/bin:/home/njh/perl5/perlbrew/perls/perl-5.16.1/bin
    PERLBREW_PERL = perl-5.16.1
    PERLBREW_ROOT = /home/njh/perl5/perlbrew
    PERLBREW_SHELLRC_VERSION = 0.84
    PERLBREW_VERSION = 0.84
    SHELL = /bin/sh
    TEMP = /tmp/user/1000
    TMPDIR = /tmp/user/1000/testwrapper.25042

Perl special variables (and OS-specific diagnostics, for MSWin32):

    $^X = /mnt/nas/home/pi2/njh/perl5/perlbrew/perls/perl-5.16.1/bin/perl
    $UID/$EUID = 1000 / 1000
    $GID = 1000 4 20 24 25 27 29 30 44 46 60 100 101 108 997 998 999 1000
    $EGID = 1000 4 20 24 25 27 29 30 44 46 60 100 101 108 997 998 999 1000

Perl module toolchain versions installed:

    Module              Have    
    ------------------- --------
    CPAN                2.16    
    CPAN::Meta          2.150005
    Cwd                 3.47    
    ExtUtils::CBuilder  0.280216
    ExtUtils::Command   7.30    
    ExtUtils::Install   2.06    
    ExtUtils::MakeMaker 7.30    
    ExtUtils::Manifest  1.70    
    ExtUtils::ParseXS   3.16    
    File::Spec          3.47    
    JSON                2.97001 
    JSON::PP            2.27400 
    Module::Build       0.4220  
    Module::Signature   n/a     
    Parse::CPAN::Meta   1.4422  
    Test::Harness       3.36    
    Test::More          1.302136
    YAML                1.26    
    YAML::Syck          1.30    
    version             0.99    


--

Summary of my perl5 (revision 5 version 16 subversion 1) configuration:
   
  Platform:
    osname=linux, osvers=3.2.27+, archname=armv6l-linux-thread-multi
    uname='linux pi 3.2.27+ #250 preempt thu oct 18 19:03:02 bst 2012 armv6l gnulinux '
    config_args='-de -Dprefix=/home/njh/perl5/perlbrew/perls/perl-5.16.1 -Duseithreads -Dusemultiplicity -Accflags=-Os -W -Wformat=2 -Wswitch -Wshadow -Wwrite-strings -Wuninitialized -Wall -pipe -fomit-frame-pointer -pedantic -D_FORTIFY_SOURCE=2 -Wpointer-arith -Wstrict-prototypes -fstack-protector -Wstack-protector -Wextra -Wbad-function-cast -Wcast-align -Wcast-qual -Wdisabled-optimization -Wendif-labels -Wfloat-equal -Wformat-nonliteral -Winline -Wmissing-declarations -Wmissing-prototypes -Wnested-externs -Wpointer-arith -Wundef -Wformat-security -Aeval:scriptdir=/home/njh/perl5/perlbrew/perls/perl-5.16.1/bin'
    hint=recommended, useposix=true, d_sigaction=define
    useithreads=define, usemultiplicity=define
    useperlio=define, d_sfio=undef, uselargefiles=define, usesocks=undef
    use64bitint=undef, use64bitall=undef, uselongdouble=undef
    usemymalloc=n, bincompat5005=undef
  Compiler:
    cc='cc', ccflags ='-D_REENTRANT -D_GNU_SOURCE -Os -W -Wformat=2 -Wswitch -Wshadow -Wwrite-strings -Wuninitialized -Wall -pipe -fomit-frame-pointer -pedantic -D_FORTIFY_SOURCE=2 -Wpointer-arith -Wstrict-prototypes -fstack-protector -Wstack-protector -Wextra -Wbad-function-cast -Wcast-align -Wcast-qual -Wdisabled-optimization -Wendif-labels -Wfloat-equal -Wformat-nonliteral -Winline -Wmissing-declarations -Wmissing-prototypes -Wnested-externs -Wpointer-arith -Wundef -Wformat-security -fno-strict-aliasing -I/usr/local/include -D_LARGEFILE_SOURCE -D_FILE_OFFSET_BITS=64',
    optimize='-O2',
    cppflags='-D_REENTRANT -D_GNU_SOURCE -Os -W -Wformat=2 -Wswitch -Wshadow -Wwrite-strings -Wuninitialized -Wall -pipe -fomit-frame-pointer -pedantic -D_FORTIFY_SOURCE=2 -Wpointer-arith -Wstrict-prototypes -fstack-protector -Wstack-protector -Wextra -Wbad-function-cast -Wcast-align -Wcast-qual -Wdisabled-optimization -Wendif-labels -Wfloat-equal -Wformat-nonliteral -Winline -Wmissing-declarations -Wmissing-prototypes -Wnested-externs -Wpointer-arith -Wundef -Wformat-security -fno-strict-aliasing -I/usr/local/include'
    ccversion='', gccversion='4.6.3', gccosandvers=''
    intsize=4, longsize=4, ptrsize=4, doublesize=8, byteorder=1234
    d_longlong=define, longlongsize=8, d_longdbl=define, longdblsize=8
    ivtype='long', ivsize=4, nvtype='double', nvsize=8, Off_t='off_t', lseeksize=8
    alignbytes=8, prototype=define
  Linker and Libraries:
    ld='cc', ldflags =' -fstack-protector -L/usr/local/lib'
    libpth=/usr/local/lib /lib/arm-linux-gnueabihf /lib /usr/lib/arm-linux-gnueabihf /usr/lib
    libs=-lnsl -lgdbm -ldb -ldl -lm -lcrypt -lutil -lpthread -lc -lgdbm_compat
    perllibs=-lnsl -ldl -lm -lcrypt -lutil -lpthread -lc
    libc=, so=so, useshrplib=false, libperl=libperl.a
    gnulibc_version='2.13'
  Dynamic Linking:
    dlsrc=dl_dlopen.xs, dlext=so, d_dlsymun=undef, ccdlflags='-Wl,-E'
    cccdlflags='-fPIC', lddlflags='-shared -O2 -L/usr/local/lib -fstack-protector'


Characteristics of this binary (from libperl): 
  Compile-time options: HAS_TIMES MULTIPLICITY PERLIO_LAYERS
                        PERL_DONT_CREATE_GVSV PERL_IMPLICIT_CONTEXT
                        PERL_MALLOC_WRAP PERL_PRESERVE_IVUV USE_ITHREADS
                        USE_LARGE_FILES USE_LOCALE USE_LOCALE_COLLATE
                        USE_LOCALE_CTYPE USE_LOCALE_NUMERIC USE_PERLIO
                        USE_PERL_ATOF USE_REENTRANT_API
  Built under linux
  Compiled at Jan 29 2013 08:42:01
  %ENV:
    PERL5LIB="/home/njh/.cpan/build/Text-SimpleTable-2.07-0/blib/arch:/home/njh/.cpan/build/Text-SimpleTable-2.07-0/blib/lib:/home/njh/.cpan/build/Template-Provider-FromDATA-0.13-0/blib/arch:/home/njh/.cpan/build/Template-Provider-FromDATA-0.13-0/blib/lib:/home/njh/.cpan/build/Template-Toolkit-2.28-0/blib/arch:/home/njh/.cpan/build/Template-Toolkit-2.28-0/blib/lib:/home/njh/.cpan/build/AppConfig-1.71-0/blib/arch:/home/njh/.cpan/build/AppConfig-1.71-0/blib/lib:/home/njh/.cpan/build/Module-Pluggable-Fast-0.19-1/blib/arch:/home/njh/.cpan/build/Module-Pluggable-Fast-0.19-1/blib/lib:/home/njh/.cpan/build/Data-JavaScript-Anon-1.03-1/blib/arch:/home/njh/.cpan/build/Data-JavaScript-Anon-1.03-1/blib/lib:/home/njh/.cpan/build/Class-Default-1.51-1/blib/arch:/home/njh/.cpan/build/Class-Default-1.51-1/blib/lib:/home/njh/.cpan/build/IPC-Run-20180523.0-1/blib/arch:/home/njh/.cpan/build/IPC-Run-20180523.0-1/blib/lib:/home/njh/.cpan/build/Image-Info-1.41-1/blib/arch:/home/njh/.cpan/build/Image-Info-1.41-1/blib/lib:/home/njh/.cpan/build/HTML-Selector-XPath-0.23-9/blib/arch:/home/njh/.cpan/build/HTML-Selector-XPath-0.23-9/blib/lib"
    PERL5OPT=""
    PERL5_CPANPLUS_IS_RUNNING="25056"
    PERL5_CPAN_IS_RUNNING="25056"
    PERLBREW_HOME="/home/njh/.perlbrew"
    PERLBREW_MANPATH="/home/njh/perl5/perlbrew/perls/perl-5.16.1/man"
    PERLBREW_PATH="/home/njh/perl5/perlbrew/bin:/home/njh/perl5/perlbrew/perls/perl-5.16.1/bin"
    PERLBREW_PERL="perl-5.16.1"
    PERLBREW_ROOT="/home/njh/perl5/perlbrew"
    PERLBREW_SHELLRC_VERSION="0.84"
    PERLBREW_VERSION="0.84"
  @INC:
    /home/njh/.cpan/build/Text-SimpleTable-2.07-0/blib/arch
    /home/njh/.cpan/build/Text-SimpleTable-2.07-0/blib/lib
    /home/njh/.cpan/build/Template-Provider-FromDATA-0.13-0/blib/arch
    /home/njh/.cpan/build/Template-Provider-FromDATA-0.13-0/blib/lib
    /home/njh/.cpan/build/Template-Toolkit-2.28-0/blib/arch
    /home/njh/.cpan/build/Template-Toolkit-2.28-0/blib/lib
    /home/njh/.cpan/build/AppConfig-1.71-0/blib/arch
    /home/njh/.cpan/build/AppConfig-1.71-0/blib/lib
    /home/njh/.cpan/build/Module-Pluggable-Fast-0.19-1/blib/arch
    /home/njh/.cpan/build/Module-Pluggable-Fast-0.19-1/blib/lib
    /home/njh/.cpan/build/Data-JavaScript-Anon-1.03-1/blib/arch
    /home/njh/.cpan/build/Data-JavaScript-Anon-1.03-1/blib/lib
    /home/njh/.cpan/build/Class-Default-1.51-1/blib/arch
    /home/njh/.cpan/build/Class-Default-1.51-1/blib/lib
    /home/njh/.cpan/build/IPC-Run-20180523.0-1/blib/arch
    /home/njh/.cpan/build/IPC-Run-20180523.0-1/blib/lib
    /home/njh/.cpan/build/Image-Info-1.41-1/blib/arch
    /home/njh/.cpan/build/Image-Info-1.41-1/blib/lib
    /home/njh/.cpan/build/HTML-Selector-XPath-0.23-9/blib/arch
    /home/njh/.cpan/build/HTML-Selector-XPath-0.23-9/blib/lib
    /home/njh/perl5/perlbrew/perls/perl-5.16.1/lib/site_perl/5.16.1/armv6l-linux-thread-multi
    /home/njh/perl5/perlbrew/perls/perl-5.16.1/lib/site_perl/5.16.1
    /home/njh/perl5/perlbrew/perls/perl-5.16.1/lib/5.16.1/armv6l-linux-thread-multi
    /home/njh/perl5/perlbrew/perls/perl-5.16.1/lib/5.16.1
    .