Report for Data-Dump-XML-1.19

Back
From: metabase:user:9820532a-708b-1014-9a05-b18a96298da1
Subject: PASS Data-Dump-XML-1.19 v5.15.0 GNU/Linux
Date: 2011-07-18T02:58:53Z

This distribution has been tested as part of the CPAN Testers
project, supporting the Perl programming language.  See
http://wiki.cpantesters.org/ for more information or email
questions to cpan-testers-discuss@perl.org


--
Dear Ivan Baktsheev,

This is a computer-generated report for Data-Dump-XML-1.19
on perl 5.15.0, created by CPAN-Reporter-1.1902.

Thank you for uploading your work to CPAN.  Congratulations!
All tests were successful.

Sections of this report:

    * Tester comments
    * Program output
    * Prerequisites
    * Environment and other context

------------------------------
TESTER COMMENTS
------------------------------

Additional comments from tester:

this report is from an automated smoke testing program
and was not reviewed by a human for accuracy

------------------------------
PROGRAM OUTPUT
------------------------------

Output from '/usr/bin/make test':

PERL_DL_NONLAZY=1 /home/test/perl5/perlbrew/perls/perl-5.15.0/bin/perl5.15.0 "-MExtUtils::Command::MM" "-e" "test_harness(0, 'blib/lib', 'blib/arch')" t/*.t
# <?xml version="1.0" encoding="utf-8"?>
# <data _class="Bar">
#   <a>1</a>
#   <b>
#     <item _class="Foo" ttt="25"/>
#     <item>3</item>
#     <item>4</item>
#     <item>5</item>
#   </b>
# </data>
$VAR1 = bless( {
                 'a' => '1',
                 'b' => [
                        bless( {
                                 '@ttt' => '25'
                               }, 'Foo' ),
                        '3',
                        '4',
                        '5'
                      ]
               }, 'Bar' );
t/000-basic-dump.t .. ok
t/001-key_info.t .... ok
# class: Foo, type: ARRAY, id: 20428784
t/002-ref_info.t .... ok
t/003-large.t ....... ok
t/005-blessed.t ..... ok
All tests successful.
Files=5, Tests=45,  1 wallclock secs ( 0.05 usr  0.00 sys +  0.64 cusr  0.13 csys =  0.82 CPU)
Result: PASS

------------------------------
PREREQUISITES
------------------------------

Prerequisite modules loaded:

requires:

    Module              Need Have
    ------------------- ---- ----
    Class::Easy         0.16 0.17
    IO::Easy            0.01 0.16
    XML::LibXML         1.6  1.81

build_requires:

    Module              Need Have
    ------------------- ---- ----
    ExtUtils::MakeMaker 0    6.58

configure_requires:

    Module              Need Have
    ------------------- ---- ----
    ExtUtils::MakeMaker 0    6.58


------------------------------
ENVIRONMENT AND OTHER CONTEXT
------------------------------

Environment variables:

    AUTOMATED_TESTING = 1
    LANG = C
    LC_ALL = C
    PATH = /home/test/perl5/perlbrew/bin:/home/test/perl5/perlbrew/perls/perl-5.15.0/bin:/home/test/bin:~/bin:/usr/bin:/bin
    PATH_WITHOUT_PERLBREW = /home/test/bin:~/bin:/usr/bin:/bin
    PERL5LIB = /home/test/.cpan/build/IO-Easy-0.16-7V_4FB/blib/arch:/home/test/.cpan/build/IO-Easy-0.16-7V_4FB/blib/lib:/home/test/.cpan/build/XML-LibXML-1.81-eiCjh3/blib/arch:/home/test/.cpan/build/XML-LibXML-1.81-eiCjh3/blib/lib:/home/test/.cpan/build/XML-SAX-0.96-KqA7vu/blib/arch:/home/test/.cpan/build/XML-SAX-0.96-KqA7vu/blib/lib:/home/test/.cpan/build/XML-NamespaceSupport-1.11-t5o5Wl/blib/arch:/home/test/.cpan/build/XML-NamespaceSupport-1.11-t5o5Wl/blib/lib:/home/test/.cpan/build/Class-Easy-0.17-xd2Rhv/blib/arch:/home/test/.cpan/build/Class-Easy-0.17-xd2Rhv/blib/lib
    PERL5OPT = 
    PERL5_CPANPLUS_IS_RUNNING = 8318
    PERL5_CPAN_IS_RUNNING = 8318
    PERL5_CPAN_IS_RUNNING_IN_RECURSION = 29807,8318
    PERLBREW_HOME = /home/test/.perlbrew
    PERLBREW_PATH = /home/test/perl5/perlbrew/bin:/home/test/perl5/perlbrew/perls/perl-5.15.0/bin
    PERLBREW_PERL = perl-5.15.0
    PERLBREW_ROOT = /home/test/perl5/perlbrew
    PERLBREW_VERSION = 0.25
    PERL_CR_SMOKER_CURRENT = Data-Dump-XML-1.19
    PERL_EXTUTILS_AUTOINSTALL = --defaultdeps
    PERL_MM_USE_DEFAULT = 1
    SHELL = /bin/bash
    TERM = linux

Perl special variables (and OS-specific diagnostics, for MSWin32):

    $^X = /home/test/perl5/perlbrew/perls/perl-5.15.0/bin/perl5.15.0
    $UID/$EUID = 1001 / 1001
    $GID = 1001 1001
    $EGID = 1001 1001

Perl module toolchain versions installed:

    Module              Have    
    ------------------- --------
    CPAN                1.9600  
    Cwd                 3.36    
    ExtUtils::CBuilder  0.280204
    ExtUtils::Command   1.17    
    ExtUtils::Install   1.56    
    ExtUtils::MakeMaker 6.58    
    ExtUtils::Manifest  1.58    
    ExtUtils::ParseXS   2.2210  
    File::Spec          3.33    
    Module::Build       0.3800  
    Module::Signature   n/a     
    Test::Harness       3.23    
    Test::More          0.98    
    YAML                0.73    
    YAML::Syck          n/a     
    version             0.91    


--

Summary of my perl5 (revision 5 version 15 subversion 0) configuration:
   
  Platform:
    osname=linux, osvers=2.6.35-28-generic, archname=x86_64-linux-ld
    uname='linux zippy 2.6.35-28-generic #50-ubuntu smp fri mar 18 18:42:20 utc 2011 x86_64 gnulinux '
    config_args='-de -Dprefix=/home/test/perl5/perlbrew/perls/perl-5.15.0 -Duselongdouble -Duse64bitall -Dusedevel'
    hint=recommended, useposix=true, d_sigaction=define
    useithreads=undef, usemultiplicity=undef
    useperlio=define, d_sfio=undef, uselargefiles=define, usesocks=undef
    use64bitint=define, use64bitall=define, uselongdouble=define
    usemymalloc=n, bincompat5005=undef
  Compiler:
    cc='cc', ccflags ='-fno-strict-aliasing -pipe -fstack-protector -I/usr/local/include -D_LARGEFILE_SOURCE -D_FILE_OFFSET_BITS=64',
    optimize='-O2',
    cppflags='-fno-strict-aliasing -pipe -fstack-protector -I/usr/local/include'
    ccversion='', gccversion='4.4.5', gccosandvers=''
    intsize=4, longsize=8, ptrsize=8, doublesize=8, byteorder=12345678
    d_longlong=define, longlongsize=8, d_longdbl=define, longdblsize=16
    ivtype='long', ivsize=8, nvtype='long double', nvsize=16, Off_t='off_t', lseeksize=8
    alignbytes=16, prototype=define
  Linker and Libraries:
    ld='cc', ldflags =' -fstack-protector -L/usr/local/lib'
    libpth=/usr/local/lib /lib/../lib /usr/lib/../lib /lib /usr/lib /usr/lib/x86_64-linux-gnu /lib64 /usr/lib64
    libs=-lnsl -ldl -lm -lcrypt -lutil -lc
    perllibs=-lnsl -ldl -lm -lcrypt -lutil -lc
    libc=/lib/libc-2.12.1.so, so=so, useshrplib=false, libperl=libperl.a
    gnulibc_version='2.12.1'
  Dynamic Linking:
    dlsrc=dl_dlopen.xs, dlext=so, d_dlsymun=undef, ccdlflags='-Wl,-E'
    cccdlflags='-fPIC', lddlflags='-shared -O2 -L/usr/local/lib -fstack-protector'


Characteristics of this binary (from libperl): 
  Compile-time options: PERL_DONT_CREATE_GVSV PERL_MALLOC_WRAP
                        PERL_PRESERVE_IVUV PERL_USE_DEVEL USE_64_BIT_ALL
                        USE_64_BIT_INT USE_LARGE_FILES USE_LOCALE
                        USE_LOCALE_COLLATE USE_LOCALE_CTYPE
                        USE_LOCALE_NUMERIC USE_LONG_DOUBLE USE_PERLIO
                        USE_PERL_ATOF
  Built under linux
  Compiled at Jul 16 2011 17:12:14
  %ENV:
    PERL5LIB="/home/test/.cpan/build/IO-Easy-0.16-7V_4FB/blib/arch:/home/test/.cpan/build/IO-Easy-0.16-7V_4FB/blib/lib:/home/test/.cpan/build/XML-LibXML-1.81-eiCjh3/blib/arch:/home/test/.cpan/build/XML-LibXML-1.81-eiCjh3/blib/lib:/home/test/.cpan/build/XML-SAX-0.96-KqA7vu/blib/arch:/home/test/.cpan/build/XML-SAX-0.96-KqA7vu/blib/lib:/home/test/.cpan/build/XML-NamespaceSupport-1.11-t5o5Wl/blib/arch:/home/test/.cpan/build/XML-NamespaceSupport-1.11-t5o5Wl/blib/lib:/home/test/.cpan/build/Class-Easy-0.17-xd2Rhv/blib/arch:/home/test/.cpan/build/Class-Easy-0.17-xd2Rhv/blib/lib"
    PERL5OPT=""
    PERL5_CPANPLUS_IS_RUNNING="8318"
    PERL5_CPAN_IS_RUNNING="8318"
    PERL5_CPAN_IS_RUNNING_IN_RECURSION="29807,8318"
    PERLBREW_HOME="/home/test/.perlbrew"
    PERLBREW_PATH="/home/test/perl5/perlbrew/bin:/home/test/perl5/perlbrew/perls/perl-5.15.0/bin"
    PERLBREW_PERL="perl-5.15.0"
    PERLBREW_ROOT="/home/test/perl5/perlbrew"
    PERLBREW_VERSION="0.25"
    PERL_CR_SMOKER_CURRENT="Data-Dump-XML-1.19"
    PERL_EXTUTILS_AUTOINSTALL="--defaultdeps"
    PERL_MM_USE_DEFAULT="1"
  @INC:
    /home/test/.cpan/build/IO-Easy-0.16-7V_4FB/blib/arch
    /home/test/.cpan/build/IO-Easy-0.16-7V_4FB/blib/lib
    /home/test/.cpan/build/XML-LibXML-1.81-eiCjh3/blib/arch
    /home/test/.cpan/build/XML-LibXML-1.81-eiCjh3/blib/lib
    /home/test/.cpan/build/XML-SAX-0.96-KqA7vu/blib/arch
    /home/test/.cpan/build/XML-SAX-0.96-KqA7vu/blib/lib
    /home/test/.cpan/build/XML-NamespaceSupport-1.11-t5o5Wl/blib/arch
    /home/test/.cpan/build/XML-NamespaceSupport-1.11-t5o5Wl/blib/lib
    /home/test/.cpan/build/Class-Easy-0.17-xd2Rhv/blib/arch
    /home/test/.cpan/build/Class-Easy-0.17-xd2Rhv/blib/lib
    /home/test/perl5/perlbrew/perls/perl-5.15.0/lib/site_perl/5.15.0/x86_64-linux-ld
    /home/test/perl5/perlbrew/perls/perl-5.15.0/lib/site_perl/5.15.0
    /home/test/perl5/perlbrew/perls/perl-5.15.0/lib/5.15.0/x86_64-linux-ld
    /home/test/perl5/perlbrew/perls/perl-5.15.0/lib/5.15.0
    .