Report for Forward-Routes-0.56

Back
From: metabase:user:320bfe00-2aae-11df-837a-5e0a49663a4f
Subject: PASS Forward-Routes-0.56 v5.21.5 GNU/Linux
Date: 2014-09-23T02:25:22Z

This distribution has been tested as part of the CPAN Testers
project, supporting the Perl programming language.  See
http://wiki.cpantesters.org/ for more information or email
questions to cpan-testers-discuss@perl.org


--
Dear A.Vieth,

This is a computer-generated report for Forward-Routes-0.56
on perl 5.21.5, created by CPAN-Reporter-1.2011.

Thank you for uploading your work to CPAN.  Congratulations!
All tests were successful.

Sections of this report:

    * Tester comments
    * Program output
    * Prerequisites
    * Environment and other context

------------------------------
TESTER COMMENTS
------------------------------

Additional comments from tester:

this report is from an automated smoke testing program
and was not reviewed by a human for accuracy

------------------------------
PROGRAM OUTPUT
------------------------------

Output from '/usr/bin/make test':

PERL_DL_NONLAZY=1 /tmp/basesmoker-reloperl-u2eJ/bin/perl "-MExtUtils::Command::MM" "-MTest::Harness" "-e" "undef *Test::Harness::Switches; test_harness(0, 'blib/lib', 'blib/arch')" t/*.t t/*/*.t
t/bridges.t ..................................................... ok
t/bridges_with_namespace_inheritance.t .......................... ok
t/constraints.t ................................................. ok
t/defaults.t .................................................... ok
t/empty.t ....................................................... ok
t/exceptions_unbalanced_parentheses.t ........................... ok
t/format_constraints.t .......................................... ok
t/match/method_captures.t ....................................... ok
t/match/method_is_bridge.t ...................................... ok
t/match/method_name.t ........................................... ok
t/match/method_namespace.t ...................................... ok
t/match/method_params.t ......................................... ok
t/match_with_missing_params.t ................................... ok
t/method_defaults.t ............................................. ok
t/method_namespace_to_name.t .................................... ok
t/method_singularize.t .......................................... ok
t/method_to.t ................................................... ok
t/nested_routes_block_style.t ................................... ok
t/nested_routes_default_precedence.t ............................ ok
t/nested_routes_naming.t ........................................ ok
t/nested_routes_with_app_namespace_and_namespace_inheritance.t .. ok
t/nested_routes_with_format_inheritance.t ....................... ok
t/nested_routes_with_method_inheritance.t ....................... ok
t/nested_routes_with_namespace_inheritance.t .................... ok
t/placeholders.t ................................................ ok
t/placeholders_optional.t ....................................... ok
t/placeholders_optional_and_defaults.t .......................... ok
t/request_method_constraints.t .................................. ok
t/resources.t ................................................... ok
t/resources_add_collection_route.t .............................. ok
t/resources_add_member_route.t .................................. ok
t/resources_nested.t ............................................ ok
t/resources_nesting_and_namespaces.t ............................ ok
t/resources_with_app_namespace_and_namespace_inheritance.t ...... ok
t/resources_with_custom_id_constraint.t ......................... ok
t/resources_with_custom_id_name.t ............................... ok
t/resources_with_custom_path_naming.t ........................... ok
t/resources_with_format_constraint.t ............................ ok
t/resources_with_multiple_customizations.t ...................... ok
t/resources_with_namespace_prefix.t ............................. ok
t/resources_with_only_option.t .................................. ok
t/routes.t ...................................................... ok
t/routes_embedded_options.t ..................................... ok
t/singular_resources.t .......................................... ok
t/singular_resources_add_member_route.t ......................... ok
t/singular_resources_nested.t ................................... ok
t/singular_resources_nesting_and_namespaces.t ................... ok
t/singular_resources_with_custom_path_naming.t .................. ok
t/singular_resources_with_format_constraint.t ................... ok
t/singular_resources_with_namespace_prefix.t .................... ok
t/singular_resources_with_only_option.t ......................... ok
All tests successful.
Files=51, Tests=1439,  2 wallclock secs ( 0.22 usr  0.04 sys +  1.45 cusr  0.15 csys =  1.86 CPU)
Result: PASS

------------------------------
PREREQUISITES
------------------------------

Prerequisite modules loaded:

requires:

    Module              Need Have 
    ------------------- ---- -----
    Carp                0    1.34 
    parent              0    0.228

build_requires:

    Module              Need Have 
    ------------------- ---- -----
    ExtUtils::MakeMaker 0    6.98 


------------------------------
ENVIRONMENT AND OTHER CONTEXT
------------------------------

Environment variables:

    AUTOMATED_TESTING = 1
    LANG = en_US.UTF-8
    LANGUAGE = en_US:en
    PATH = /home/sand/bin:/usr/local/bin:/usr/lib/ccache:/usr/bin:/bin:/usr/games:/usr/local/perl/bin:/usr/X11/bin:/sbin:/usr/sbin
    PERL5LIB = 
    PERL5OPT = 
    PERL5_CPANPLUS_IS_RUNNING = 25983
    PERL5_CPAN_IS_RUNNING = 25983
    PERL_MM_USE_DEFAULT = 1
    SHELL = /usr/bin/zsh
    TERM = screen

Perl special variables (and OS-specific diagnostics, for MSWin32):

    $^X = /tmp/basesmoker-reloperl-u2eJ/bin/perl
    $UID/$EUID = 1005 / 1005
    $GID = 1005 1005
    $EGID = 1005 1005

Perl module toolchain versions installed:

    Module              Have    
    ------------------- --------
    CPAN                2.05    
    CPAN::Meta          2.142060
    Cwd                 3.50    
    ExtUtils::CBuilder  0.280219
    ExtUtils::Command   1.18    
    ExtUtils::Install   2.04    
    ExtUtils::MakeMaker 6.98    
    ExtUtils::Manifest  1.68    
    ExtUtils::ParseXS   3.25    
    File::Spec          3.50    
    JSON                2.90    
    JSON::PP            2.27203 
    Module::Build       0.4210  
    Module::Signature   0.73    
    Parse::CPAN::Meta   1.4414  
    Test::Harness       3.33    
    Test::More          1.001006
    YAML                1.11    
    YAML::Syck          1.27    
    version             0.9909  


--

Summary of my perl5 (revision 5 version 21 subversion 5) configuration:
  Commit id: 9fa5aa9143471cda101c2ac9e87f7bf90ccd0b36
  Platform:
    osname=linux, osvers=3.16-1-amd64, archname=x86_64-linux
    uname='linux k83 3.16-1-amd64 #1 smp debian 3.16.2-2 (2014-09-08) x86_64 gnulinux '
    config_args='-Dprefix=/home/sand/src/perl/repoperls/installed-perls/perl/v5.21.4-41-g9fa5aa9/165a -Dmyhostname=k83 -Dinstallusrbinperl=n -Uversiononly -Dusedevel -des -Ui_db -Uuseithreads -Uuselongdouble -DDEBUGGING=-g'
    hint=recommended, useposix=true, d_sigaction=define
    useithreads=undef, usemultiplicity=undef
    use64bitint=define, use64bitall=define, uselongdouble=undef
    usemymalloc=n, bincompat5005=undef
  Compiler:
    cc='cc', ccflags ='-fwrapv -fno-strict-aliasing -pipe -fstack-protector-strong -I/usr/local/include -D_LARGEFILE_SOURCE -D_FILE_OFFSET_BITS=64 -D_FORTIFY_SOURCE=2',
    optimize='-O2 -g',
    cppflags='-fwrapv -fno-strict-aliasing -pipe -fstack-protector-strong -I/usr/local/include'
    ccversion='', gccversion='4.9.1', gccosandvers=''
    intsize=4, longsize=8, ptrsize=8, doublesize=8, byteorder=12345678
    d_longlong=define, longlongsize=8, d_longdbl=define, longdblsize=16, longdblkind=3
    ivtype='long', ivsize=8, nvtype='double', nvsize=8, Off_t='off_t', lseeksize=8
    alignbytes=8, prototype=define
  Linker and Libraries:
    ld='cc', ldflags =' -fstack-protector-strong -L/usr/local/lib'
    libpth=/usr/local/lib /usr/lib/gcc/x86_64-linux-gnu/4.9/include-fixed /usr/include/x86_64-linux-gnu /usr/lib /lib/x86_64-linux-gnu /lib/../lib /usr/lib/x86_64-linux-gnu /usr/lib/../lib /lib
    libs=-lnsl -lgdbm -ldb -ldl -lm -lcrypt -lutil -lc -lgdbm_compat
    perllibs=-lnsl -ldl -lm -lcrypt -lutil -lc
    libc=libc-2.19.so, so=so, useshrplib=false, libperl=libperl.a
    gnulibc_version='2.19'
  Dynamic Linking:
    dlsrc=dl_dlopen.xs, dlext=so, d_dlsymun=undef, ccdlflags='-Wl,-E'
    cccdlflags='-fPIC', lddlflags='-shared -O2 -g -L/usr/local/lib -fstack-protector-strong'


Characteristics of this binary (from libperl): 
  Compile-time options: HAS_TIMES PERLIO_LAYERS PERL_DONT_CREATE_GVSV
                        PERL_HASH_FUNC_ONE_AT_A_TIME_HARD PERL_MALLOC_WRAP
                        PERL_NEW_COPY_ON_WRITE PERL_PRESERVE_IVUV
                        PERL_USE_DEVEL USE_64_BIT_ALL USE_64_BIT_INT
                        USE_LARGE_FILES USE_LOCALE USE_LOCALE_COLLATE
                        USE_LOCALE_CTYPE USE_LOCALE_NUMERIC USE_LOCALE_TIME
                        USE_PERLIO USE_PERL_ATOF
  Built under linux
  Compiled at Sep 22 2014 03:53:22
  %ENV:
    PERL5LIB=""
    PERL5OPT=""
    PERL5_CPANPLUS_IS_RUNNING="25983"
    PERL5_CPAN_IS_RUNNING="25983"
    PERL_MM_USE_DEFAULT="1"
  @INC:
    /home/sand/src/perl/repoperls/installed-perls/perl/v5.21.4-41-g9fa5aa9/165a/lib/site_perl/5.21.5/x86_64-linux
    /home/sand/src/perl/repoperls/installed-perls/perl/v5.21.4-41-g9fa5aa9/165a/lib/site_perl/5.21.5
    /home/sand/src/perl/repoperls/installed-perls/perl/v5.21.4-41-g9fa5aa9/165a/lib/5.21.5/x86_64-linux
    /home/sand/src/perl/repoperls/installed-perls/perl/v5.21.4-41-g9fa5aa9/165a/lib/5.21.5
    .