Date-Lectionary-Daily vv1.3.0 Perl 5 v5.22.2 x86_64-linux

Status
Pass
From
Slaven Rezić (SREZIC)
Dist
Date-Lectionary-Daily vv1.3.0
Platform
Perl 5 v5.22.2 x86_64-linux
Date
2018-04-10 16:26:06
ID
de8faac6-3cdb-11e8-81d7-e6f8203dc4cb
This distribution has been tested as part of the CPAN Testers
project, supporting the Perl programming language.  See
http://wiki.cpantesters.org/ for more information or email
questions to cpan-testers-discuss@perl.org


--
Dear Michael Wayne Arnold,

This is a computer-generated report for Date-Lectionary-Daily-v1.3.0
on perl 5.22.2, created by CPAN-Reporter-1.2018.

Thank you for uploading your work to CPAN.  Congratulations!
All tests were successful.

Sections of this report:

    * Tester comments
    * Program output
    * Prerequisites
    * Environment and other context

------------------------------
TESTER COMMENTS
------------------------------

Additional comments from tester:

none provided

------------------------------
PROGRAM OUTPUT
------------------------------

Output from '/usr/bin/make test':

Skip blib/lib/auto/share/dist/Date-Lectionary-Daily/acna-xian_lect_daily.xml (unchanged)
Skip blib/lib/auto/share/dist/Date-Lectionary-Daily/acna-sec_lect_daily.xml (unchanged)
PERL_DL_NONLAZY=1 "/bbbike/perl-5.22.2/bin/perl" "-MExtUtils::Command::MM" "-MTest::Harness" "-e" "undef *Test::Harness::Switches; test_harness(0, 'blib/lib', 'blib/arch')" t/*.t
# Testing Date::Lectionary::Daily v1.3.0, Perl 5.022002, /bbbike/perl-5.22.2/bin/perl
t/00-load.t .............. ok
t/01-week.t .............. ok
t/02-xian_readings.t ..... ok
t/03-fixed_readings.t .... ok
t/04-secular_readings.t .. ok
All tests successful.
Files=5, Tests=93,  2 wallclock secs ( 0.04 usr  0.01 sys +  1.76 cusr  0.23 csys =  2.04 CPU)
Result: PASS

------------------------------
PREREQUISITES
------------------------------

Prerequisite modules loaded:

requires:

    Module                       Need       Have      
    ---------------------------- ---------- ----------
    Carp                         1.38       1.38      
    Date::Advent                 1.20171223 1.20171223
    Date::Easter                 1.22       1.22      
  ! Date::Lectionary             1.20180302 broken    
  ! Date::Lectionary::Day        1.20180302 broken    
    Date::Lectionary::Time       1.20170311 1.20170311
    File::Share                  0.25       0.25      
    Moose                        2.2010     2.2010    
    Moose::Util::TypeConstraints 2.2010     2.2010    
    MooseX::Aliases              0.11       0.11      
    MooseX::StrictConstructor    0.21       0.21      
    namespace::autoclean         0.28       0.28      
    perl                         5.022      5.022002  
    Time::Piece                  1.3204     1.3204    
    Time::Seconds                1.3204     1.3204    
    Try::Catch                   v1.1.0     1.1.0     
  ! Try::Tiny::Tiny              0.001      broken    
  ! version                      0.9920     0.992     
    XML::LibXML                  2.0132     2.0132    

build_requires:

    Module                       Need       Have      
    ---------------------------- ---------- ----------
    Pod::Markdown                3.005      3.005     
    Test::CPAN::Changes          0.400002   0.400002  
    Test::DistManifest           1.014      1.014     
    Test::Exception              0.43       0.43      
    Test::Kwalitee               1.27       1.27      
    Test::Kwalitee::Extra        v0.4.0     v0.4.0    
    Test::MinimumVersion         0.101082   0.101082  
    Test::More                   1.302130   1.302133  
    Test::Pod                    1.51       1.51      
    Test::Pod::Coverage          1.10       1.10      
    Test::Version                2.07       2.07      

configure_requires:

    Module                       Need       Have      
    ---------------------------- ---------- ----------
    ExtUtils::MakeMaker          7.32       7.34      
    File::ShareDir::Install      0.11       0.11      


------------------------------
ENVIRONMENT AND OTHER CONTEXT
------------------------------

Environment variables:

    LANG = C
    LC_ALL = de_DE.UTF-8
    PATH = /usr/local/bin:/usr/bin:/bin:/usr/local/sbin:/usr/sbin:/sbin:/home/cpansand/bin/linux-gnu:/home/cpansand/bin/sh:/home/cpansand/bin:/usr/games:/home/cpansand/devel:/home/eserte/src/srezic-misc/scripts
    PERL5LIB = /home/cpansand/.cpan/build/2018041015/version-0.9920-7/blib/arch:/home/cpansand/.cpan/build/2018041015/version-0.9920-7/blib/lib:/home/cpansand/.cpan/build/2018041015/Test-Kwalitee-Extra-v0.4.0-1/blib/arch:/home/cpansand/.cpan/build/2018041015/Test-Kwalitee-Extra-v0.4.0-1/blib/lib:/home/cpansand/.cpan/build/2018041015/PPIx-Regexp-0.056_03-7/blib/arch:/home/cpansand/.cpan/build/2018041015/PPIx-Regexp-0.056_03-7/blib/lib:/home/cpansand/.cpan/build/2018041015/Mojolicious-7.75-7/blib/arch:/home/cpansand/.cpan/build/2018041015/Mojolicious-7.75-7/blib/lib
    PERL5OPT = 
    PERL5_CPANPLUS_IS_RUNNING = 16871
    PERL5_CPAN_IS_RUNNING = 16871
    PERL5_CPAN_IS_RUNNING_IN_RECURSION = 11473,16871
    PERLDOC = -MPod::Perldoc::ToTextOverstrike
    PERL_BATCH = yes
    PERL_CANARY_STABILITY_NOPROMPT = 1
    PERL_CPAN_REPORTER_CONFIG = /var/tmp/cpansmoker-1023/2018041015/cpanreporter_000_config.ini
    PERL_EXTUTILS_AUTOINSTALL = --defaultdeps
    PERL_PARALLEL_SMOKER = yes
    PERL_USE_UNSAFE_INC = 1
    SHELL = /bin/zsh
    TERM = screen
    TMPDIR = /var/tmp/cpansmoker-1023/2018041015

Perl special variables (and OS-specific diagnostics, for MSWin32):

    $^X = /bbbike/perl-5.22.2/bin/perl
    $UID/$EUID = 1023 / 1023
    $GID = 1023 1023
    $EGID = 1023 1023

Perl module toolchain versions installed:

    Module              Have    
    ------------------- --------
    CPAN                2.16    
    CPAN::Meta          2.150010
    Cwd                 3.74    
    ExtUtils::CBuilder  0.280230
    ExtUtils::Command   7.34    
    ExtUtils::Install   2.14    
    ExtUtils::MakeMaker 7.34    
    ExtUtils::Manifest  1.70    
    ExtUtils::ParseXS   3.30    
    File::Spec          3.74    
    JSON                2.97001 
    JSON::PP            2.96    
    Module::Build       0.4224  
    Module::Signature   0.81    
    Parse::CPAN::Meta   2.150010
    Test::Harness       3.42    
    Test::More          1.302133
    YAML                1.23    
    YAML::Syck          1.30    
    version             0.992   


--

Summary of my perl5 (revision 5 version 22 subversion 2) configuration:
   
  Platform:
    osname=linux, osvers=3.16.0-4-amd64, archname=x86_64-linux
    uname='linux eserte 3.16.0-4-amd64 #1 smp debian 3.16.7-ckt25-2 (2016-04-08) x86_64 gnulinux '
    config_args='-ds -e -Dprefix=/opt/perl-5.22.2 -Dcf_email=srezic@cpan.org'
    hint=recommended, useposix=true, d_sigaction=define
    useithreads=undef, usemultiplicity=undef
    use64bitint=define, use64bitall=define, uselongdouble=undef
    usemymalloc=n, bincompat5005=undef
  Compiler:
    cc='cc', ccflags ='-fwrapv -fno-strict-aliasing -pipe -fstack-protector-strong -I/usr/local/include -D_LARGEFILE_SOURCE -D_FILE_OFFSET_BITS=64 -D_FORTIFY_SOURCE=2',
    optimize='-O2',
    cppflags='-fwrapv -fno-strict-aliasing -pipe -fstack-protector-strong -I/usr/local/include'
    ccversion='', gccversion='4.9.2', gccosandvers=''
    intsize=4, longsize=8, ptrsize=8, doublesize=8, byteorder=12345678, doublekind=3
    d_longlong=define, longlongsize=8, d_longdbl=define, longdblsize=16, longdblkind=3
    ivtype='long', ivsize=8, nvtype='double', nvsize=8, Off_t='off_t', lseeksize=8
    alignbytes=8, prototype=define
  Linker and Libraries:
    ld='cc', ldflags =' -fstack-protector-strong -L/usr/local/lib'
    libpth=/usr/local/lib /usr/lib/gcc/x86_64-linux-gnu/4.9/include-fixed /usr/include/x86_64-linux-gnu /usr/lib /lib/x86_64-linux-gnu /lib/../lib /usr/lib/x86_64-linux-gnu /usr/lib/../lib /lib
    libs=-lpthread -lnsl -ldl -lm -lcrypt -lutil -lc
    perllibs=-lpthread -lnsl -ldl -lm -lcrypt -lutil -lc
    libc=libc-2.19.so, so=so, useshrplib=false, libperl=libperl.a
    gnulibc_version='2.19'
  Dynamic Linking:
    dlsrc=dl_dlopen.xs, dlext=so, d_dlsymun=undef, ccdlflags='-Wl,-E'
    cccdlflags='-fPIC', lddlflags='-shared -O2 -L/usr/local/lib -fstack-protector-strong'


Characteristics of this binary (from libperl): 
  Compile-time options: HAS_TIMES PERLIO_LAYERS PERL_DONT_CREATE_GVSV
                        PERL_HASH_FUNC_ONE_AT_A_TIME_HARD PERL_MALLOC_WRAP
                        PERL_NEW_COPY_ON_WRITE PERL_PRESERVE_IVUV
                        USE_64_BIT_ALL USE_64_BIT_INT USE_LARGE_FILES
                        USE_LOCALE USE_LOCALE_COLLATE USE_LOCALE_CTYPE
                        USE_LOCALE_NUMERIC USE_LOCALE_TIME USE_PERLIO
                        USE_PERL_ATOF
  Built under linux
  Compiled at May  6 2016 22:58:24
  %ENV:
    PERL5LIB="/home/cpansand/.cpan/build/2018041015/version-0.9920-7/blib/arch:/home/cpansand/.cpan/build/2018041015/version-0.9920-7/blib/lib:/home/cpansand/.cpan/build/2018041015/Test-Kwalitee-Extra-v0.4.0-1/blib/arch:/home/cpansand/.cpan/build/2018041015/Test-Kwalitee-Extra-v0.4.0-1/blib/lib:/home/cpansand/.cpan/build/2018041015/PPIx-Regexp-0.056_03-7/blib/arch:/home/cpansand/.cpan/build/2018041015/PPIx-Regexp-0.056_03-7/blib/lib:/home/cpansand/.cpan/build/2018041015/Mojolicious-7.75-7/blib/arch:/home/cpansand/.cpan/build/2018041015/Mojolicious-7.75-7/blib/lib"
    PERL5OPT=""
    PERL5_CPANPLUS_IS_RUNNING="16871"
    PERL5_CPAN_IS_RUNNING="16871"
    PERL5_CPAN_IS_RUNNING_IN_RECURSION="11473,16871"
    PERLDOC="-MPod::Perldoc::ToTextOverstrike"
    PERL_BATCH="yes"
    PERL_CANARY_STABILITY_NOPROMPT="1"
    PERL_CPAN_REPORTER_CONFIG="/var/tmp/cpansmoker-1023/2018041015/cpanreporter_000_config.ini"
    PERL_EXTUTILS_AUTOINSTALL="--defaultdeps"
    PERL_PARALLEL_SMOKER="yes"
    PERL_USE_UNSAFE_INC="1"
  @INC:
    /home/cpansand/.cpan/build/2018041015/version-0.9920-7/blib/arch
    /home/cpansand/.cpan/build/2018041015/version-0.9920-7/blib/lib
    /home/cpansand/.cpan/build/2018041015/Test-Kwalitee-Extra-v0.4.0-1/blib/arch
    /home/cpansand/.cpan/build/2018041015/Test-Kwalitee-Extra-v0.4.0-1/blib/lib
    /home/cpansand/.cpan/build/2018041015/PPIx-Regexp-0.056_03-7/blib/arch
    /home/cpansand/.cpan/build/2018041015/PPIx-Regexp-0.056_03-7/blib/lib
    /home/cpansand/.cpan/build/2018041015/Mojolicious-7.75-7/blib/arch
    /home/cpansand/.cpan/build/2018041015/Mojolicious-7.75-7/blib/lib
    /opt/perl-5.22.2/lib/site_perl/5.22.2/x86_64-linux
    /opt/perl-5.22.2/lib/site_perl/5.22.2
    /opt/perl-5.22.2/lib/5.22.2/x86_64-linux
    /opt/perl-5.22.2/lib/5.22.2
    .