MooseX-RelClassTypes v0.03 Perl 5 v5.24.1 armv7l-linux-thread-multi

Status
Pass
From
Nigel Horne
Dist
MooseX-RelClassTypes v0.03
Platform
Perl 5 v5.24.1 armv7l-linux-thread-multi
Date
2018-05-02 16:50:07
ID
de84410a-4e28-11e8-9da6-f703c768dc7a
This distribution has been tested as part of the CPAN Testers
project, supporting the Perl programming language.  See
http://wiki.cpantesters.org/ for more information or email
questions to cpan-testers-discuss@perl.org


--
Dear Tom Gracey,

This is a computer-generated report for MooseX-RelClassTypes-0.03
on perl 5.24.1, created by CPAN-Reporter-1.2018.

Thank you for uploading your work to CPAN.  Congratulations!
All tests were successful.

Sections of this report:

    * Tester comments
    * Program output
    * Prerequisites
    * Environment and other context

------------------------------
TESTER COMMENTS
------------------------------

Additional comments from tester:

this report is from an automated smoke testing program
and was not reviewed by a human for accuracy

------------------------------
PROGRAM OUTPUT
------------------------------

Output from '/usr/bin/make test':

PERL_DL_NONLAZY=1 "/mnt/nas/home/pi2/njh/perl5/perlbrew/perls/perl-5.24.1/bin/perl5.24.1" "-MExtUtils::Command::MM" "-MTest::Harness" "-e" "undef *Test::Harness::Switches; test_harness(0, 'blib/lib', 'blib/arch')" t/*.t
You are overwriting a reader (alt_pack) for the alt_pack attribute (defined at t/02_parser.t line 24) with a new reader method for the alt_pack attribute (defined at t/02_parser.t line 24) at /home/njh/perl5/perlbrew/perls/perl-5.24.1/lib/site_perl/5.24.1/armv7l-linux-thread-multi/Moose/Meta/Attribute.pm line 1096.
	Moose::Meta::Attribute::_process_accessors(Moose::Meta::Attribute=HASH(0x1fe1e38), "reader", "alt_pack", undef) called at /home/njh/perl5/perlbrew/perls/perl-5.24.1/lib/site_perl/5.24.1/armv7l-linux-thread-multi/Class/MOP/Attribute.pm line 450
	Class::MOP::Attribute::install_accessors(Moose::Meta::Attribute=HASH(0x1fe1e38)) called at /home/njh/perl5/perlbrew/perls/perl-5.24.1/lib/site_perl/5.24.1/armv7l-linux-thread-multi/Moose/Meta/Attribute.pm line 1016
	Moose::Meta::Attribute::install_accessors(Moose::Meta::Attribute=HASH(0x1fe1e38)) called at /mnt/nas/home/pi2/njh/.cpan/build/MooseX-RelClassTypes-0.03-1/blib/lib/MooseX/RelClassTypes.pm line 76
	Class::MOP::Class:::before("TestParser::AngleBK") called at /home/njh/perl5/perlbrew/perls/perl-5.24.1/lib/site_perl/5.24.1/armv7l-linux-thread-multi/Class/MOP/Method/Wrapped.pm line 43
	TestParser::AngleBK::_wrapped_BUILDARGS("TestParser::AngleBK") called at /home/njh/perl5/perlbrew/perls/perl-5.24.1/lib/site_perl/5.24.1/armv7l-linux-thread-multi/Class/MOP/Method/Wrapped.pm line 95
	TestParser::AngleBK::BUILDARGS("TestParser::AngleBK") called at /home/njh/perl5/perlbrew/perls/perl-5.24.1/lib/site_perl/5.24.1/armv7l-linux-thread-multi/Moose/Object.pm line 22
	Moose::Object::new("TestParser::AngleBK") called at t/02_parser.t line 87
You are overwriting a reader (rel_pack) for the rel_pack attribute (defined at t/02_parser.t line 19) with a new reader method for the rel_pack attribute (defined at t/02_parser.t line 19) at /home/njh/perl5/perlbrew/perls/perl-5.24.1/lib/site_perl/5.24.1/armv7l-linux-thread-multi/Moose/Meta/Attribute.pm line 1096.
	Moose::Meta::Attribute::_process_accessors(Moose::Meta::Attribute=HASH(0x1eaa438), "reader", "rel_pack", undef) called at /home/njh/perl5/perlbrew/perls/perl-5.24.1/lib/site_perl/5.24.1/armv7l-linux-thread-multi/Class/MOP/Attribute.pm line 450
	Class::MOP::Attribute::install_accessors(Moose::Meta::Attribute=HASH(0x1eaa438)) called at /home/njh/perl5/perlbrew/perls/perl-5.24.1/lib/site_perl/5.24.1/armv7l-linux-thread-multi/Moose/Meta/Attribute.pm line 1016
	Moose::Meta::Attribute::install_accessors(Moose::Meta::Attribute=HASH(0x1eaa438)) called at /mnt/nas/home/pi2/njh/.cpan/build/MooseX-RelClassTypes-0.03-1/blib/lib/MooseX/RelClassTypes.pm line 76
	Class::MOP::Class:::before("TestParser::AngleBK") called at /home/njh/perl5/perlbrew/perls/perl-5.24.1/lib/site_perl/5.24.1/armv7l-linux-thread-multi/Class/MOP/Method/Wrapped.pm line 43
	TestParser::AngleBK::_wrapped_BUILDARGS("TestParser::AngleBK") called at /home/njh/perl5/perlbrew/perls/perl-5.24.1/lib/site_perl/5.24.1/armv7l-linux-thread-multi/Class/MOP/Method/Wrapped.pm line 95
	TestParser::AngleBK::BUILDARGS("TestParser::AngleBK") called at /home/njh/perl5/perlbrew/perls/perl-5.24.1/lib/site_perl/5.24.1/armv7l-linux-thread-multi/Moose/Object.pm line 22
	Moose::Object::new("TestParser::AngleBK") called at t/02_parser.t line 87
You are overwriting a accessor (parent_rel_pack) for the parent_rel_pack attribute (defined at t/00_set_isa.t line 23) with a new accessor method for the parent_rel_pack attribute (defined at t/00_set_isa.t line 23) at /home/njh/perl5/perlbrew/perls/perl-5.24.1/lib/site_perl/5.24.1/armv7l-linux-thread-multi/Moose/Meta/Attribute.pm line 1096.
	Moose::Meta::Attribute::_process_accessors(Moose::Meta::Attribute=HASH(0x281c118), "accessor", "parent_rel_pack", undef) called at /home/njh/perl5/perlbrew/perls/perl-5.24.1/lib/site_perl/5.24.1/armv7l-linux-thread-multi/Class/MOP/Attribute.pm line 446
	Class::MOP::Attribute::install_accessors(Moose::Meta::Attribute=HASH(0x281c118)) called at /home/njh/perl5/perlbrew/perls/perl-5.24.1/lib/site_perl/5.24.1/armv7l-linux-thread-multi/Moose/Meta/Attribute.pm line 1016
	Moose::Meta::Attribute::install_accessors(Moose::Meta::Attribute=HASH(0x281c118)) called at /mnt/nas/home/pi2/njh/.cpan/build/MooseX-RelClassTypes-0.03-1/blib/lib/MooseX/RelClassTypes.pm line 76
	Class::MOP::Class:::before("Child") called at /home/njh/perl5/perlbrew/perls/perl-5.24.1/lib/site_perl/5.24.1/armv7l-linux-thread-multi/Class/MOP/Method/Wrapped.pm line 43
	Child::_wrapped_BUILDARGS("Child") called at /home/njh/perl5/perlbrew/perls/perl-5.24.1/lib/site_perl/5.24.1/armv7l-linux-thread-multi/Class/MOP/Method/Wrapped.pm line 95
	Child::BUILDARGS("Child") called at /home/njh/perl5/perlbrew/perls/perl-5.24.1/lib/site_perl/5.24.1/armv7l-linux-thread-multi/Moose/Object.pm line 22
	Moose::Object::new("Child") called at t/00_set_isa.t line 99
You are overwriting a accessor (child_rel_pack) for the child_rel_pack attribute (defined at t/00_set_isa.t line 45) with a new accessor method for the child_rel_pack attribute (defined at t/00_set_isa.t line 45) at /home/njh/perl5/perlbrew/perls/perl-5.24.1/lib/site_perl/5.24.1/armv7l-linux-thread-multi/Moose/Meta/Attribute.pm line 1096.
	Moose::Meta::Attribute::_process_accessors(Moose::Meta::Attribute=HASH(0x295c7b0), "accessor", "child_rel_pack", undef) called at /home/njh/perl5/perlbrew/perls/perl-5.24.1/lib/site_perl/5.24.1/armv7l-linux-thread-multi/Class/MOP/Attribute.pm line 446
	Class::MOP::Attribute::install_accessors(Moose::Meta::Attribute=HASH(0x295c7b0)) called at /home/njh/perl5/perlbrew/perls/perl-5.24.1/lib/site_perl/5.24.1/armv7l-linux-thread-multi/Moose/Meta/Attribute.pm line 1016
	Moose::Meta::Attribute::install_accessors(Moose::Meta::Attribute=HASH(0x295c7b0)) called at /mnt/nas/home/pi2/njh/.cpan/build/MooseX-RelClassTypes-0.03-1/blib/lib/MooseX/RelClassTypes.pm line 76
	Class::MOP::Class:::before("Child") called at /home/njh/perl5/perlbrew/perls/perl-5.24.1/lib/site_perl/5.24.1/armv7l-linux-thread-multi/Class/MOP/Method/Wrapped.pm line 43
	Child::_wrapped_BUILDARGS("Child") called at /home/njh/perl5/perlbrew/perls/perl-5.24.1/lib/site_perl/5.24.1/armv7l-linux-thread-multi/Class/MOP/Method/Wrapped.pm line 95
	Child::BUILDARGS("Child") called at /home/njh/perl5/perlbrew/perls/perl-5.24.1/lib/site_perl/5.24.1/armv7l-linux-thread-multi/Moose/Object.pm line 22
	Moose::Object::new("Child") called at t/00_set_isa.t line 99
You are overwriting a accessor (child_rel_pack) for the child_rel_pack attribute (defined at t/00_set_isa.t line 45) with a new accessor method for the child_rel_pack attribute (defined at t/00_set_isa.t line 45) at /home/njh/perl5/perlbrew/perls/perl-5.24.1/lib/site_perl/5.24.1/armv7l-linux-thread-multi/Moose/Meta/Attribute.pm line 1096.
	Moose::Meta::Attribute::_process_accessors(Moose::Meta::Attribute=HASH(0x295c7b0), "accessor", "child_rel_pack", undef) called at /home/njh/perl5/perlbrew/perls/perl-5.24.1/lib/site_perl/5.24.1/armv7l-linux-thread-multi/Class/MOP/Attribute.pm line 446
	Class::MOP::Attribute::install_accessors(Moose::Meta::Attribute=HASH(0x295c7b0)) called at /home/njh/perl5/perlbrew/perls/perl-5.24.1/lib/site_perl/5.24.1/armv7l-linux-thread-multi/Moose/Meta/Attribute.pm line 1016
	Moose::Meta::Attribute::install_accessors(Moose::Meta::Attribute=HASH(0x295c7b0)) called at /mnt/nas/home/pi2/njh/.cpan/build/MooseX-RelClassTypes-0.03-1/blib/lib/MooseX/RelClassTypes.pm line 76
	Class::MOP::Class:::before("Child") called at /home/njh/perl5/perlbrew/perls/perl-5.24.1/lib/site_perl/5.24.1/armv7l-linux-thread-multi/Class/MOP/Method/Wrapped.pm line 43
	Parent::_wrapped_BUILDARGS("Child") called at /home/njh/perl5/perlbrew/perls/perl-5.24.1/lib/site_perl/5.24.1/armv7l-linux-thread-multi/Class/MOP/Method/Wrapped.pm line 95
	Parent::BUILDARGS("Child") called at /home/njh/perl5/perlbrew/perls/perl-5.24.1/lib/site_perl/5.24.1/armv7l-linux-thread-multi/Class/MOP/Method/Wrapped.pm line 44
	Child::_wrapped_BUILDARGS("Child") called at /home/njh/perl5/perlbrew/perls/perl-5.24.1/lib/site_perl/5.24.1/armv7l-linux-thread-multi/Class/MOP/Method/Wrapped.pm line 95
	Child::BUILDARGS("Child") called at /home/njh/perl5/perlbrew/perls/perl-5.24.1/lib/site_perl/5.24.1/armv7l-linux-thread-multi/Moose/Object.pm line 22
	Moose::Object::new("Child") called at t/00_set_isa.t line 99
You are overwriting a accessor (parent_rel_pack) for the parent_rel_pack attribute (defined at t/00_set_isa.t line 23) with a new accessor method for the parent_rel_pack attribute (defined at t/00_set_isa.t line 23) at /home/njh/perl5/perlbrew/perls/perl-5.24.1/lib/site_perl/5.24.1/armv7l-linux-thread-multi/Moose/Meta/Attribute.pm line 1096.
	Moose::Meta::Attribute::_process_accessors(Moose::Meta::Attribute=HASH(0x281c118), "accessor", "parent_rel_pack", undef) called at /home/njh/perl5/perlbrew/perls/perl-5.24.1/lib/site_perl/5.24.1/armv7l-linux-thread-multi/Class/MOP/Attribute.pm line 446
	Class::MOP::Attribute::install_accessors(Moose::Meta::Attribute=HASH(0x281c118)) called at /home/njh/perl5/perlbrew/perls/perl-5.24.1/lib/site_perl/5.24.1/armv7l-linux-thread-multi/Moose/Meta/Attribute.pm line 1016
	Moose::Meta::Attribute::install_accessors(Moose::Meta::Attribute=HASH(0x281c118)) called at /mnt/nas/home/pi2/njh/.cpan/build/MooseX-RelClassTypes-0.03-1/blib/lib/MooseX/RelClassTypes.pm line 76
	Class::MOP::Class:::before("Child") called at /home/njh/perl5/perlbrew/perls/perl-5.24.1/lib/site_perl/5.24.1/armv7l-linux-thread-multi/Class/MOP/Method/Wrapped.pm line 43
	Parent::_wrapped_BUILDARGS("Child") called at /home/njh/perl5/perlbrew/perls/perl-5.24.1/lib/site_perl/5.24.1/armv7l-linux-thread-multi/Class/MOP/Method/Wrapped.pm line 95
	Parent::BUILDARGS("Child") called at /home/njh/perl5/perlbrew/perls/perl-5.24.1/lib/site_perl/5.24.1/armv7l-linux-thread-multi/Class/MOP/Method/Wrapped.pm line 44
	Child::_wrapped_BUILDARGS("Child") called at /home/njh/perl5/perlbrew/perls/perl-5.24.1/lib/site_perl/5.24.1/armv7l-linux-thread-multi/Class/MOP/Method/Wrapped.pm line 95
	Child::BUILDARGS("Child") called at /home/njh/perl5/perlbrew/perls/perl-5.24.1/lib/site_perl/5.24.1/armv7l-linux-thread-multi/Moose/Object.pm line 22
	Moose::Object::new("Child") called at t/00_set_isa.t line 99
You are overwriting a reader (alt_pack) for the alt_pack attribute (defined at t/02_parser.t line 47) with a new reader method for the alt_pack attribute (defined at t/02_parser.t line 47) at /home/njh/perl5/perlbrew/perls/perl-5.24.1/lib/site_perl/5.24.1/armv7l-linux-thread-multi/Moose/Meta/Attribute.pm line 1096.
	Moose::Meta::Attribute::_process_accessors(Moose::Meta::Attribute=HASH(0x1feb538), "reader", "alt_pack", undef) called at /home/njh/perl5/perlbrew/perls/perl-5.24.1/lib/site_perl/5.24.1/armv7l-linux-thread-multi/Class/MOP/Attribute.pm line 450
	Class::MOP::Attribute::install_accessors(Moose::Meta::Attribute=HASH(0x1feb538)) called at /home/njh/perl5/perlbrew/perls/perl-5.24.1/lib/site_perl/5.24.1/armv7l-linux-thread-multi/Moose/Meta/Attribute.pm line 1016
	Moose::Meta::Attribute::install_accessors(Moose::Meta::Attribute=HASH(0x1feb538)) called at /mnt/nas/home/pi2/njh/.cpan/build/MooseX-RelClassTypes-0.03-1/blib/lib/MooseX/RelClassTypes.pm line 76
	Class::MOP::Class:::before("TestParser::RoundBK") called at /home/njh/perl5/perlbrew/perls/perl-5.24.1/lib/site_perl/5.24.1/armv7l-linux-thread-multi/Class/MOP/Method/Wrapped.pm line 43
	TestParser::RoundBK::_wrapped_BUILDARGS("TestParser::RoundBK") called at /home/njh/perl5/perlbrew/perls/perl-5.24.1/lib/site_perl/5.24.1/armv7l-linux-thread-multi/Class/MOP/Method/Wrapped.pm line 95
	TestParser::RoundBK::BUILDARGS("TestParser::RoundBK") called at /home/njh/perl5/perlbrew/perls/perl-5.24.1/lib/site_perl/5.24.1/armv7l-linux-thread-multi/Moose/Object.pm line 22
	Moose::Object::new("TestParser::RoundBK") called at t/02_parser.t line 87
You are overwriting a reader (rel_pack) for the rel_pack attribute (defined at t/02_parser.t line 42) with a new reader method for the rel_pack attribute (defined at t/02_parser.t line 42) at /home/njh/perl5/perlbrew/perls/perl-5.24.1/lib/site_perl/5.24.1/armv7l-linux-thread-multi/Moose/Meta/Attribute.pm line 1096.
	Moose::Meta::Attribute::_process_accessors(Moose::Meta::Attribute=HASH(0x1fe86b8), "reader", "rel_pack", undef) called at /home/njh/perl5/perlbrew/perls/perl-5.24.1/lib/site_perl/5.24.1/armv7l-linux-thread-multi/Class/MOP/Attribute.pm line 450
	Class::MOP::Attribute::install_accessors(Moose::Meta::Attribute=HASH(0x1fe86b8)) called at /home/njh/perl5/perlbrew/perls/perl-5.24.1/lib/site_perl/5.24.1/armv7l-linux-thread-multi/Moose/Meta/Attribute.pm line 1016
	Moose::Meta::Attribute::install_accessors(Moose::Meta::Attribute=HASH(0x1fe86b8)) called at /mnt/nas/home/pi2/njh/.cpan/build/MooseX-RelClassTypes-0.03-1/blib/lib/MooseX/RelClassTypes.pm line 76
	Class::MOP::Class:::before("TestParser::RoundBK") called at /home/njh/perl5/perlbrew/perls/perl-5.24.1/lib/site_perl/5.24.1/armv7l-linux-thread-multi/Class/MOP/Method/Wrapped.pm line 43
	TestParser::RoundBK::_wrapped_BUILDARGS("TestParser::RoundBK") called at /home/njh/perl5/perlbrew/perls/perl-5.24.1/lib/site_perl/5.24.1/armv7l-linux-thread-multi/Class/MOP/Method/Wrapped.pm line 95
	TestParser::RoundBK::BUILDARGS("TestParser::RoundBK") called at /home/njh/perl5/perlbrew/perls/perl-5.24.1/lib/site_perl/5.24.1/armv7l-linux-thread-multi/Moose/Object.pm line 22
	Moose::Object::new("TestParser::RoundBK") called at t/02_parser.t line 87
t/02_parser.t ........ ok
You are overwriting a reader (rel_pack) for the rel_pack attribute (defined at t/01_auto_default.t line 54) with a new reader method for the rel_pack attribute (defined at t/01_auto_default.t line 54) at /home/njh/perl5/perlbrew/perls/perl-5.24.1/lib/site_perl/5.24.1/armv7l-linux-thread-multi/Moose/Meta/Attribute.pm line 1096.
	Moose::Meta::Attribute::_process_accessors(Moose::Meta::Attribute=HASH(0x1ab1b80), "reader", "rel_pack", undef) called at /home/njh/perl5/perlbrew/perls/perl-5.24.1/lib/site_perl/5.24.1/armv7l-linux-thread-multi/Class/MOP/Attribute.pm line 450
	Class::MOP::Attribute::install_accessors(Moose::Meta::Attribute=HASH(0x1ab1b80)) called at /home/njh/perl5/perlbrew/perls/perl-5.24.1/lib/site_perl/5.24.1/armv7l-linux-thread-multi/Moose/Meta/Attribute.pm line 1016
	Moose::Meta::Attribute::install_accessors(Moose::Meta::Attribute=HASH(0x1ab1b80)) called at /mnt/nas/home/pi2/njh/.cpan/build/MooseX-RelClassTypes-0.03-1/blib/lib/MooseX/RelClassTypes.pm line 76
	Class::MOP::Class:::before("TestAD::WithAuto_NoDefault_WithBuilder") called at /home/njh/perl5/perlbrew/perls/perl-5.24.1/lib/site_perl/5.24.1/armv7l-linux-thread-multi/Class/MOP/Method/Wrapped.pm line 43
	TestAD::WithAuto_NoDefault_WithBuilder::_wrapped_BUILDARGS("TestAD::WithAuto_NoDefault_WithBuilder") called at /home/njh/perl5/perlbrew/perls/perl-5.24.1/lib/site_perl/5.24.1/armv7l-linux-thread-multi/Class/MOP/Method/Wrapped.pm line 95
	TestAD::WithAuto_NoDefault_WithBuilder::BUILDARGS("TestAD::WithAuto_NoDefault_WithBuilder") called at /home/njh/perl5/perlbrew/perls/perl-5.24.1/lib/site_perl/5.24.1/armv7l-linux-thread-multi/Moose/Object.pm line 22
	Moose::Object::new("TestAD::WithAuto_NoDefault_WithBuilder") called at t/01_auto_default.t line 143
t/00_set_isa.t ....... ok
You are overwriting a reader (rel_pack) for the rel_pack attribute (defined at t/01_auto_default.t line 37) with a new reader method for the rel_pack attribute (defined at t/01_auto_default.t line 37) at /home/njh/perl5/perlbrew/perls/perl-5.24.1/lib/site_perl/5.24.1/armv7l-linux-thread-multi/Moose/Meta/Attribute.pm line 1096.
	Moose::Meta::Attribute::_process_accessors(Moose::Meta::Attribute=HASH(0x1aace78), "reader", "rel_pack", undef) called at /home/njh/perl5/perlbrew/perls/perl-5.24.1/lib/site_perl/5.24.1/armv7l-linux-thread-multi/Class/MOP/Attribute.pm line 450
	Class::MOP::Attribute::install_accessors(Moose::Meta::Attribute=HASH(0x1aace78)) called at /home/njh/perl5/perlbrew/perls/perl-5.24.1/lib/site_perl/5.24.1/armv7l-linux-thread-multi/Moose/Meta/Attribute.pm line 1016
	Moose::Meta::Attribute::install_accessors(Moose::Meta::Attribute=HASH(0x1aace78)) called at /mnt/nas/home/pi2/njh/.cpan/build/MooseX-RelClassTypes-0.03-1/blib/lib/MooseX/RelClassTypes.pm line 76
	Class::MOP::Class:::before("TestAD::NoAuto_WithDefault_NoBuilder") called at /home/njh/perl5/perlbrew/perls/perl-5.24.1/lib/site_perl/5.24.1/armv7l-linux-thread-multi/Class/MOP/Method/Wrapped.pm line 43
	TestAD::NoAuto_WithDefault_NoBuilder::_wrapped_BUILDARGS("TestAD::NoAuto_WithDefault_NoBuilder") called at /home/njh/perl5/perlbrew/perls/perl-5.24.1/lib/site_perl/5.24.1/armv7l-linux-thread-multi/Class/MOP/Method/Wrapped.pm line 95
	TestAD::NoAuto_WithDefault_NoBuilder::BUILDARGS("TestAD::NoAuto_WithDefault_NoBuilder") called at /home/njh/perl5/perlbrew/perls/perl-5.24.1/lib/site_perl/5.24.1/armv7l-linux-thread-multi/Moose/Object.pm line 22
	Moose::Object::new("TestAD::NoAuto_WithDefault_NoBuilder") called at t/01_auto_default.t line 143
You are overwriting a reader (rel_pack) for the rel_pack attribute (defined at t/01_auto_default.t line 45) with a new reader method for the rel_pack attribute (defined at t/01_auto_default.t line 45) at /home/njh/perl5/perlbrew/perls/perl-5.24.1/lib/site_perl/5.24.1/armv7l-linux-thread-multi/Moose/Meta/Attribute.pm line 1096.
	Moose::Meta::Attribute::_process_accessors(Moose::Meta::Attribute=HASH(0x1aaedf0), "reader", "rel_pack", undef) called at /home/njh/perl5/perlbrew/perls/perl-5.24.1/lib/site_perl/5.24.1/armv7l-linux-thread-multi/Class/MOP/Attribute.pm line 450
	Class::MOP::Attribute::install_accessors(Moose::Meta::Attribute=HASH(0x1aaedf0)) called at /home/njh/perl5/perlbrew/perls/perl-5.24.1/lib/site_perl/5.24.1/armv7l-linux-thread-multi/Moose/Meta/Attribute.pm line 1016
	Moose::Meta::Attribute::install_accessors(Moose::Meta::Attribute=HASH(0x1aaedf0)) called at /mnt/nas/home/pi2/njh/.cpan/build/MooseX-RelClassTypes-0.03-1/blib/lib/MooseX/RelClassTypes.pm line 76
	Class::MOP::Class:::before("TestAD::WithAuto_NoDefault_NoBuilder") called at /home/njh/perl5/perlbrew/perls/perl-5.24.1/lib/site_perl/5.24.1/armv7l-linux-thread-multi/Class/MOP/Method/Wrapped.pm line 43
	TestAD::WithAuto_NoDefault_NoBuilder::_wrapped_BUILDARGS("TestAD::WithAuto_NoDefault_NoBuilder") called at /home/njh/perl5/perlbrew/perls/perl-5.24.1/lib/site_perl/5.24.1/armv7l-linux-thread-multi/Class/MOP/Method/Wrapped.pm line 95
	TestAD::WithAuto_NoDefault_NoBuilder::BUILDARGS("TestAD::WithAuto_NoDefault_NoBuilder") called at /home/njh/perl5/perlbrew/perls/perl-5.24.1/lib/site_perl/5.24.1/armv7l-linux-thread-multi/Moose/Object.pm line 22
	Moose::Object::new("TestAD::WithAuto_NoDefault_NoBuilder") called at t/01_auto_default.t line 143
You are overwriting a accessor (parent_rel_pack) for the parent_rel_pack attribute (defined at t/03_lazy.t line 22) with a new accessor method for the parent_rel_pack attribute (defined at t/03_lazy.t line 22) at /home/njh/perl5/perlbrew/perls/perl-5.24.1/lib/site_perl/5.24.1/armv7l-linux-thread-multi/Moose/Meta/Attribute.pm line 1096.
	Moose::Meta::Attribute::_process_accessors(Moose::Meta::Attribute=HASH(0x1db5a68), "accessor", "parent_rel_pack", undef) called at /home/njh/perl5/perlbrew/perls/perl-5.24.1/lib/site_perl/5.24.1/armv7l-linux-thread-multi/Class/MOP/Attribute.pm line 446
	Class::MOP::Attribute::install_accessors(Moose::Meta::Attribute=HASH(0x1db5a68)) called at /home/njh/perl5/perlbrew/perls/perl-5.24.1/lib/site_perl/5.24.1/armv7l-linux-thread-multi/Moose/Meta/Attribute.pm line 1016
	Moose::Meta::Attribute::install_accessors(Moose::Meta::Attribute=HASH(0x1db5a68)) called at /mnt/nas/home/pi2/njh/.cpan/build/MooseX-RelClassTypes-0.03-1/blib/lib/MooseX/RelClassTypes.pm line 76
	Class::MOP::Class:::before("LazyParent::Child") called at /home/njh/perl5/perlbrew/perls/perl-5.24.1/lib/site_perl/5.24.1/armv7l-linux-thread-multi/Class/MOP/Method/Wrapped.pm line 43
	LazyParent::Child::_wrapped_BUILDARGS("LazyParent::Child") called at /home/njh/perl5/perlbrew/perls/perl-5.24.1/lib/site_perl/5.24.1/armv7l-linux-thread-multi/Class/MOP/Method/Wrapped.pm line 95
	LazyParent::Child::BUILDARGS("LazyParent::Child") called at /home/njh/perl5/perlbrew/perls/perl-5.24.1/lib/site_perl/5.24.1/armv7l-linux-thread-multi/Moose/Object.pm line 22
	Moose::Object::new("LazyParent::Child") called at t/03_lazy.t line 248
You are overwriting a accessor (child_rel_pack) for the child_rel_pack attribute (defined at t/03_lazy.t line 32) with a new accessor method for the child_rel_pack attribute (defined at t/03_lazy.t line 32) at /home/njh/perl5/perlbrew/perls/perl-5.24.1/lib/site_perl/5.24.1/armv7l-linux-thread-multi/Moose/Meta/Attribute.pm line 1096.
	Moose::Meta::Attribute::_process_accessors(Moose::Meta::Attribute=HASH(0x1eef5f0), "accessor", "child_rel_pack", undef) called at /home/njh/perl5/perlbrew/perls/perl-5.24.1/lib/site_perl/5.24.1/armv7l-linux-thread-multi/Class/MOP/Attribute.pm line 446
	Class::MOP::Attribute::install_accessors(Moose::Meta::Attribute=HASH(0x1eef5f0)) called at /home/njh/perl5/perlbrew/perls/perl-5.24.1/lib/site_perl/5.24.1/armv7l-linux-thread-multi/Moose/Meta/Attribute.pm line 1016
	Moose::Meta::Attribute::install_accessors(Moose::Meta::Attribute=HASH(0x1eef5f0)) called at /mnt/nas/home/pi2/njh/.cpan/build/MooseX-RelClassTypes-0.03-1/blib/lib/MooseX/RelClassTypes.pm line 76
	Class::MOP::Class:::before("LazyParent::Child") called at /home/njh/perl5/perlbrew/perls/perl-5.24.1/lib/site_perl/5.24.1/armv7l-linux-thread-multi/Class/MOP/Method/Wrapped.pm line 43
	LazyParent::Child::_wrapped_BUILDARGS("LazyParent::Child") called at /home/njh/perl5/perlbrew/perls/perl-5.24.1/lib/site_perl/5.24.1/armv7l-linux-thread-multi/Class/MOP/Method/Wrapped.pm line 95
	LazyParent::Child::BUILDARGS("LazyParent::Child") called at /home/njh/perl5/perlbrew/perls/perl-5.24.1/lib/site_perl/5.24.1/armv7l-linux-thread-multi/Moose/Object.pm line 22
	Moose::Object::new("LazyParent::Child") called at t/03_lazy.t line 248
You are overwriting a accessor (parent_rel_pack) for the parent_rel_pack attribute (defined at t/03_lazy.t line 22) with a new accessor method for the parent_rel_pack attribute (defined at t/03_lazy.t line 22) at /home/njh/perl5/perlbrew/perls/perl-5.24.1/lib/site_perl/5.24.1/armv7l-linux-thread-multi/Moose/Meta/Attribute.pm line 1096.
	Moose::Meta::Attribute::_process_accessors(Moose::Meta::Attribute=HASH(0x1db5a68), "accessor", "parent_rel_pack", undef) called at /home/njh/perl5/perlbrew/perls/perl-5.24.1/lib/site_perl/5.24.1/armv7l-linux-thread-multi/Class/MOP/Attribute.pm line 446
	Class::MOP::Attribute::install_accessors(Moose::Meta::Attribute=HASH(0x1db5a68)) called at /home/njh/perl5/perlbrew/perls/perl-5.24.1/lib/site_perl/5.24.1/armv7l-linux-thread-multi/Moose/Meta/Attribute.pm line 1016
	Moose::Meta::Attribute::install_accessors(Moose::Meta::Attribute=HASH(0x1db5a68)) called at /mnt/nas/home/pi2/njh/.cpan/build/MooseX-RelClassTypes-0.03-1/blib/lib/MooseX/RelClassTypes.pm line 76
	Class::MOP::Class:::before("LazyParent::Child") called at /home/njh/perl5/perlbrew/perls/perl-5.24.1/lib/site_perl/5.24.1/armv7l-linux-thread-multi/Class/MOP/Method/Wrapped.pm line 43
	LazyParent::Parent::_wrapped_BUILDARGS("LazyParent::Child") called at /home/njh/perl5/perlbrew/perls/perl-5.24.1/lib/site_perl/5.24.1/armv7l-linux-thread-multi/Class/MOP/Method/Wrapped.pm line 95
	LazyParent::Parent::BUILDARGS("LazyParent::Child") called at /home/njh/perl5/perlbrew/perls/perl-5.24.1/lib/site_perl/5.24.1/armv7l-linux-thread-multi/Class/MOP/Method/Wrapped.pm line 44
	LazyParent::Child::_wrapped_BUILDARGS("LazyParent::Child") called at /home/njh/perl5/perlbrew/perls/perl-5.24.1/lib/site_perl/5.24.1/armv7l-linux-thread-multi/Class/MOP/Method/Wrapped.pm line 95
	LazyParent::Child::BUILDARGS("LazyParent::Child") called at /home/njh/perl5/perlbrew/perls/perl-5.24.1/lib/site_perl/5.24.1/armv7l-linux-thread-multi/Moose/Object.pm line 22
	Moose::Object::new("LazyParent::Child") called at t/03_lazy.t line 248
You are overwriting a accessor (child_rel_pack) for the child_rel_pack attribute (defined at t/03_lazy.t line 32) with a new accessor method for the child_rel_pack attribute (defined at t/03_lazy.t line 32) at /home/njh/perl5/perlbrew/perls/perl-5.24.1/lib/site_perl/5.24.1/armv7l-linux-thread-multi/Moose/Meta/Attribute.pm line 1096.
	Moose::Meta::Attribute::_process_accessors(Moose::Meta::Attribute=HASH(0x1eef5f0), "accessor", "child_rel_pack", undef) called at /home/njh/perl5/perlbrew/perls/perl-5.24.1/lib/site_perl/5.24.1/armv7l-linux-thread-multi/Class/MOP/Attribute.pm line 446
	Class::MOP::Attribute::install_accessors(Moose::Meta::Attribute=HASH(0x1eef5f0)) called at /home/njh/perl5/perlbrew/perls/perl-5.24.1/lib/site_perl/5.24.1/armv7l-linux-thread-multi/Moose/Meta/Attribute.pm line 1016
	Moose::Meta::Attribute::install_accessors(Moose::Meta::Attribute=HASH(0x1eef5f0)) called at /mnt/nas/home/pi2/njh/.cpan/build/MooseX-RelClassTypes-0.03-1/blib/lib/MooseX/RelClassTypes.pm line 76
	Class::MOP::Class:::before("LazyParent::Child") called at /home/njh/perl5/perlbrew/perls/perl-5.24.1/lib/site_perl/5.24.1/armv7l-linux-thread-multi/Class/MOP/Method/Wrapped.pm line 43
	LazyParent::Parent::_wrapped_BUILDARGS("LazyParent::Child") called at /home/njh/perl5/perlbrew/perls/perl-5.24.1/lib/site_perl/5.24.1/armv7l-linux-thread-multi/Class/MOP/Method/Wrapped.pm line 95
	LazyParent::Parent::BUILDARGS("LazyParent::Child") called at /home/njh/perl5/perlbrew/perls/perl-5.24.1/lib/site_perl/5.24.1/armv7l-linux-thread-multi/Class/MOP/Method/Wrapped.pm line 44
	LazyParent::Child::_wrapped_BUILDARGS("LazyParent::Child") called at /home/njh/perl5/perlbrew/perls/perl-5.24.1/lib/site_perl/5.24.1/armv7l-linux-thread-multi/Class/MOP/Method/Wrapped.pm line 95
	LazyParent::Child::BUILDARGS("LazyParent::Child") called at /home/njh/perl5/perlbrew/perls/perl-5.24.1/lib/site_perl/5.24.1/armv7l-linux-thread-multi/Moose/Object.pm line 22
	Moose::Object::new("LazyParent::Child") called at t/03_lazy.t line 248
You are overwriting a reader (rel_pack) for the rel_pack attribute (defined at t/01_auto_default.t line 11) with a new reader method for the rel_pack attribute (defined at t/01_auto_default.t line 11) at /home/njh/perl5/perlbrew/perls/perl-5.24.1/lib/site_perl/5.24.1/armv7l-linux-thread-multi/Moose/Meta/Attribute.pm line 1096.
	Moose::Meta::Attribute::_process_accessors(Moose::Meta::Attribute=HASH(0x1a9de18), "reader", "rel_pack", undef) called at /home/njh/perl5/perlbrew/perls/perl-5.24.1/lib/site_perl/5.24.1/armv7l-linux-thread-multi/Class/MOP/Attribute.pm line 450
	Class::MOP::Attribute::install_accessors(Moose::Meta::Attribute=HASH(0x1a9de18)) called at /home/njh/perl5/perlbrew/perls/perl-5.24.1/lib/site_perl/5.24.1/armv7l-linux-thread-multi/Moose/Meta/Attribute.pm line 1016
	Moose::Meta::Attribute::install_accessors(Moose::Meta::Attribute=HASH(0x1a9de18)) called at /mnt/nas/home/pi2/njh/.cpan/build/MooseX-RelClassTypes-0.03-1/blib/lib/MooseX/RelClassTypes.pm line 76
	Class::MOP::Class:::before("TestAD::NoAuto_NoDefault_NoBuilder") called at /home/njh/perl5/perlbrew/perls/perl-5.24.1/lib/site_perl/5.24.1/armv7l-linux-thread-multi/Class/MOP/Method/Wrapped.pm line 43
	TestAD::NoAuto_NoDefault_NoBuilder::_wrapped_BUILDARGS("TestAD::NoAuto_NoDefault_NoBuilder") called at /home/njh/perl5/perlbrew/perls/perl-5.24.1/lib/site_perl/5.24.1/armv7l-linux-thread-multi/Class/MOP/Method/Wrapped.pm line 95
	TestAD::NoAuto_NoDefault_NoBuilder::BUILDARGS("TestAD::NoAuto_NoDefault_NoBuilder") called at /home/njh/perl5/perlbrew/perls/perl-5.24.1/lib/site_perl/5.24.1/armv7l-linux-thread-multi/Moose/Object.pm line 22
	Moose::Object::new("TestAD::NoAuto_NoDefault_NoBuilder") called at t/01_auto_default.t line 143
You are overwriting a reader (rel_pack) for the rel_pack attribute (defined at t/01_auto_default.t line 20) with a new reader method for the rel_pack attribute (defined at t/01_auto_default.t line 20) at /home/njh/perl5/perlbrew/perls/perl-5.24.1/lib/site_perl/5.24.1/armv7l-linux-thread-multi/Moose/Meta/Attribute.pm line 1096.
	Moose::Meta::Attribute::_process_accessors(Moose::Meta::Attribute=HASH(0x1aa33d0), "reader", "rel_pack", undef) called at /home/njh/perl5/perlbrew/perls/perl-5.24.1/lib/site_perl/5.24.1/armv7l-linux-thread-multi/Class/MOP/Attribute.pm line 450
	Class::MOP::Attribute::install_accessors(Moose::Meta::Attribute=HASH(0x1aa33d0)) called at /home/njh/perl5/perlbrew/perls/perl-5.24.1/lib/site_perl/5.24.1/armv7l-linux-thread-multi/Moose/Meta/Attribute.pm line 1016
	Moose::Meta::Attribute::install_accessors(Moose::Meta::Attribute=HASH(0x1aa33d0)) called at /mnt/nas/home/pi2/njh/.cpan/build/MooseX-RelClassTypes-0.03-1/blib/lib/MooseX/RelClassTypes.pm line 76
	Class::MOP::Class:::before("TestAD::NoAuto_NoDefault_WithBuilder") called at /home/njh/perl5/perlbrew/perls/perl-5.24.1/lib/site_perl/5.24.1/armv7l-linux-thread-multi/Class/MOP/Method/Wrapped.pm line 43
	TestAD::NoAuto_NoDefault_WithBuilder::_wrapped_BUILDARGS("TestAD::NoAuto_NoDefault_WithBuilder") called at /home/njh/perl5/perlbrew/perls/perl-5.24.1/lib/site_perl/5.24.1/armv7l-linux-thread-multi/Class/MOP/Method/Wrapped.pm line 95
	TestAD::NoAuto_NoDefault_WithBuilder::BUILDARGS("TestAD::NoAuto_NoDefault_WithBuilder") called at /home/njh/perl5/perlbrew/perls/perl-5.24.1/lib/site_perl/5.24.1/armv7l-linux-thread-multi/Moose/Object.pm line 22
	Moose::Object::new("TestAD::NoAuto_NoDefault_WithBuilder") called at t/01_auto_default.t line 143
You are overwriting a reader (rel_pack) for the rel_pack attribute (defined at t/01_auto_default.t line 71) with a new reader method for the rel_pack attribute (defined at t/01_auto_default.t line 71) at /home/njh/perl5/perlbrew/perls/perl-5.24.1/lib/site_perl/5.24.1/armv7l-linux-thread-multi/Moose/Meta/Attribute.pm line 1096.
	Moose::Meta::Attribute::_process_accessors(Moose::Meta::Attribute=HASH(0x1ab9730), "reader", "rel_pack", undef) called at /home/njh/perl5/perlbrew/perls/perl-5.24.1/lib/site_perl/5.24.1/armv7l-linux-thread-multi/Class/MOP/Attribute.pm line 450
	Class::MOP::Attribute::install_accessors(Moose::Meta::Attribute=HASH(0x1ab9730)) called at /home/njh/perl5/perlbrew/perls/perl-5.24.1/lib/site_perl/5.24.1/armv7l-linux-thread-multi/Moose/Meta/Attribute.pm line 1016
	Moose::Meta::Attribute::install_accessors(Moose::Meta::Attribute=HASH(0x1ab9730)) called at /mnt/nas/home/pi2/njh/.cpan/build/MooseX-RelClassTypes-0.03-1/blib/lib/MooseX/RelClassTypes.pm line 76
	Class::MOP::Class:::before("TestAD::WithAuto_WithDefault_NoBuilder") called at /home/njh/perl5/perlbrew/perls/perl-5.24.1/lib/site_perl/5.24.1/armv7l-linux-thread-multi/Class/MOP/Method/Wrapped.pm line 43
	TestAD::WithAuto_WithDefault_NoBuilder::_wrapped_BUILDARGS("TestAD::WithAuto_WithDefault_NoBuilder") called at /home/njh/perl5/perlbrew/perls/perl-5.24.1/lib/site_perl/5.24.1/armv7l-linux-thread-multi/Class/MOP/Method/Wrapped.pm line 95
	TestAD::WithAuto_WithDefault_NoBuilder::BUILDARGS("TestAD::WithAuto_WithDefault_NoBuilder") called at /home/njh/perl5/perlbrew/perls/perl-5.24.1/lib/site_perl/5.24.1/armv7l-linux-thread-multi/Moose/Object.pm line 22
	Moose::Object::new("TestAD::WithAuto_WithDefault_NoBuilder") called at t/01_auto_default.t line 143
t/01_auto_default.t .. ok
You are overwriting a accessor (parent_rel_pack) for the parent_rel_pack attribute (defined at t/03_lazy.t line 66) with a new accessor method for the parent_rel_pack attribute (defined at t/03_lazy.t line 66) at /home/njh/perl5/perlbrew/perls/perl-5.24.1/lib/site_perl/5.24.1/armv7l-linux-thread-multi/Moose/Meta/Attribute.pm line 1096.
	Moose::Meta::Attribute::_process_accessors(Moose::Meta::Attribute=HASH(0x1efe230), "accessor", "parent_rel_pack", undef) called at /home/njh/perl5/perlbrew/perls/perl-5.24.1/lib/site_perl/5.24.1/armv7l-linux-thread-multi/Class/MOP/Attribute.pm line 446
	Class::MOP::Attribute::install_accessors(Moose::Meta::Attribute=HASH(0x1efe230)) called at /home/njh/perl5/perlbrew/perls/perl-5.24.1/lib/site_perl/5.24.1/armv7l-linux-thread-multi/Moose/Meta/Attribute.pm line 1016
	Moose::Meta::Attribute::install_accessors(Moose::Meta::Attribute=HASH(0x1efe230)) called at /mnt/nas/home/pi2/njh/.cpan/build/MooseX-RelClassTypes-0.03-1/blib/lib/MooseX/RelClassTypes.pm line 76
	Class::MOP::Class:::before("LazyChild::Child") called at /home/njh/perl5/perlbrew/perls/perl-5.24.1/lib/site_perl/5.24.1/armv7l-linux-thread-multi/Class/MOP/Method/Wrapped.pm line 43
	LazyChild::Child::_wrapped_BUILDARGS("LazyChild::Child") called at /home/njh/perl5/perlbrew/perls/perl-5.24.1/lib/site_perl/5.24.1/armv7l-linux-thread-multi/Class/MOP/Method/Wrapped.pm line 95
	LazyChild::Child::BUILDARGS("LazyChild::Child") called at /home/njh/perl5/perlbrew/perls/perl-5.24.1/lib/site_perl/5.24.1/armv7l-linux-thread-multi/Moose/Object.pm line 22
	Moose::Object::new("LazyChild::Child") called at t/03_lazy.t line 248
You are overwriting a accessor (child_rel_pack) for the child_rel_pack attribute (defined at t/03_lazy.t line 86) with a new accessor method for the child_rel_pack attribute (defined at t/03_lazy.t line 86) at /home/njh/perl5/perlbrew/perls/perl-5.24.1/lib/site_perl/5.24.1/armv7l-linux-thread-multi/Moose/Meta/Attribute.pm line 1096.
	Moose::Meta::Attribute::_process_accessors(Moose::Meta::Attribute=HASH(0x1f03f00), "accessor", "child_rel_pack", undef) called at /home/njh/perl5/perlbrew/perls/perl-5.24.1/lib/site_perl/5.24.1/armv7l-linux-thread-multi/Class/MOP/Attribute.pm line 446
	Class::MOP::Attribute::install_accessors(Moose::Meta::Attribute=HASH(0x1f03f00)) called at /home/njh/perl5/perlbrew/perls/perl-5.24.1/lib/site_perl/5.24.1/armv7l-linux-thread-multi/Moose/Meta/Attribute.pm line 1016
	Moose::Meta::Attribute::install_accessors(Moose::Meta::Attribute=HASH(0x1f03f00)) called at /mnt/nas/home/pi2/njh/.cpan/build/MooseX-RelClassTypes-0.03-1/blib/lib/MooseX/RelClassTypes.pm line 76
	Class::MOP::Class:::before("LazyChild::Child") called at /home/njh/perl5/perlbrew/perls/perl-5.24.1/lib/site_perl/5.24.1/armv7l-linux-thread-multi/Class/MOP/Method/Wrapped.pm line 43
	LazyChild::Child::_wrapped_BUILDARGS("LazyChild::Child") called at /home/njh/perl5/perlbrew/perls/perl-5.24.1/lib/site_perl/5.24.1/armv7l-linux-thread-multi/Class/MOP/Method/Wrapped.pm line 95
	LazyChild::Child::BUILDARGS("LazyChild::Child") called at /home/njh/perl5/perlbrew/perls/perl-5.24.1/lib/site_perl/5.24.1/armv7l-linux-thread-multi/Moose/Object.pm line 22
	Moose::Object::new("LazyChild::Child") called at t/03_lazy.t line 248
You are overwriting a accessor (parent_rel_pack) for the parent_rel_pack attribute (defined at t/03_lazy.t line 66) with a new accessor method for the parent_rel_pack attribute (defined at t/03_lazy.t line 66) at /home/njh/perl5/perlbrew/perls/perl-5.24.1/lib/site_perl/5.24.1/armv7l-linux-thread-multi/Moose/Meta/Attribute.pm line 1096.
	Moose::Meta::Attribute::_process_accessors(Moose::Meta::Attribute=HASH(0x1efe230), "accessor", "parent_rel_pack", undef) called at /home/njh/perl5/perlbrew/perls/perl-5.24.1/lib/site_perl/5.24.1/armv7l-linux-thread-multi/Class/MOP/Attribute.pm line 446
	Class::MOP::Attribute::install_accessors(Moose::Meta::Attribute=HASH(0x1efe230)) called at /home/njh/perl5/perlbrew/perls/perl-5.24.1/lib/site_perl/5.24.1/armv7l-linux-thread-multi/Moose/Meta/Attribute.pm line 1016
	Moose::Meta::Attribute::install_accessors(Moose::Meta::Attribute=HASH(0x1efe230)) called at /mnt/nas/home/pi2/njh/.cpan/build/MooseX-RelClassTypes-0.03-1/blib/lib/MooseX/RelClassTypes.pm line 76
	Class::MOP::Class:::before("LazyChild::Child") called at /home/njh/perl5/perlbrew/perls/perl-5.24.1/lib/site_perl/5.24.1/armv7l-linux-thread-multi/Class/MOP/Method/Wrapped.pm line 43
	LazyChild::Parent::_wrapped_BUILDARGS("LazyChild::Child") called at /home/njh/perl5/perlbrew/perls/perl-5.24.1/lib/site_perl/5.24.1/armv7l-linux-thread-multi/Class/MOP/Method/Wrapped.pm line 95
	LazyChild::Parent::BUILDARGS("LazyChild::Child") called at /home/njh/perl5/perlbrew/perls/perl-5.24.1/lib/site_perl/5.24.1/armv7l-linux-thread-multi/Class/MOP/Method/Wrapped.pm line 44
	LazyChild::Child::_wrapped_BUILDARGS("LazyChild::Child") called at /home/njh/perl5/perlbrew/perls/perl-5.24.1/lib/site_perl/5.24.1/armv7l-linux-thread-multi/Class/MOP/Method/Wrapped.pm line 95
	LazyChild::Child::BUILDARGS("LazyChild::Child") called at /home/njh/perl5/perlbrew/perls/perl-5.24.1/lib/site_perl/5.24.1/armv7l-linux-thread-multi/Moose/Object.pm line 22
	Moose::Object::new("LazyChild::Child") called at t/03_lazy.t line 248
You are overwriting a accessor (child_rel_pack) for the child_rel_pack attribute (defined at t/03_lazy.t line 86) with a new accessor method for the child_rel_pack attribute (defined at t/03_lazy.t line 86) at /home/njh/perl5/perlbrew/perls/perl-5.24.1/lib/site_perl/5.24.1/armv7l-linux-thread-multi/Moose/Meta/Attribute.pm line 1096.
	Moose::Meta::Attribute::_process_accessors(Moose::Meta::Attribute=HASH(0x1f03f00), "accessor", "child_rel_pack", undef) called at /home/njh/perl5/perlbrew/perls/perl-5.24.1/lib/site_perl/5.24.1/armv7l-linux-thread-multi/Class/MOP/Attribute.pm line 446
	Class::MOP::Attribute::install_accessors(Moose::Meta::Attribute=HASH(0x1f03f00)) called at /home/njh/perl5/perlbrew/perls/perl-5.24.1/lib/site_perl/5.24.1/armv7l-linux-thread-multi/Moose/Meta/Attribute.pm line 1016
	Moose::Meta::Attribute::install_accessors(Moose::Meta::Attribute=HASH(0x1f03f00)) called at /mnt/nas/home/pi2/njh/.cpan/build/MooseX-RelClassTypes-0.03-1/blib/lib/MooseX/RelClassTypes.pm line 76
	Class::MOP::Class:::before("LazyChild::Child") called at /home/njh/perl5/perlbrew/perls/perl-5.24.1/lib/site_perl/5.24.1/armv7l-linux-thread-multi/Class/MOP/Method/Wrapped.pm line 43
	LazyChild::Parent::_wrapped_BUILDARGS("LazyChild::Child") called at /home/njh/perl5/perlbrew/perls/perl-5.24.1/lib/site_perl/5.24.1/armv7l-linux-thread-multi/Class/MOP/Method/Wrapped.pm line 95
	LazyChild::Parent::BUILDARGS("LazyChild::Child") called at /home/njh/perl5/perlbrew/perls/perl-5.24.1/lib/site_perl/5.24.1/armv7l-linux-thread-multi/Class/MOP/Method/Wrapped.pm line 44
	LazyChild::Child::_wrapped_BUILDARGS("LazyChild::Child") called at /home/njh/perl5/perlbrew/perls/perl-5.24.1/lib/site_perl/5.24.1/armv7l-linux-thread-multi/Class/MOP/Method/Wrapped.pm line 95
	LazyChild::Child::BUILDARGS("LazyChild::Child") called at /home/njh/perl5/perlbrew/perls/perl-5.24.1/lib/site_perl/5.24.1/armv7l-linux-thread-multi/Moose/Object.pm line 22
	Moose::Object::new("LazyChild::Child") called at t/03_lazy.t line 248
You are overwriting a accessor (parent_rel_pack) for the parent_rel_pack attribute (defined at t/03_lazy.t line 117) with a new accessor method for the parent_rel_pack attribute (defined at t/03_lazy.t line 117) at /home/njh/perl5/perlbrew/perls/perl-5.24.1/lib/site_perl/5.24.1/armv7l-linux-thread-multi/Moose/Meta/Attribute.pm line 1096.
	Moose::Meta::Attribute::_process_accessors(Moose::Meta::Attribute=HASH(0x1f0f698), "accessor", "parent_rel_pack", undef) called at /home/njh/perl5/perlbrew/perls/perl-5.24.1/lib/site_perl/5.24.1/armv7l-linux-thread-multi/Class/MOP/Attribute.pm line 446
	Class::MOP::Attribute::install_accessors(Moose::Meta::Attribute=HASH(0x1f0f698)) called at /home/njh/perl5/perlbrew/perls/perl-5.24.1/lib/site_perl/5.24.1/armv7l-linux-thread-multi/Moose/Meta/Attribute.pm line 1016
	Moose::Meta::Attribute::install_accessors(Moose::Meta::Attribute=HASH(0x1f0f698)) called at /mnt/nas/home/pi2/njh/.cpan/build/MooseX-RelClassTypes-0.03-1/blib/lib/MooseX/RelClassTypes.pm line 76
	Class::MOP::Class:::before("LazyParam::Child") called at /home/njh/perl5/perlbrew/perls/perl-5.24.1/lib/site_perl/5.24.1/armv7l-linux-thread-multi/Class/MOP/Method/Wrapped.pm line 43
	LazyParam::Child::_wrapped_BUILDARGS("LazyParam::Child") called at /home/njh/perl5/perlbrew/perls/perl-5.24.1/lib/site_perl/5.24.1/armv7l-linux-thread-multi/Class/MOP/Method/Wrapped.pm line 95
	LazyParam::Child::BUILDARGS("LazyParam::Child") called at /home/njh/perl5/perlbrew/perls/perl-5.24.1/lib/site_perl/5.24.1/armv7l-linux-thread-multi/Moose/Object.pm line 22
	Moose::Object::new("LazyParam::Child") called at t/03_lazy.t line 248
You are overwriting a accessor (child_rel_pack) for the child_rel_pack attribute (defined at t/03_lazy.t line 129) with a new accessor method for the child_rel_pack attribute (defined at t/03_lazy.t line 129) at /home/njh/perl5/perlbrew/perls/perl-5.24.1/lib/site_perl/5.24.1/armv7l-linux-thread-multi/Moose/Meta/Attribute.pm line 1096.
	Moose::Meta::Attribute::_process_accessors(Moose::Meta::Attribute=HASH(0x1f14330), "accessor", "child_rel_pack", undef) called at /home/njh/perl5/perlbrew/perls/perl-5.24.1/lib/site_perl/5.24.1/armv7l-linux-thread-multi/Class/MOP/Attribute.pm line 446
	Class::MOP::Attribute::install_accessors(Moose::Meta::Attribute=HASH(0x1f14330)) called at /home/njh/perl5/perlbrew/perls/perl-5.24.1/lib/site_perl/5.24.1/armv7l-linux-thread-multi/Moose/Meta/Attribute.pm line 1016
	Moose::Meta::Attribute::install_accessors(Moose::Meta::Attribute=HASH(0x1f14330)) called at /mnt/nas/home/pi2/njh/.cpan/build/MooseX-RelClassTypes-0.03-1/blib/lib/MooseX/RelClassTypes.pm line 76
	Class::MOP::Class:::before("LazyParam::Child") called at /home/njh/perl5/perlbrew/perls/perl-5.24.1/lib/site_perl/5.24.1/armv7l-linux-thread-multi/Class/MOP/Method/Wrapped.pm line 43
	LazyParam::Child::_wrapped_BUILDARGS("LazyParam::Child") called at /home/njh/perl5/perlbrew/perls/perl-5.24.1/lib/site_perl/5.24.1/armv7l-linux-thread-multi/Class/MOP/Method/Wrapped.pm line 95
	LazyParam::Child::BUILDARGS("LazyParam::Child") called at /home/njh/perl5/perlbrew/perls/perl-5.24.1/lib/site_perl/5.24.1/armv7l-linux-thread-multi/Moose/Object.pm line 22
	Moose::Object::new("LazyParam::Child") called at t/03_lazy.t line 248
You are overwriting a accessor (parent_rel_pack) for the parent_rel_pack attribute (defined at t/03_lazy.t line 117) with a new accessor method for the parent_rel_pack attribute (defined at t/03_lazy.t line 117) at /home/njh/perl5/perlbrew/perls/perl-5.24.1/lib/site_perl/5.24.1/armv7l-linux-thread-multi/Moose/Meta/Attribute.pm line 1096.
	Moose::Meta::Attribute::_process_accessors(Moose::Meta::Attribute=HASH(0x1f0f698), "accessor", "parent_rel_pack", undef) called at /home/njh/perl5/perlbrew/perls/perl-5.24.1/lib/site_perl/5.24.1/armv7l-linux-thread-multi/Class/MOP/Attribute.pm line 446
	Class::MOP::Attribute::install_accessors(Moose::Meta::Attribute=HASH(0x1f0f698)) called at /home/njh/perl5/perlbrew/perls/perl-5.24.1/lib/site_perl/5.24.1/armv7l-linux-thread-multi/Moose/Meta/Attribute.pm line 1016
	Moose::Meta::Attribute::install_accessors(Moose::Meta::Attribute=HASH(0x1f0f698)) called at /mnt/nas/home/pi2/njh/.cpan/build/MooseX-RelClassTypes-0.03-1/blib/lib/MooseX/RelClassTypes.pm line 76
	Class::MOP::Class:::before("LazyParam::Child") called at /home/njh/perl5/perlbrew/perls/perl-5.24.1/lib/site_perl/5.24.1/armv7l-linux-thread-multi/Class/MOP/Method/Wrapped.pm line 43
	LazyParam::Parent::_wrapped_BUILDARGS("LazyParam::Child") called at /home/njh/perl5/perlbrew/perls/perl-5.24.1/lib/site_perl/5.24.1/armv7l-linux-thread-multi/Class/MOP/Method/Wrapped.pm line 95
	LazyParam::Parent::BUILDARGS("LazyParam::Child") called at /home/njh/perl5/perlbrew/perls/perl-5.24.1/lib/site_perl/5.24.1/armv7l-linux-thread-multi/Class/MOP/Method/Wrapped.pm line 44
	LazyParam::Child::_wrapped_BUILDARGS("LazyParam::Child") called at /home/njh/perl5/perlbrew/perls/perl-5.24.1/lib/site_perl/5.24.1/armv7l-linux-thread-multi/Class/MOP/Method/Wrapped.pm line 95
	LazyParam::Child::BUILDARGS("LazyParam::Child") called at /home/njh/perl5/perlbrew/perls/perl-5.24.1/lib/site_perl/5.24.1/armv7l-linux-thread-multi/Moose/Object.pm line 22
	Moose::Object::new("LazyParam::Child") called at t/03_lazy.t line 248
You are overwriting a accessor (child_rel_pack) for the child_rel_pack attribute (defined at t/03_lazy.t line 129) with a new accessor method for the child_rel_pack attribute (defined at t/03_lazy.t line 129) at /home/njh/perl5/perlbrew/perls/perl-5.24.1/lib/site_perl/5.24.1/armv7l-linux-thread-multi/Moose/Meta/Attribute.pm line 1096.
	Moose::Meta::Attribute::_process_accessors(Moose::Meta::Attribute=HASH(0x1f14330), "accessor", "child_rel_pack", undef) called at /home/njh/perl5/perlbrew/perls/perl-5.24.1/lib/site_perl/5.24.1/armv7l-linux-thread-multi/Class/MOP/Attribute.pm line 446
	Class::MOP::Attribute::install_accessors(Moose::Meta::Attribute=HASH(0x1f14330)) called at /home/njh/perl5/perlbrew/perls/perl-5.24.1/lib/site_perl/5.24.1/armv7l-linux-thread-multi/Moose/Meta/Attribute.pm line 1016
	Moose::Meta::Attribute::install_accessors(Moose::Meta::Attribute=HASH(0x1f14330)) called at /mnt/nas/home/pi2/njh/.cpan/build/MooseX-RelClassTypes-0.03-1/blib/lib/MooseX/RelClassTypes.pm line 76
	Class::MOP::Class:::before("LazyParam::Child") called at /home/njh/perl5/perlbrew/perls/perl-5.24.1/lib/site_perl/5.24.1/armv7l-linux-thread-multi/Class/MOP/Method/Wrapped.pm line 43
	LazyParam::Parent::_wrapped_BUILDARGS("LazyParam::Child") called at /home/njh/perl5/perlbrew/perls/perl-5.24.1/lib/site_perl/5.24.1/armv7l-linux-thread-multi/Class/MOP/Method/Wrapped.pm line 95
	LazyParam::Parent::BUILDARGS("LazyParam::Child") called at /home/njh/perl5/perlbrew/perls/perl-5.24.1/lib/site_perl/5.24.1/armv7l-linux-thread-multi/Class/MOP/Method/Wrapped.pm line 44
	LazyParam::Child::_wrapped_BUILDARGS("LazyParam::Child") called at /home/njh/perl5/perlbrew/perls/perl-5.24.1/lib/site_perl/5.24.1/armv7l-linux-thread-multi/Class/MOP/Method/Wrapped.pm line 95
	LazyParam::Child::BUILDARGS("LazyParam::Child") called at /home/njh/perl5/perlbrew/perls/perl-5.24.1/lib/site_perl/5.24.1/armv7l-linux-thread-multi/Moose/Object.pm line 22
	Moose::Object::new("LazyParam::Child") called at t/03_lazy.t line 248
You are overwriting a accessor (parent_rel_pack) for the parent_rel_pack attribute (defined at t/03_lazy.t line 177) with a new accessor method for the parent_rel_pack attribute (defined at t/03_lazy.t line 177) at /home/njh/perl5/perlbrew/perls/perl-5.24.1/lib/site_perl/5.24.1/armv7l-linux-thread-multi/Moose/Meta/Attribute.pm line 1096.
	Moose::Meta::Attribute::_process_accessors(Moose::Meta::Attribute=HASH(0x1f21250), "accessor", "parent_rel_pack", undef) called at /home/njh/perl5/perlbrew/perls/perl-5.24.1/lib/site_perl/5.24.1/armv7l-linux-thread-multi/Class/MOP/Attribute.pm line 446
	Class::MOP::Attribute::install_accessors(Moose::Meta::Attribute=HASH(0x1f21250)) called at /home/njh/perl5/perlbrew/perls/perl-5.24.1/lib/site_perl/5.24.1/armv7l-linux-thread-multi/Moose/Meta/Attribute.pm line 1016
	Moose::Meta::Attribute::install_accessors(Moose::Meta::Attribute=HASH(0x1f21250)) called at /mnt/nas/home/pi2/njh/.cpan/build/MooseX-RelClassTypes-0.03-1/blib/lib/MooseX/RelClassTypes.pm line 76
	Class::MOP::Class:::before("LazyAll::Child") called at /home/njh/perl5/perlbrew/perls/perl-5.24.1/lib/site_perl/5.24.1/armv7l-linux-thread-multi/Class/MOP/Method/Wrapped.pm line 43
	LazyAll::Child::_wrapped_BUILDARGS("LazyAll::Child") called at /home/njh/perl5/perlbrew/perls/perl-5.24.1/lib/site_perl/5.24.1/armv7l-linux-thread-multi/Class/MOP/Method/Wrapped.pm line 95
	LazyAll::Child::BUILDARGS("LazyAll::Child") called at /home/njh/perl5/perlbrew/perls/perl-5.24.1/lib/site_perl/5.24.1/armv7l-linux-thread-multi/Moose/Object.pm line 22
	Moose::Object::new("LazyAll::Child") called at t/03_lazy.t line 248
You are overwriting a accessor (child_rel_pack) for the child_rel_pack attribute (defined at t/03_lazy.t line 194) with a new accessor method for the child_rel_pack attribute (defined at t/03_lazy.t line 194) at /home/njh/perl5/perlbrew/perls/perl-5.24.1/lib/site_perl/5.24.1/armv7l-linux-thread-multi/Moose/Meta/Attribute.pm line 1096.
	Moose::Meta::Attribute::_process_accessors(Moose::Meta::Attribute=HASH(0x1f2df48), "accessor", "child_rel_pack", undef) called at /home/njh/perl5/perlbrew/perls/perl-5.24.1/lib/site_perl/5.24.1/armv7l-linux-thread-multi/Class/MOP/Attribute.pm line 446
	Class::MOP::Attribute::install_accessors(Moose::Meta::Attribute=HASH(0x1f2df48)) called at /home/njh/perl5/perlbrew/perls/perl-5.24.1/lib/site_perl/5.24.1/armv7l-linux-thread-multi/Moose/Meta/Attribute.pm line 1016
	Moose::Meta::Attribute::install_accessors(Moose::Meta::Attribute=HASH(0x1f2df48)) called at /mnt/nas/home/pi2/njh/.cpan/build/MooseX-RelClassTypes-0.03-1/blib/lib/MooseX/RelClassTypes.pm line 76
	Class::MOP::Class:::before("LazyAll::Child") called at /home/njh/perl5/perlbrew/perls/perl-5.24.1/lib/site_perl/5.24.1/armv7l-linux-thread-multi/Class/MOP/Method/Wrapped.pm line 43
	LazyAll::Child::_wrapped_BUILDARGS("LazyAll::Child") called at /home/njh/perl5/perlbrew/perls/perl-5.24.1/lib/site_perl/5.24.1/armv7l-linux-thread-multi/Class/MOP/Method/Wrapped.pm line 95
	LazyAll::Child::BUILDARGS("LazyAll::Child") called at /home/njh/perl5/perlbrew/perls/perl-5.24.1/lib/site_perl/5.24.1/armv7l-linux-thread-multi/Moose/Object.pm line 22
	Moose::Object::new("LazyAll::Child") called at t/03_lazy.t line 248
You are overwriting a accessor (parent_rel_pack) for the parent_rel_pack attribute (defined at t/03_lazy.t line 177) with a new accessor method for the parent_rel_pack attribute (defined at t/03_lazy.t line 177) at /home/njh/perl5/perlbrew/perls/perl-5.24.1/lib/site_perl/5.24.1/armv7l-linux-thread-multi/Moose/Meta/Attribute.pm line 1096.
	Moose::Meta::Attribute::_process_accessors(Moose::Meta::Attribute=HASH(0x1f21250), "accessor", "parent_rel_pack", undef) called at /home/njh/perl5/perlbrew/perls/perl-5.24.1/lib/site_perl/5.24.1/armv7l-linux-thread-multi/Class/MOP/Attribute.pm line 446
	Class::MOP::Attribute::install_accessors(Moose::Meta::Attribute=HASH(0x1f21250)) called at /home/njh/perl5/perlbrew/perls/perl-5.24.1/lib/site_perl/5.24.1/armv7l-linux-thread-multi/Moose/Meta/Attribute.pm line 1016
	Moose::Meta::Attribute::install_accessors(Moose::Meta::Attribute=HASH(0x1f21250)) called at /mnt/nas/home/pi2/njh/.cpan/build/MooseX-RelClassTypes-0.03-1/blib/lib/MooseX/RelClassTypes.pm line 76
	Class::MOP::Class:::before("LazyAll::Child") called at /home/njh/perl5/perlbrew/perls/perl-5.24.1/lib/site_perl/5.24.1/armv7l-linux-thread-multi/Class/MOP/Method/Wrapped.pm line 43
	LazyAll::Parent::_wrapped_BUILDARGS("LazyAll::Child") called at /home/njh/perl5/perlbrew/perls/perl-5.24.1/lib/site_perl/5.24.1/armv7l-linux-thread-multi/Class/MOP/Method/Wrapped.pm line 95
	LazyAll::Parent::BUILDARGS("LazyAll::Child") called at /home/njh/perl5/perlbrew/perls/perl-5.24.1/lib/site_perl/5.24.1/armv7l-linux-thread-multi/Class/MOP/Method/Wrapped.pm line 44
	LazyAll::Child::_wrapped_BUILDARGS("LazyAll::Child") called at /home/njh/perl5/perlbrew/perls/perl-5.24.1/lib/site_perl/5.24.1/armv7l-linux-thread-multi/Class/MOP/Method/Wrapped.pm line 95
	LazyAll::Child::BUILDARGS("LazyAll::Child") called at /home/njh/perl5/perlbrew/perls/perl-5.24.1/lib/site_perl/5.24.1/armv7l-linux-thread-multi/Moose/Object.pm line 22
	Moose::Object::new("LazyAll::Child") called at t/03_lazy.t line 248
You are overwriting a accessor (child_rel_pack) for the child_rel_pack attribute (defined at t/03_lazy.t line 194) with a new accessor method for the child_rel_pack attribute (defined at t/03_lazy.t line 194) at /home/njh/perl5/perlbrew/perls/perl-5.24.1/lib/site_perl/5.24.1/armv7l-linux-thread-multi/Moose/Meta/Attribute.pm line 1096.
	Moose::Meta::Attribute::_process_accessors(Moose::Meta::Attribute=HASH(0x1f2df48), "accessor", "child_rel_pack", undef) called at /home/njh/perl5/perlbrew/perls/perl-5.24.1/lib/site_perl/5.24.1/armv7l-linux-thread-multi/Class/MOP/Attribute.pm line 446
	Class::MOP::Attribute::install_accessors(Moose::Meta::Attribute=HASH(0x1f2df48)) called at /home/njh/perl5/perlbrew/perls/perl-5.24.1/lib/site_perl/5.24.1/armv7l-linux-thread-multi/Moose/Meta/Attribute.pm line 1016
	Moose::Meta::Attribute::install_accessors(Moose::Meta::Attribute=HASH(0x1f2df48)) called at /mnt/nas/home/pi2/njh/.cpan/build/MooseX-RelClassTypes-0.03-1/blib/lib/MooseX/RelClassTypes.pm line 76
	Class::MOP::Class:::before("LazyAll::Child") called at /home/njh/perl5/perlbrew/perls/perl-5.24.1/lib/site_perl/5.24.1/armv7l-linux-thread-multi/Class/MOP/Method/Wrapped.pm line 43
	LazyAll::Parent::_wrapped_BUILDARGS("LazyAll::Child") called at /home/njh/perl5/perlbrew/perls/perl-5.24.1/lib/site_perl/5.24.1/armv7l-linux-thread-multi/Class/MOP/Method/Wrapped.pm line 95
	LazyAll::Parent::BUILDARGS("LazyAll::Child") called at /home/njh/perl5/perlbrew/perls/perl-5.24.1/lib/site_perl/5.24.1/armv7l-linux-thread-multi/Class/MOP/Method/Wrapped.pm line 44
	LazyAll::Child::_wrapped_BUILDARGS("LazyAll::Child") called at /home/njh/perl5/perlbrew/perls/perl-5.24.1/lib/site_perl/5.24.1/armv7l-linux-thread-multi/Class/MOP/Method/Wrapped.pm line 95
	LazyAll::Child::BUILDARGS("LazyAll::Child") called at /home/njh/perl5/perlbrew/perls/perl-5.24.1/lib/site_perl/5.24.1/armv7l-linux-thread-multi/Moose/Object.pm line 22
	Moose::Object::new("LazyAll::Child") called at t/03_lazy.t line 248
t/03_lazy.t .......... ok
All tests successful.
Files=4, Tests=56,  6 wallclock secs ( 0.21 usr  0.10 sys + 12.95 cusr  2.54 csys = 15.80 CPU)
Result: PASS

------------------------------
PREREQUISITES
------------------------------

Prerequisite modules loaded:

requires:

    Module                      Need Have    
    --------------------------- ---- --------
    Carp                        0    1.40    
    Clone                       0    0.39    
    Module::Runtime             0    0.014   
    Moose                       0    2.2005  
    MooseX::Role::Parameterized 0    1.10    

build_requires:

    Module                      Need Have    
    --------------------------- ---- --------
    ExtUtils::MakeMaker         0    7.30    
    Test::More                  0    1.302136

configure_requires:

    Module                      Need Have    
    --------------------------- ---- --------
    ExtUtils::MakeMaker         0    7.30    


------------------------------
ENVIRONMENT AND OTHER CONTEXT
------------------------------

Environment variables:

    AUTOMATED_TESTING = 1
    HARNESS_OPTIONS = j4
    LANG = en_GB.UTF-8
    PATH = /home/njh/perl5/perlbrew/bin:/home/njh/perl5/perlbrew/perls/perl-5.24.1/bin:src/njh/smoker/bin:/usr/bin:/bin
    PERL5LIB = /home/njh/.cpan/build/Log-ger-Manual-0.023.001-1/blib/arch:/home/njh/.cpan/build/Log-ger-Manual-0.023.001-1/blib/lib:/home/njh/.cpan/build/ExtUtils-ModuleMaker-0.57-1/blib/arch:/home/njh/.cpan/build/ExtUtils-ModuleMaker-0.57-1/blib/lib:/home/njh/.cpan/build/File-Path-2.15-1/blib/arch:/home/njh/.cpan/build/File-Path-2.15-1/blib/lib:/home/njh/.cpan/build/File-Copy-Recursive-Reduced-0.006-3/blib/arch:/home/njh/.cpan/build/File-Copy-Recursive-Reduced-0.006-3/blib/lib
    PERL5OPT = 
    PERL5_CPANPLUS_IS_RUNNING = 11402
    PERL5_CPAN_IS_RUNNING = 11402
    PERLBREW_BASHRC_VERSION = 0.80
    PERLBREW_HOME = /home/njh/.perlbrew
    PERLBREW_MANPATH = /home/njh/perl5/perlbrew/perls/perl-5.24.1/man
    PERLBREW_PATH = /home/njh/perl5/perlbrew/bin:/home/njh/perl5/perlbrew/perls/perl-5.24.1/bin
    PERLBREW_PERL = perl-5.24.1
    PERLBREW_ROOT = /home/njh/perl5/perlbrew
    PERLBREW_VERSION = 0.80
    SHELL = /bin/sh
    TMPDIR = /tmp/testwrapper.11392

Perl special variables (and OS-specific diagnostics, for MSWin32):

    $^X = /mnt/nas/home/pi2/njh/perl5/perlbrew/perls/perl-5.24.1/bin/perl5.24.1
    $UID/$EUID = 1000 / 1000
    $GID = 1000 4 20 24 25 27 29 30 44 46 60 100 101 108 997 998 999 1000
    $EGID = 1000 4 20 24 25 27 29 30 44 46 60 100 101 108 997 998 999 1000

Perl module toolchain versions installed:

    Module              Have      
    ------------------- ----------
    CPAN                2.16      
    CPAN::Meta          2.150005  
    Cwd                 3.63_01   
    ExtUtils::CBuilder  0.280225  
    ExtUtils::Command   7.30      
    ExtUtils::Install   2.06      
    ExtUtils::MakeMaker 7.30      
    ExtUtils::Manifest  1.70      
    ExtUtils::ParseXS   3.31      
    File::Spec          3.63_01   
    JSON                2.94      
    JSON::PP            2.27300_01
    Module::Build       0.4220    
    Module::Signature   n/a       
    Parse::CPAN::Meta   1.4417_001
    Test::Harness       3.36_01   
    Test::More          1.302136  
    YAML                1.24      
    YAML::Syck          1.30      
    version             0.9916    


--

Summary of my perl5 (revision 5 version 24 subversion 1) configuration:
   
  Platform:
    osname=linux, osvers=4.4.38-v7+, archname=armv7l-linux-thread-multi
    uname='linux pi2 4.4.38-v7+ #938 smp thu dec 15 15:22:21 gmt 2016 armv7l gnulinux '
    config_args='-de -Dprefix=/home/njh/perl5/perlbrew/perls/perl-5.24.1 -Duseithreads -Dusemultiplicity -Dusedevel -Accflags= -Aeval:scriptdir=/home/njh/perl5/perlbrew/perls/perl-5.24.1/bin'
    hint=recommended, useposix=true, d_sigaction=define
    useithreads=define, usemultiplicity=define
    use64bitint=undef, use64bitall=undef, uselongdouble=undef
    usemymalloc=n, bincompat5005=undef
  Compiler:
    cc='cc', ccflags ='-D_REENTRANT -D_GNU_SOURCE -fwrapv -fno-strict-aliasing -pipe -fstack-protector-strong -I/usr/local/include -D_LARGEFILE_SOURCE -D_FILE_OFFSET_BITS=64 -D_FORTIFY_SOURCE=2',
    optimize='-O2',
    cppflags='-D_REENTRANT -D_GNU_SOURCE -fwrapv -fno-strict-aliasing -pipe -fstack-protector-strong -I/usr/local/include'
    ccversion='', gccversion='4.9.2', gccosandvers=''
    intsize=4, longsize=4, ptrsize=4, doublesize=8, byteorder=1234, doublekind=3
    d_longlong=define, longlongsize=8, d_longdbl=define, longdblsize=8, longdblkind=0
    ivtype='long', ivsize=4, nvtype='double', nvsize=8, Off_t='off_t', lseeksize=8
    alignbytes=8, prototype=define
  Linker and Libraries:
    ld='cc', ldflags =' -fstack-protector-strong -L/usr/local/lib'
    libpth=/usr/local/lib /usr/lib/gcc/arm-linux-gnueabihf/4.9/include-fixed /usr/include/arm-linux-gnueabihf /usr/lib /lib/arm-linux-gnueabihf /lib /usr/lib/arm-linux-gnueabihf
    libs=-lpthread -lnsl -lgdbm -ldb -ldl -lm -lcrypt -lutil -lc -lgdbm_compat
    perllibs=-lpthread -lnsl -ldl -lm -lcrypt -lutil -lc
    libc=libc-2.19.so, so=so, useshrplib=false, libperl=libperl.a
    gnulibc_version='2.19'
  Dynamic Linking:
    dlsrc=dl_dlopen.xs, dlext=so, d_dlsymun=undef, ccdlflags='-Wl,-E'
    cccdlflags='-fPIC', lddlflags='-shared -O2 -L/usr/local/lib -fstack-protector-strong'


Characteristics of this binary (from libperl): 
  Compile-time options: HAS_TIMES MULTIPLICITY PERLIO_LAYERS
                        PERL_COPY_ON_WRITE PERL_DONT_CREATE_GVSV
                        PERL_HASH_FUNC_ONE_AT_A_TIME_HARD
                        PERL_IMPLICIT_CONTEXT PERL_MALLOC_WRAP
                        PERL_PRESERVE_IVUV PERL_USE_DEVEL USE_ITHREADS
                        USE_LARGE_FILES USE_LOCALE USE_LOCALE_COLLATE
                        USE_LOCALE_CTYPE USE_LOCALE_NUMERIC USE_LOCALE_TIME
                        USE_PERLIO USE_PERL_ATOF USE_REENTRANT_API
  Built under linux
  Compiled at Jan 19 2017 00:40:49
  %ENV:
    PERL5LIB="/home/njh/.cpan/build/Log-ger-Manual-0.023.001-1/blib/arch:/home/njh/.cpan/build/Log-ger-Manual-0.023.001-1/blib/lib:/home/njh/.cpan/build/ExtUtils-ModuleMaker-0.57-1/blib/arch:/home/njh/.cpan/build/ExtUtils-ModuleMaker-0.57-1/blib/lib:/home/njh/.cpan/build/File-Path-2.15-1/blib/arch:/home/njh/.cpan/build/File-Path-2.15-1/blib/lib:/home/njh/.cpan/build/File-Copy-Recursive-Reduced-0.006-3/blib/arch:/home/njh/.cpan/build/File-Copy-Recursive-Reduced-0.006-3/blib/lib"
    PERL5OPT=""
    PERL5_CPANPLUS_IS_RUNNING="11402"
    PERL5_CPAN_IS_RUNNING="11402"
    PERLBREW_BASHRC_VERSION="0.80"
    PERLBREW_HOME="/home/njh/.perlbrew"
    PERLBREW_MANPATH="/home/njh/perl5/perlbrew/perls/perl-5.24.1/man"
    PERLBREW_PATH="/home/njh/perl5/perlbrew/bin:/home/njh/perl5/perlbrew/perls/perl-5.24.1/bin"
    PERLBREW_PERL="perl-5.24.1"
    PERLBREW_ROOT="/home/njh/perl5/perlbrew"
    PERLBREW_VERSION="0.80"
  @INC:
    /home/njh/.cpan/build/Log-ger-Manual-0.023.001-1/blib/arch
    /home/njh/.cpan/build/Log-ger-Manual-0.023.001-1/blib/lib
    /home/njh/.cpan/build/ExtUtils-ModuleMaker-0.57-1/blib/arch
    /home/njh/.cpan/build/ExtUtils-ModuleMaker-0.57-1/blib/lib
    /home/njh/.cpan/build/File-Path-2.15-1/blib/arch
    /home/njh/.cpan/build/File-Path-2.15-1/blib/lib
    /home/njh/.cpan/build/File-Copy-Recursive-Reduced-0.006-3/blib/arch
    /home/njh/.cpan/build/File-Copy-Recursive-Reduced-0.006-3/blib/lib
    /home/njh/perl5/perlbrew/perls/perl-5.24.1/lib/site_perl/5.24.1/armv7l-linux-thread-multi
    /home/njh/perl5/perlbrew/perls/perl-5.24.1/lib/site_perl/5.24.1
    /home/njh/perl5/perlbrew/perls/perl-5.24.1/lib/5.24.1/armv7l-linux-thread-multi
    /home/njh/perl5/perlbrew/perls/perl-5.24.1/lib/5.24.1
    .