Report for Clustericious-1.22

Back
From: metabase:user:31d414ea-2aae-11df-837a-5e0a49663a4f
Subject: PASS Clustericious-1.22 v5.22.0 GNU/Linux
Date: 2016-11-29T18:51:42Z

This distribution has been tested as part of the CPAN Testers
project, supporting the Perl programming language.  See
http://wiki.cpantesters.org/ for more information or email
questions to cpan-testers-discuss@perl.org


--
Dear Graham Ollis,

This is a computer-generated report for Clustericious-1.22
on perl 5.22.0, created by CPAN-Reporter-1.2018.

Thank you for uploading your work to CPAN.  Congratulations!
All tests were successful.

Sections of this report:

    * Tester comments
    * Program output
    * Prerequisites
    * Environment and other context

------------------------------
TESTER COMMENTS
------------------------------

Additional comments from tester:

this report is from an automated smoke testing program
and was not reviewed by a human for accuracy

------------------------------
PROGRAM OUTPUT
------------------------------

Output from '/usr/bin/make test':

Skip blib/lib/auto/share/dist/Clustericious/tmpl/1.08/app/lib/APPCLASS/Routes.pm (unchanged)
Skip blib/lib/auto/share/dist/Clustericious/tmpl/1.08/client/t/01_use.t (unchanged)
Skip blib/lib/auto/share/dist/Clustericious/tmpl/1.08/app/lib/APPCLASS.pm (unchanged)
Skip blib/lib/auto/share/dist/Clustericious/tmpl/1.08/app/Build.PL (unchanged)
Skip blib/lib/auto/share/dist/Clustericious/tmpl/1.08/client/t/02_compile.t (unchanged)
Skip blib/lib/auto/share/dist/Clustericious/tmpl/1.08/client/Build.PL (unchanged)
Skip blib/lib/auto/share/dist/Clustericious/www/1.08/favicon.ico (unchanged)
Skip blib/lib/auto/share/dist/Clustericious/tmpl/1.08/app/t/02_compile.t (unchanged)
Skip blib/lib/auto/share/dist/Clustericious/tmpl/1.08/client/bin/APPNAMEclient (unchanged)
Skip blib/lib/auto/share/dist/Clustericious/tmpl/1.08/client/lib/APPCLASS/Client.pm (unchanged)
Skip blib/lib/auto/share/dist/Clustericious/tmpl/1.08/app/bin/APPNAME (unchanged)
Skip blib/lib/auto/share/dist/Clustericious/tmpl/1.08/app/t/01_use.t (unchanged)
Skip blib/lib/auto/share/dist/Clustericious/tmpl/1.08/app/eg/APPCLASS.conf (unchanged)
Skip blib/lib/auto/share/dist/Clustericious/README.txt (unchanged)
Skip blib/lib/auto/share/dist/Clustericious/tmpl/1.08/app/t/basic.t (unchanged)
"/home/david/cpantesting/perl-5.22.0/bin/perl" run_test.pl
# 
# 
# 
# HARNESS_ACTIVE=1
# HARNESS_VERSION=3.35
# PERL="/home/david/cpantesting/perl-5.22.0/bin/perl"
# PERL5LIB=/home/david/cpantesting/perl-5.22.0/.cpan/build/Clustericious-1.22-CNzDyx/blib/lib:/home/david/cpantesting/perl-5.22.0/.cpan/build/Clustericious-1.22-CNzDyx/blib/arch:/home/david/cpantesting/perl-5.22.0/.cpan/build/Clustericious-1.22-CNzDyx/lib:
# PERL5OPT=
# PERL5_CPANPLUS_IS_RUNNING=11611
# PERL5_CPAN_IS_RUNNING=11611
# PERLVER=5.22.0
# PERL_INLINE_DIRECTORY=/home/david/.Inline-5.22.0
# PERL_MM_USE_DEFAULT=1
# SHELL=/bin/bash
# 
# 
# 
# PERL5LIB path
# /home/david/cpantesting/perl-5.22.0/.cpan/build/Clustericious-1.22-CNzDyx/blib/lib
# /home/david/cpantesting/perl-5.22.0/.cpan/build/Clustericious-1.22-CNzDyx/blib/arch
# /home/david/cpantesting/perl-5.22.0/.cpan/build/Clustericious-1.22-CNzDyx/lib
# 
# 
# 
# perl                         5.022000
# Capture::Tiny                0.44
# Cpanel::JSON::XS             3.0217
# Data::Rmap                   0.65
# DateTime::Format::DateParse  0.05
# DateTime::Format::ISO8601    0.08
# EV                           -
# ExtUtils::MakeMaker          7.24
# File::HomeDir                1.00
# File::ReadBackwards          1.05
# File::ShareDir               1.102
# File::ShareDir::Install      0.11
# File::Which                  1.21
# File::chdir                  0.1010
# Hash::Merge                  0.200
# JSON::MaybeXS                1.003008
Subroutine JSON::PP::Boolean::(0+ redefined at /home/david/cpantesting/perl-5.22.0/lib/5.22.0/overload.pm line 50, <DATA> line 1.
Subroutine JSON::PP::Boolean::(-- redefined at /home/david/cpantesting/perl-5.22.0/lib/5.22.0/overload.pm line 50, <DATA> line 1.
Subroutine JSON::PP::Boolean::(++ redefined at /home/david/cpantesting/perl-5.22.0/lib/5.22.0/overload.pm line 50, <DATA> line 1.
# JSON::PP                     2.27300
# JSON::XS                     3.03
# List::MoreUtils              0.416
# Log::Log4perl                1.48
# Log::Log4perl::Appender::TAP 0.03
# MojoX::Log::Log4perl         0.11
# Mojolicious                  7.10
# Path::Class                  0.37
# PerlX::Maybe                 1.001
# PerlX::Maybe::XS             -
# PlugAuth::Lite               0.33
# Sub::Exporter                0.987
# Sub::Identify                0.12
# Term::Prompt                 1.04
# Test::Clustericious::Cluster 0.33
# Test::More                   1.302067
# Test::Script                 1.14
# Test::Warn                   0.30
# YAML::XS                     0.63
# autodie                      2.26
# 
# 
# 
t/00_diag.t ........................... ok
Subroutine JSON::PP::Boolean::(0+ redefined at /home/david/cpantesting/perl-5.22.0/lib/5.22.0/overload.pm line 50.
Subroutine JSON::PP::Boolean::(++ redefined at /home/david/cpantesting/perl-5.22.0/lib/5.22.0/overload.pm line 50.
Subroutine JSON::PP::Boolean::(-- redefined at /home/david/cpantesting/perl-5.22.0/lib/5.22.0/overload.pm line 50.
t/01_use.t ............................ ok
t/02_compiles.t ....................... ok
Subroutine Mojo::Template::Sandbox::172a4f4fa0499f763a37e9095906cbac::b redefined at /home/david/cpantesting/perl-5.22.0/lib/5.22.0/Exporter.pm line 66.
 at template exception.html.ep from DATA section line 7.
t/app.t ............................... ok
t/app_alt_route_builder.t ............. ok
t/app_auth.t .......................... ok
t/app_auth_websocket.t ................ ok
t/app_bad_config.t .................... ok
t/app_client.t ........................ ok
t/app_crud.t .......................... ok
t/app_multiple.t ...................... ok
t/app_null.t .......................... ok
t/app_null_config.t ................... ok
t/app_plugin_search_order.t ........... ok
t/app_subreq.t ........................ ok
t/client.t ............................ ok
t/client_args.t ....................... ok
t/client_datetime.t ................... ok
t/client_object.t ..................... ok
t/client_object_array.t ............... ok
t/client_object_derived.t ............. ok
t/client_params.t ..................... ok
t/client_user_agent_string.t .......... ok
t/cluster_basic.t ..................... ok
Subroutine Mojo::Template::Sandbox::8bc894b876f288f5bcc4363ff127368c::b redefined at /home/david/cpantesting/perl-5.22.0/lib/5.22.0/Exporter.pm line 66, <DATA> line 1.
 at template exception.html.ep from DATA section line 7.
t/cluster_render_exception.t .......... ok
t/cluster_render_not_found.t .......... ok
t/command_apache.t .................... skipped: developer only test
t/command_configdebug.t ............... ok
t/command_configdump.t ................ ok
t/command_configpath.t ................ ok
t/command_configtest.t ................ ok
t/command_daemon.t .................... ok
t/command_generate.t .................. ok
t/command_hypnotoad.t ................. skipped: developer only test
t/command_lighttpd.t .................. skipped: test leaves processes running
t/command_morbo.t ..................... ok
t/command_nginx.t ..................... skipped: developer only test
t/command_plackup.t ................... skipped: test requires AnyEvent::Open3::Simple and EV
t/command_which.t ..................... ok
t/config_callback.t ................... ok
t/config_colen.t ...................... ok
t/config_config.t ..................... ok
t/config_config_multi.t ............... ok
t/config_data.t ....................... ok
t/config_default.t .................... ok
Subroutine JSON::PP::Boolean::(++ redefined at /home/david/cpantesting/perl-5.22.0/lib/5.22.0/overload.pm line 50.
Subroutine JSON::PP::Boolean::(0+ redefined at /home/david/cpantesting/perl-5.22.0/lib/5.22.0/overload.pm line 50.
Subroutine JSON::PP::Boolean::(-- redefined at /home/david/cpantesting/perl-5.22.0/lib/5.22.0/overload.pm line 50.
t/config_default_start_mode.t ......... ok
Subroutine JSON::PP::Boolean::(0+ redefined at /home/david/cpantesting/perl-5.22.0/lib/5.22.0/overload.pm line 50.
Subroutine JSON::PP::Boolean::(-- redefined at /home/david/cpantesting/perl-5.22.0/lib/5.22.0/overload.pm line 50.
Subroutine JSON::PP::Boolean::(++ redefined at /home/david/cpantesting/perl-5.22.0/lib/5.22.0/overload.pm line 50.
t/config_default_start_mode2.t ........ ok
t/config_helper.t ..................... ok
t/config_helper_get_passwd.t .......... ok
t/config_home.t ....................... ok
t/config_hostname.t ................... ok
t/config_json.t ....................... ok
t/config_namespace.t .................. ok
t/config_pathclass.t .................. ok
t/config_pollute.t .................... ok
t/config_special.t .................... ok
t/config_test_clustericious_config.t .. ok
t/config_with_filename.t .............. ok
t/config_yaml.t ....................... ok
t/config_yaml2.t ...................... ok
t/hello_world.t ....................... ok
t/log.t ............................... ok
t/log_commandline.t ................... ok
t/log_commandline_warning.t ........... ok
t/plugin_autodatahandler.t ............ ok
t/plugin_clustericioushelpers.t ....... ok
t/plugin_commonroutes.t ............... ok
t/plugin_commonroutes_api_table.t ..... skipped: requires Rose::Planter 0.34 and DBD::SQLite:
t/plugin_plugauth.t ................... ok
t/util_default_url.t .................. ok
t/util_dist_dir.t ..................... ok
t/util_generate_port.t ................ ok
t/util_slurp_pid.t .................... ok
t2/test_clustericious_config.t ........ ok
    # ERROR this should not appear
    # ERROR this should
    # ERROR main error
    # FATAL main fatal
    # ERROR main error
    # FATAL main fatal
    # ERROR message1
    # ERROR message2
    # ERROR PLATYPUS-42
    # ERROR PLATYPUS-47
t2/test_clustericious_log.t ........... ok
All tests successful.
Files=75, Tests=605, 56 wallclock secs ( 0.23 usr  0.33 sys + 28.50 cusr  4.97 csys = 34.03 CPU)
Result: PASS

------------------------------
PREREQUISITES
------------------------------

Prerequisite modules loaded:

requires:

    Module                       Need     Have    
    ---------------------------- -------- --------
    autodie                      0        2.26    
    Capture::Tiny                0        0.44    
    Data::Rmap                   0        0.65    
    DateTime::Format::DateParse  0        0.05    
    DateTime::Format::ISO8601    0        0.08    
    File::HomeDir                0.91     1.00    
    File::ReadBackwards          0        1.05    
    File::ShareDir               0        1.102   
    File::Which                  0        1.21    
    Hash::Merge                  0        0.200   
    JSON::MaybeXS                0        1.003008
    List::MoreUtils              0        0.416   
    Log::Log4perl                0        1.48    
    Log::Log4perl::Appender::TAP 0.02     0.03    
    Mojolicious                  6.00     7.10    
    MojoX::Log::Log4perl         0        0.11    
    Path::Class                  0.26     0.37    
    perl                         5.010001 5.022000
    PerlX::Maybe                 0.003    1.001   
    Sub::Exporter                0        0.987   
    Sub::Identify                0.05     0.12    
    Term::Prompt                 0        1.04    
    YAML::XS                     0        0.63    

build_requires:

    Module                       Need     Have    
    ---------------------------- -------- --------
    ExtUtils::MakeMaker          0        7.24    
    File::chdir                  0        0.1010  
    PlugAuth::Lite               0        0.33    
    Test::Clustericious::Cluster 0.31     0.33    
    Test::More                   0.94     1.302067
    Test::Script                 1.10     1.14    
    Test::Warn                   0        0.30    

configure_requires:

    Module                       Need     Have    
    ---------------------------- -------- --------
    ExtUtils::MakeMaker          0        7.24    
    File::ShareDir::Install      0.06     0.11    
    perl                         5.010001 5.022000


------------------------------
ENVIRONMENT AND OTHER CONTEXT
------------------------------

Environment variables:

    AUTOMATED_TESTING = 1
    NONINTERACTIVE_TESTING = 1
    PATH = /usr/local/bin:/usr/bin:/bin:/usr/local/games:/usr/games
    PERL = 5.22.0
    PERL5LIB = 
    PERL5OPT = 
    PERL5_CPANPLUS_IS_RUNNING = 11611
    PERL5_CPAN_IS_RUNNING = 11611
    PERLVER = 5.22.0
    PERL_INLINE_DIRECTORY = /home/david/.Inline-5.22.0
    PERL_MM_USE_DEFAULT = 1
    SHELL = /bin/bash
    TERM = screen

Perl special variables (and OS-specific diagnostics, for MSWin32):

    $^X = /home/david/cpantesting/perl-5.22.0/bin/perl
    $UID/$EUID = 1000 / 1000
    $GID = 1000 1000
    $EGID = 1000 1000

Perl module toolchain versions installed:

    Module              Have    
    ------------------- --------
    CPAN                2.11    
    CPAN::Meta          2.150001
    Cwd                 3.56    
    ExtUtils::CBuilder  0.280221
    ExtUtils::Command   7.24    
    ExtUtils::Install   2.04    
    ExtUtils::MakeMaker 7.24    
    ExtUtils::Manifest  1.70    
    ExtUtils::ParseXS   3.28    
    File::Spec          3.56    
    JSON                2.90    
    JSON::PP            2.27300 
    Module::Build       0.4220  
    Module::Signature   n/a     
    Parse::CPAN::Meta   1.4414  
    Test::Harness       3.35    
    Test::More          1.302067
    YAML                1.18    
    YAML::Syck          n/a     
    version             0.9909  


--

Summary of my perl5 (revision 5 version 22 subversion 0) configuration:
   
  Platform:
    osname=linux, osvers=3.16.0-4-amd64, archname=x86_64-linux-thread-multi
    uname='linux pigsty.barnyard.co.uk 3.16.0-4-amd64 #1 smp debian 3.16.36-1+deb8u1 (2016-09-03) x86_64 gnulinux '
    config_args='-de -Duse64bitall -Dusethreads -Dprefix=/home/david/cpantesting/perl-5.22.0'
    hint=recommended, useposix=true, d_sigaction=define
    useithreads=define, usemultiplicity=define
    use64bitint=define, use64bitall=define, uselongdouble=undef
    usemymalloc=n, bincompat5005=undef
  Compiler:
    cc='cc', ccflags ='-D_REENTRANT -D_GNU_SOURCE -fwrapv -fno-strict-aliasing -pipe -fstack-protector-strong -I/usr/local/include -D_LARGEFILE_SOURCE -D_FILE_OFFSET_BITS=64 -D_FORTIFY_SOURCE=2',
    optimize='-O2',
    cppflags='-D_REENTRANT -D_GNU_SOURCE -fwrapv -fno-strict-aliasing -pipe -fstack-protector-strong -I/usr/local/include'
    ccversion='', gccversion='4.9.2', gccosandvers=''
    intsize=4, longsize=8, ptrsize=8, doublesize=8, byteorder=12345678, doublekind=3
    d_longlong=define, longlongsize=8, d_longdbl=define, longdblsize=16, longdblkind=3
    ivtype='long', ivsize=8, nvtype='double', nvsize=8, Off_t='off_t', lseeksize=8
    alignbytes=8, prototype=define
  Linker and Libraries:
    ld='cc', ldflags =' -fstack-protector-strong -L/usr/local/lib'
    libpth=/usr/local/lib /usr/lib/gcc/x86_64-linux-gnu/4.9/include-fixed /usr/include/x86_64-linux-gnu /usr/lib /lib/x86_64-linux-gnu /lib/../lib /usr/lib/x86_64-linux-gnu /usr/lib/../lib /lib
    libs=-lpthread -lnsl -ldb -ldl -lm -lcrypt -lutil -lc
    perllibs=-lpthread -lnsl -ldl -lm -lcrypt -lutil -lc
    libc=libc-2.19.so, so=so, useshrplib=false, libperl=libperl.a
    gnulibc_version='2.19'
  Dynamic Linking:
    dlsrc=dl_dlopen.xs, dlext=so, d_dlsymun=undef, ccdlflags='-Wl,-E'
    cccdlflags='-fPIC', lddlflags='-shared -O2 -L/usr/local/lib -fstack-protector-strong'


Characteristics of this binary (from libperl): 
  Compile-time options: HAS_TIMES MULTIPLICITY PERLIO_LAYERS
                        PERL_DONT_CREATE_GVSV
                        PERL_HASH_FUNC_ONE_AT_A_TIME_HARD
                        PERL_IMPLICIT_CONTEXT PERL_MALLOC_WRAP
                        PERL_NEW_COPY_ON_WRITE PERL_PRESERVE_IVUV
                        USE_64_BIT_ALL USE_64_BIT_INT USE_ITHREADS
                        USE_LARGE_FILES USE_LOCALE USE_LOCALE_COLLATE
                        USE_LOCALE_CTYPE USE_LOCALE_NUMERIC USE_LOCALE_TIME
                        USE_PERLIO USE_PERL_ATOF USE_REENTRANT_API
  Locally applied patches:
	Devel::PatchPerl 1.44
  Built under linux
  Compiled at Oct 12 2016 16:20:03
  %ENV:
    PERL="5.22.0"
    PERL5LIB=""
    PERL5OPT=""
    PERL5_CPANPLUS_IS_RUNNING="11611"
    PERL5_CPAN_IS_RUNNING="11611"
    PERLVER="5.22.0"
    PERL_INLINE_DIRECTORY="/home/david/.Inline-5.22.0"
    PERL_MM_USE_DEFAULT="1"
  @INC:
    /home/david/cpantesting/perl-5.22.0/lib/site_perl/5.22.0/x86_64-linux-thread-multi
    /home/david/cpantesting/perl-5.22.0/lib/site_perl/5.22.0
    /home/david/cpantesting/perl-5.22.0/lib/5.22.0/x86_64-linux-thread-multi
    /home/david/cpantesting/perl-5.22.0/lib/5.22.0
    .