Report for Data-Pipeline-0.02

Back
From: metabase:user:0d96120c-29e2-11e5-b049-ede3035d37de
Subject: PASS Data-Pipeline-0.02 v5.23.1 SunOS/Solaris
Date: 2015-08-07T03:03:24Z

This distribution has been tested as part of the CPAN Testers
project, supporting the Perl programming language.  See
http://wiki.cpantesters.org/ for more information or email
questions to cpan-testers-discuss@perl.org


--
Dear James G Smith,

This is a computer-generated report for Data-Pipeline-0.02
on perl 5.23.1, created by CPAN-Reporter-1.2015.

Thank you for uploading your work to CPAN.  Congratulations!
All tests were successful.

Sections of this report:

    * Tester comments
    * Program output
    * Prerequisites
    * Environment and other context

------------------------------
TESTER COMMENTS
------------------------------

Additional comments from tester:

this report is from an automated smoke testing program
and was not reviewed by a human for accuracy

CPU            : Intel(r) Xeon(r) CPU E5-1650 v3 @ 3.50GHz
MEMORY         : 8.00 GB
ARCH           : i86pc
OS             : Solaris 5.11
KERNEL         : SunOS 5.11
VIRTUALIZATION : virtualbox

------------------------------
PROGRAM OUTPUT
------------------------------

Output from '/usr/bin/make test':

PERL_DL_NONLAZY=1 "/export/home/jmaslak/perl5/perlbrew/perls/perl-5.23.1-ld/bin/perl5.23.1" "-MExtUtils::Command::MM" "-MTest::Harness" "-e" "undef *Test::Harness::Switches; test_harness(0, 'inc', 'blib/lib', 'blib/arch')" t/*.t
Class::MOP::load_class is deprecated at /export/home/jmaslak/perl5/perlbrew/perls/perl-5.23.1-ld/lib/site_perl/5.23.1/i86pc-solaris-ld/Class/MOP.pm line 69.
	Class::MOP::load_class("Data::Pipeline::Aggregator::Machine") called at /export/home/jmaslak/.cpan/build/Data-Pipeline-0.02-L2FZbF/blib/lib/Data/Pipeline/Machine.pm line 20
	Data::Pipeline::Machine::BEGIN() called at /export/home/jmaslak/.cpan/build/Data-Pipeline-0.02-L2FZbF/blib/lib/Data/Pipeline/Machine.pm line 22
	eval {...} called at /export/home/jmaslak/.cpan/build/Data-Pipeline-0.02-L2FZbF/blib/lib/Data/Pipeline/Machine.pm line 22
	require Data/Pipeline/Machine.pm called at /export/home/jmaslak/.cpan/build/Data-Pipeline-0.02-L2FZbF/blib/lib/Data/Pipeline/Aggregator/Machine.pm line 6
	Data::Pipeline::Aggregator::Machine::BEGIN() called at /export/home/jmaslak/.cpan/build/Data-Pipeline-0.02-L2FZbF/blib/lib/Data/Pipeline/Machine.pm line 22
	eval {...} called at /export/home/jmaslak/.cpan/build/Data-Pipeline-0.02-L2FZbF/blib/lib/Data/Pipeline/Machine.pm line 22
	require Data/Pipeline/Aggregator/Machine.pm called at /export/home/jmaslak/.cpan/build/Data-Pipeline-0.02-L2FZbF/blib/lib/Data/Pipeline/Adapter.pm line 9
	Data::Pipeline::Adapter::BEGIN() called at /export/home/jmaslak/.cpan/build/Data-Pipeline-0.02-L2FZbF/blib/lib/Data/Pipeline/Machine.pm line 22
	eval {...} called at /export/home/jmaslak/.cpan/build/Data-Pipeline-0.02-L2FZbF/blib/lib/Data/Pipeline/Machine.pm line 22
	require Data/Pipeline/Adapter.pm called at t/00-compile.t line 16
	main::BEGIN() called at /export/home/jmaslak/.cpan/build/Data-Pipeline-0.02-L2FZbF/blib/lib/Data/Pipeline/Machine.pm line 22
	eval {...} called at /export/home/jmaslak/.cpan/build/Data-Pipeline-0.02-L2FZbF/blib/lib/Data/Pipeline/Machine.pm line 22
	eval 'package main;

#line 16 t/00-compile.t
use Data::Pipeline::Adapter @{$args[0]};
1;
' called at /export/home/jmaslak/perl5/perlbrew/perls/perl-5.23.1-ld/lib/5.23.1/Test/More.pm line 993
	Test::More::_eval("package main;\x{a}\x{a}#line 16 t/00-compile.t\x{a}use Data::Pipeline::Ad"..., ARRAY(0x82fa048)) called at /export/home/jmaslak/perl5/perlbrew/perls/perl-5.23.1-ld/lib/5.23.1/Test/More.pm line 968
	Test::More::use_ok("Data::Pipeline::Adapter") called at t/00-compile.t line 16
	main::BEGIN() called at /export/home/jmaslak/.cpan/build/Data-Pipeline-0.02-L2FZbF/blib/lib/Data/Pipeline/Machine.pm line 22
	eval {...} called at /export/home/jmaslak/.cpan/build/Data-Pipeline-0.02-L2FZbF/blib/lib/Data/Pipeline/Machine.pm line 22
t/00-compile.t ......... ok
t/01-iteratorsource.t .. ok
t/02-iterator.t ........ ok
Class::MOP::load_class is deprecated at /export/home/jmaslak/perl5/perlbrew/perls/perl-5.23.1-ld/lib/site_perl/5.23.1/i86pc-solaris-ld/Class/MOP.pm line 69.
	Class::MOP::load_class("Data::Pipeline::Aggregator::Machine") called at /export/home/jmaslak/.cpan/build/Data-Pipeline-0.02-L2FZbF/blib/lib/Data/Pipeline/Machine.pm line 20
	Data::Pipeline::Machine::BEGIN() called at /export/home/jmaslak/.cpan/build/Data-Pipeline-0.02-L2FZbF/blib/lib/Data/Pipeline/Machine.pm line 22
	eval {...} called at /export/home/jmaslak/.cpan/build/Data-Pipeline-0.02-L2FZbF/blib/lib/Data/Pipeline/Machine.pm line 22
	require Data/Pipeline/Machine.pm called at /export/home/jmaslak/.cpan/build/Data-Pipeline-0.02-L2FZbF/blib/lib/Data/Pipeline/Aggregator/Machine.pm line 6
	Data::Pipeline::Aggregator::Machine::BEGIN() called at /export/home/jmaslak/.cpan/build/Data-Pipeline-0.02-L2FZbF/blib/lib/Data/Pipeline/Machine.pm line 22
	eval {...} called at /export/home/jmaslak/.cpan/build/Data-Pipeline-0.02-L2FZbF/blib/lib/Data/Pipeline/Machine.pm line 22
	require Data/Pipeline/Aggregator/Machine.pm called at /export/home/jmaslak/.cpan/build/Data-Pipeline-0.02-L2FZbF/blib/lib/Data/Pipeline/Adapter.pm line 9
	Data::Pipeline::Adapter::BEGIN() called at /export/home/jmaslak/.cpan/build/Data-Pipeline-0.02-L2FZbF/blib/lib/Data/Pipeline/Machine.pm line 22
	eval {...} called at /export/home/jmaslak/.cpan/build/Data-Pipeline-0.02-L2FZbF/blib/lib/Data/Pipeline/Machine.pm line 22
	require Data/Pipeline/Adapter.pm called at /export/home/jmaslak/perl5/perlbrew/perls/perl-5.23.1-ld/lib/site_perl/5.23.1/Module/Runtime.pm line 317
	Module::Runtime::require_module("Data::Pipeline::Adapter") called at /export/home/jmaslak/perl5/perlbrew/perls/perl-5.23.1-ld/lib/site_perl/5.23.1/Module/Runtime.pm line 381
	eval {...} called at /export/home/jmaslak/perl5/perlbrew/perls/perl-5.23.1-ld/lib/site_perl/5.23.1/Module/Runtime.pm line 381
	Module::Runtime::use_package_optimistically("Data::Pipeline::Adapter") called at /export/home/jmaslak/perl5/perlbrew/perls/perl-5.23.1-ld/lib/site_perl/5.23.1/i86pc-solaris-ld/Moose/Util.pm line 352
	Moose::Util::_load_user_class("Data::Pipeline::Adapter", undef) called at /export/home/jmaslak/perl5/perlbrew/perls/perl-5.23.1-ld/lib/site_perl/5.23.1/i86pc-solaris-ld/Moose/Meta/Class.pm line 557
	Moose::Meta::Class::superclasses(undef, "Data::Pipeline::Adapter") called at /export/home/jmaslak/perl5/perlbrew/perls/perl-5.23.1-ld/lib/site_perl/5.23.1/i86pc-solaris-ld/Moose.pm line 55
	Moose::extends(Moose::Meta::Class=HASH(0x8a1e430), "Data::Pipeline::Adapter") called at /export/home/jmaslak/perl5/perlbrew/perls/perl-5.23.1-ld/lib/site_perl/5.23.1/i86pc-solaris-ld/Moose/Exporter.pm line 419
	Moose::extends("Data::Pipeline::Adapter") called at /export/home/jmaslak/.cpan/build/Data-Pipeline-0.02-L2FZbF/blib/lib/Data/Pipeline/Adapter/Array.pm line 4
	require Data/Pipeline/Adapter/Array.pm called at t/03-arraysource.t line 3
	main::BEGIN() called at /export/home/jmaslak/.cpan/build/Data-Pipeline-0.02-L2FZbF/blib/lib/Data/Pipeline/Machine.pm line 22
	eval {...} called at /export/home/jmaslak/.cpan/build/Data-Pipeline-0.02-L2FZbF/blib/lib/Data/Pipeline/Machine.pm line 22
Class::MOP::load_class is deprecated at /export/home/jmaslak/perl5/perlbrew/perls/perl-5.23.1-ld/lib/site_perl/5.23.1/i86pc-solaris-ld/Class/MOP.pm line 69.
	Class::MOP::load_class("Data::Pipeline::Iterator") called at /export/home/jmaslak/.cpan/build/Data-Pipeline-0.02-L2FZbF/blib/lib/Data/Pipeline/Types.pm line 123
	Data::Pipeline::Types::__ANON__(Data::Pipeline::Iterator::Source=HASH(0x8cb78d0)) called at /export/home/jmaslak/perl5/perlbrew/perls/perl-5.23.1-ld/lib/site_perl/5.23.1/i86pc-solaris-ld/Moose/Meta/TypeCoercion.pm line 65
	Moose::Meta::TypeCoercion::__ANON__(Data::Pipeline::Iterator::Source=HASH(0x8cb78d0)) called at /export/home/jmaslak/perl5/perlbrew/perls/perl-5.23.1-ld/lib/site_perl/5.23.1/i86pc-solaris-ld/Moose/Meta/TypeCoercion.pm line 100
	Moose::Meta::TypeCoercion::coerce(Moose::Meta::TypeCoercion=HASH(0x8b15368), Data::Pipeline::Iterator::Source=HASH(0x8cb78d0)) called at /export/home/jmaslak/perl5/perlbrew/perls/perl-5.23.1-ld/lib/site_perl/5.23.1/i86pc-solaris-ld/Moose/Meta/TypeConstraint.pm line 145
	Moose::Meta::TypeConstraint::coerce(Moose::Meta::TypeConstraint=HASH(0x8b952e8), Data::Pipeline::Iterator::Source=HASH(0x8cb78d0)) called at /export/home/jmaslak/perl5/perlbrew/perls/perl-5.23.1-ld/lib/site_perl/5.23.1/MooseX/Types.pm line 515
	MooseX::Types::__ANON__(Data::Pipeline::Iterator::Source=HASH(0x8cb78d0)) called at t/03-arraysource.t line 17
t/03-arraysource.t ..... ok
Class::MOP::load_class is deprecated at /export/home/jmaslak/perl5/perlbrew/perls/perl-5.23.1-ld/lib/site_perl/5.23.1/i86pc-solaris-ld/Class/MOP.pm line 69.
	Class::MOP::load_class("Data::Pipeline::Aggregator::Machine") called at /export/home/jmaslak/.cpan/build/Data-Pipeline-0.02-L2FZbF/blib/lib/Data/Pipeline/Machine.pm line 20
	Data::Pipeline::Machine::BEGIN() called at /export/home/jmaslak/.cpan/build/Data-Pipeline-0.02-L2FZbF/blib/lib/Data/Pipeline/Machine.pm line 22
	eval {...} called at /export/home/jmaslak/.cpan/build/Data-Pipeline-0.02-L2FZbF/blib/lib/Data/Pipeline/Machine.pm line 22
	require Data/Pipeline/Machine.pm called at /export/home/jmaslak/.cpan/build/Data-Pipeline-0.02-L2FZbF/blib/lib/Data/Pipeline/Aggregator/Machine.pm line 6
	Data::Pipeline::Aggregator::Machine::BEGIN() called at /export/home/jmaslak/.cpan/build/Data-Pipeline-0.02-L2FZbF/blib/lib/Data/Pipeline/Machine.pm line 22
	eval {...} called at /export/home/jmaslak/.cpan/build/Data-Pipeline-0.02-L2FZbF/blib/lib/Data/Pipeline/Machine.pm line 22
	require Data/Pipeline/Aggregator/Machine.pm called at /export/home/jmaslak/.cpan/build/Data-Pipeline-0.02-L2FZbF/blib/lib/Data/Pipeline/Adapter.pm line 9
	Data::Pipeline::Adapter::BEGIN() called at /export/home/jmaslak/.cpan/build/Data-Pipeline-0.02-L2FZbF/blib/lib/Data/Pipeline/Machine.pm line 22
	eval {...} called at /export/home/jmaslak/.cpan/build/Data-Pipeline-0.02-L2FZbF/blib/lib/Data/Pipeline/Machine.pm line 22
	require Data/Pipeline/Adapter.pm called at /export/home/jmaslak/perl5/perlbrew/perls/perl-5.23.1-ld/lib/site_perl/5.23.1/Module/Runtime.pm line 317
	Module::Runtime::require_module("Data::Pipeline::Adapter") called at /export/home/jmaslak/perl5/perlbrew/perls/perl-5.23.1-ld/lib/site_perl/5.23.1/Module/Runtime.pm line 381
	eval {...} called at /export/home/jmaslak/perl5/perlbrew/perls/perl-5.23.1-ld/lib/site_perl/5.23.1/Module/Runtime.pm line 381
	Module::Runtime::use_package_optimistically("Data::Pipeline::Adapter") called at /export/home/jmaslak/perl5/perlbrew/perls/perl-5.23.1-ld/lib/site_perl/5.23.1/i86pc-solaris-ld/Moose/Util.pm line 352
	Moose::Util::_load_user_class("Data::Pipeline::Adapter", undef) called at /export/home/jmaslak/perl5/perlbrew/perls/perl-5.23.1-ld/lib/site_perl/5.23.1/i86pc-solaris-ld/Moose/Meta/Class.pm line 557
	Moose::Meta::Class::superclasses(undef, "Data::Pipeline::Adapter") called at /export/home/jmaslak/perl5/perlbrew/perls/perl-5.23.1-ld/lib/site_perl/5.23.1/i86pc-solaris-ld/Moose.pm line 55
	Moose::extends(Moose::Meta::Class=HASH(0x8aef3d0), "Data::Pipeline::Adapter") called at /export/home/jmaslak/perl5/perlbrew/perls/perl-5.23.1-ld/lib/site_perl/5.23.1/i86pc-solaris-ld/Moose/Exporter.pm line 419
	Moose::extends("Data::Pipeline::Adapter") called at /export/home/jmaslak/.cpan/build/Data-Pipeline-0.02-L2FZbF/blib/lib/Data/Pipeline/Adapter/Array.pm line 4
	require Data/Pipeline/Adapter/Array.pm called at t/04-count.t line 4
	main::BEGIN() called at /export/home/jmaslak/.cpan/build/Data-Pipeline-0.02-L2FZbF/blib/lib/Data/Pipeline/Machine.pm line 22
	eval {...} called at /export/home/jmaslak/.cpan/build/Data-Pipeline-0.02-L2FZbF/blib/lib/Data/Pipeline/Machine.pm line 22
t/04-count.t ........... ok
Class::MOP::load_class is deprecated at /export/home/jmaslak/perl5/perlbrew/perls/perl-5.23.1-ld/lib/site_perl/5.23.1/i86pc-solaris-ld/Class/MOP.pm line 69.
	Class::MOP::load_class("Data::Pipeline::Aggregator::Machine") called at /export/home/jmaslak/.cpan/build/Data-Pipeline-0.02-L2FZbF/blib/lib/Data/Pipeline/Machine.pm line 20
	Data::Pipeline::Machine::BEGIN() called at /export/home/jmaslak/.cpan/build/Data-Pipeline-0.02-L2FZbF/blib/lib/Data/Pipeline/Machine.pm line 22
	eval {...} called at /export/home/jmaslak/.cpan/build/Data-Pipeline-0.02-L2FZbF/blib/lib/Data/Pipeline/Machine.pm line 22
	require Data/Pipeline/Machine.pm called at /export/home/jmaslak/.cpan/build/Data-Pipeline-0.02-L2FZbF/blib/lib/Data/Pipeline/Aggregator/Machine.pm line 6
	Data::Pipeline::Aggregator::Machine::BEGIN() called at /export/home/jmaslak/.cpan/build/Data-Pipeline-0.02-L2FZbF/blib/lib/Data/Pipeline/Machine.pm line 22
	eval {...} called at /export/home/jmaslak/.cpan/build/Data-Pipeline-0.02-L2FZbF/blib/lib/Data/Pipeline/Machine.pm line 22
	require Data/Pipeline/Aggregator/Machine.pm called at /export/home/jmaslak/.cpan/build/Data-Pipeline-0.02-L2FZbF/blib/lib/Data/Pipeline/Adapter.pm line 9
	Data::Pipeline::Adapter::BEGIN() called at /export/home/jmaslak/.cpan/build/Data-Pipeline-0.02-L2FZbF/blib/lib/Data/Pipeline/Machine.pm line 22
	eval {...} called at /export/home/jmaslak/.cpan/build/Data-Pipeline-0.02-L2FZbF/blib/lib/Data/Pipeline/Machine.pm line 22
	require Data/Pipeline/Adapter.pm called at /export/home/jmaslak/perl5/perlbrew/perls/perl-5.23.1-ld/lib/site_perl/5.23.1/Module/Runtime.pm line 317
	Module::Runtime::require_module("Data::Pipeline::Adapter") called at /export/home/jmaslak/perl5/perlbrew/perls/perl-5.23.1-ld/lib/site_perl/5.23.1/Module/Runtime.pm line 381
	eval {...} called at /export/home/jmaslak/perl5/perlbrew/perls/perl-5.23.1-ld/lib/site_perl/5.23.1/Module/Runtime.pm line 381
	Module::Runtime::use_package_optimistically("Data::Pipeline::Adapter") called at /export/home/jmaslak/perl5/perlbrew/perls/perl-5.23.1-ld/lib/site_perl/5.23.1/i86pc-solaris-ld/Moose/Util.pm line 352
	Moose::Util::_load_user_class("Data::Pipeline::Adapter", undef) called at /export/home/jmaslak/perl5/perlbrew/perls/perl-5.23.1-ld/lib/site_perl/5.23.1/i86pc-solaris-ld/Moose/Meta/Class.pm line 557
	Moose::Meta::Class::superclasses(undef, "Data::Pipeline::Adapter") called at /export/home/jmaslak/perl5/perlbrew/perls/perl-5.23.1-ld/lib/site_perl/5.23.1/i86pc-solaris-ld/Moose.pm line 55
	Moose::extends(Moose::Meta::Class=HASH(0x8aeb2b8), "Data::Pipeline::Adapter") called at /export/home/jmaslak/perl5/perlbrew/perls/perl-5.23.1-ld/lib/site_perl/5.23.1/i86pc-solaris-ld/Moose/Exporter.pm line 419
	Moose::extends("Data::Pipeline::Adapter") called at /export/home/jmaslak/.cpan/build/Data-Pipeline-0.02-L2FZbF/blib/lib/Data/Pipeline/Adapter/Array.pm line 4
	require Data/Pipeline/Adapter/Array.pm called at t/05-truncate.t line 4
	main::BEGIN() called at /export/home/jmaslak/.cpan/build/Data-Pipeline-0.02-L2FZbF/blib/lib/Data/Pipeline/Machine.pm line 22
	eval {...} called at /export/home/jmaslak/.cpan/build/Data-Pipeline-0.02-L2FZbF/blib/lib/Data/Pipeline/Machine.pm line 22
t/05-truncate.t ........ ok
Class::MOP::load_class is deprecated at /export/home/jmaslak/perl5/perlbrew/perls/perl-5.23.1-ld/lib/site_perl/5.23.1/i86pc-solaris-ld/Class/MOP.pm line 69.
	Class::MOP::load_class("Data::Pipeline::Aggregator::Pipeline") called at /export/home/jmaslak/.cpan/build/Data-Pipeline-0.02-L2FZbF/blib/lib/Data/Pipeline.pm line 70
	eval {...} called at /export/home/jmaslak/.cpan/build/Data-Pipeline-0.02-L2FZbF/blib/lib/Data/Pipeline.pm line 70
	Data::Pipeline::_find_class("Pipeline") called at /export/home/jmaslak/.cpan/build/Data-Pipeline-0.02-L2FZbF/blib/lib/Data/Pipeline.pm line 23
	Data::Pipeline::import("Data::Pipeline", "Pipeline", "Truncate", "Count", "Array") called at t/06-pipeline.t line 4
	main::BEGIN() called at t/06-pipeline.t line 4
	eval {...} called at t/06-pipeline.t line 4
Class::MOP::load_class is deprecated at /export/home/jmaslak/perl5/perlbrew/perls/perl-5.23.1-ld/lib/site_perl/5.23.1/i86pc-solaris-ld/Class/MOP.pm line 69.
	Class::MOP::load_class("Data::Pipeline::Aggregator::Machine") called at /export/home/jmaslak/.cpan/build/Data-Pipeline-0.02-L2FZbF/blib/lib/Data/Pipeline/Machine.pm line 20
	Data::Pipeline::Machine::BEGIN() called at /export/home/jmaslak/.cpan/build/Data-Pipeline-0.02-L2FZbF/blib/lib/Data/Pipeline/Machine.pm line 22
	eval {...} called at /export/home/jmaslak/.cpan/build/Data-Pipeline-0.02-L2FZbF/blib/lib/Data/Pipeline/Machine.pm line 22
	require Data/Pipeline/Machine.pm called at /export/home/jmaslak/.cpan/build/Data-Pipeline-0.02-L2FZbF/blib/lib/Data/Pipeline/Aggregator/Pipeline.pm line 10
	Data::Pipeline::Aggregator::Pipeline::BEGIN() called at /export/home/jmaslak/.cpan/build/Data-Pipeline-0.02-L2FZbF/blib/lib/Data/Pipeline/Machine.pm line 22
	eval {...} called at /export/home/jmaslak/.cpan/build/Data-Pipeline-0.02-L2FZbF/blib/lib/Data/Pipeline/Machine.pm line 22
	require Data/Pipeline/Aggregator/Pipeline.pm called at /export/home/jmaslak/perl5/perlbrew/perls/perl-5.23.1-ld/lib/site_perl/5.23.1/Module/Runtime.pm line 317
	Module::Runtime::require_module("Data::Pipeline::Aggregator::Pipeline") called at /export/home/jmaslak/perl5/perlbrew/perls/perl-5.23.1-ld/lib/site_perl/5.23.1/Class/Load.pm line 174
	Class::Load::try {...} () called at /export/home/jmaslak/perl5/perlbrew/perls/perl-5.23.1-ld/lib/site_perl/5.23.1/Try/Tiny.pm line 77
	eval {...} called at /export/home/jmaslak/perl5/perlbrew/perls/perl-5.23.1-ld/lib/site_perl/5.23.1/Try/Tiny.pm line 72
	Try::Tiny::try(CODE(0x8b47798), Try::Tiny::Catch=REF(0x8b8b6c0)) called at /export/home/jmaslak/perl5/perlbrew/perls/perl-5.23.1-ld/lib/site_perl/5.23.1/Class/Load.pm line 180
	Class::Load::try_load_class("Data::Pipeline::Aggregator::Pipeline", undef) called at /export/home/jmaslak/perl5/perlbrew/perls/perl-5.23.1-ld/lib/site_perl/5.23.1/Class/Load.pm line 35
	Class::Load::load_class("Data::Pipeline::Aggregator::Pipeline") called at /export/home/jmaslak/.cpan/build/Data-Pipeline-0.02-L2FZbF/blib/lib/Data/Pipeline.pm line 70
	eval {...} called at /export/home/jmaslak/.cpan/build/Data-Pipeline-0.02-L2FZbF/blib/lib/Data/Pipeline.pm line 70
	Data::Pipeline::_find_class("Pipeline") called at /export/home/jmaslak/.cpan/build/Data-Pipeline-0.02-L2FZbF/blib/lib/Data/Pipeline.pm line 23
	Data::Pipeline::import("Data::Pipeline", "Pipeline", "Truncate", "Count", "Array") called at t/06-pipeline.t line 4
	main::BEGIN() called at /export/home/jmaslak/.cpan/build/Data-Pipeline-0.02-L2FZbF/blib/lib/Data/Pipeline/Machine.pm line 22
	eval {...} called at /export/home/jmaslak/.cpan/build/Data-Pipeline-0.02-L2FZbF/blib/lib/Data/Pipeline/Machine.pm line 22
Class::MOP::load_class is deprecated at /export/home/jmaslak/perl5/perlbrew/perls/perl-5.23.1-ld/lib/site_perl/5.23.1/i86pc-solaris-ld/Class/MOP.pm line 69.
	Class::MOP::load_class("Data::Pipeline::Iterator") called at /export/home/jmaslak/.cpan/build/Data-Pipeline-0.02-L2FZbF/blib/lib/Data/Pipeline/Types.pm line 133
	Data::Pipeline::Types::__ANON__(Data::Pipeline::Adapter::Array=HASH(0x8c7e688)) called at /export/home/jmaslak/perl5/perlbrew/perls/perl-5.23.1-ld/lib/site_perl/5.23.1/i86pc-solaris-ld/Moose/Meta/TypeCoercion.pm line 65
	Moose::Meta::TypeCoercion::__ANON__(Data::Pipeline::Adapter::Array=HASH(0x8c7e688)) called at /export/home/jmaslak/perl5/perlbrew/perls/perl-5.23.1-ld/lib/site_perl/5.23.1/i86pc-solaris-ld/Moose/Meta/TypeCoercion.pm line 100
	Moose::Meta::TypeCoercion::coerce(Moose::Meta::TypeCoercion=HASH(0x8b81878), Data::Pipeline::Adapter::Array=HASH(0x8c7e688)) called at /export/home/jmaslak/perl5/perlbrew/perls/perl-5.23.1-ld/lib/site_perl/5.23.1/i86pc-solaris-ld/Moose/Meta/TypeConstraint.pm line 145
	Moose::Meta::TypeConstraint::coerce(Moose::Meta::TypeConstraint=HASH(0x8af82f0), Data::Pipeline::Adapter::Array=HASH(0x8c7e688)) called at /export/home/jmaslak/perl5/perlbrew/perls/perl-5.23.1-ld/lib/site_perl/5.23.1/MooseX/Types.pm line 515
	MooseX::Types::__ANON__(Data::Pipeline::Adapter::Array=HASH(0x8c7e688)) called at /export/home/jmaslak/.cpan/build/Data-Pipeline-0.02-L2FZbF/blib/lib/Data/Pipeline/Aggregator/Pipeline.pm line 47
	Data::Pipeline::Aggregator::Pipeline::transform(Data::Pipeline::Aggregator::Pipeline=HASH(0x8ca8138), Data::Pipeline::Adapter::Array=HASH(0x8c7e688)) called at t/06-pipeline.t line 19
t/06-pipeline.t ........ ok
Class::MOP::load_class is deprecated at /export/home/jmaslak/perl5/perlbrew/perls/perl-5.23.1-ld/lib/site_perl/5.23.1/i86pc-solaris-ld/Class/MOP.pm line 69.
	Class::MOP::load_class("Data::Pipeline::Aggregator::Pipeline") called at /export/home/jmaslak/.cpan/build/Data-Pipeline-0.02-L2FZbF/blib/lib/Data/Pipeline.pm line 70
	eval {...} called at /export/home/jmaslak/.cpan/build/Data-Pipeline-0.02-L2FZbF/blib/lib/Data/Pipeline.pm line 70
	Data::Pipeline::_find_class("Pipeline") called at /export/home/jmaslak/.cpan/build/Data-Pipeline-0.02-L2FZbF/blib/lib/Data/Pipeline.pm line 23
	Data::Pipeline::import("Data::Pipeline", "Pipeline", "Count", "CSV") called at t/07-csvsource.t line 23
	main::BEGIN() called at t/07-csvsource.t line 23
	eval {...} called at t/07-csvsource.t line 23
Class::MOP::load_class is deprecated at /export/home/jmaslak/perl5/perlbrew/perls/perl-5.23.1-ld/lib/site_perl/5.23.1/i86pc-solaris-ld/Class/MOP.pm line 69.
	Class::MOP::load_class("Data::Pipeline::Aggregator::Machine") called at /export/home/jmaslak/.cpan/build/Data-Pipeline-0.02-L2FZbF/blib/lib/Data/Pipeline/Machine.pm line 20
	Data::Pipeline::Machine::BEGIN() called at /export/home/jmaslak/.cpan/build/Data-Pipeline-0.02-L2FZbF/blib/lib/Data/Pipeline/Machine.pm line 22
	eval {...} called at /export/home/jmaslak/.cpan/build/Data-Pipeline-0.02-L2FZbF/blib/lib/Data/Pipeline/Machine.pm line 22
	require Data/Pipeline/Machine.pm called at /export/home/jmaslak/.cpan/build/Data-Pipeline-0.02-L2FZbF/blib/lib/Data/Pipeline/Aggregator/Pipeline.pm line 10
	Data::Pipeline::Aggregator::Pipeline::BEGIN() called at /export/home/jmaslak/.cpan/build/Data-Pipeline-0.02-L2FZbF/blib/lib/Data/Pipeline/Machine.pm line 22
	eval {...} called at /export/home/jmaslak/.cpan/build/Data-Pipeline-0.02-L2FZbF/blib/lib/Data/Pipeline/Machine.pm line 22
	require Data/Pipeline/Aggregator/Pipeline.pm called at /export/home/jmaslak/perl5/perlbrew/perls/perl-5.23.1-ld/lib/site_perl/5.23.1/Module/Runtime.pm line 317
	Module::Runtime::require_module("Data::Pipeline::Aggregator::Pipeline") called at /export/home/jmaslak/perl5/perlbrew/perls/perl-5.23.1-ld/lib/site_perl/5.23.1/Class/Load.pm line 174
	Class::Load::try {...} () called at /export/home/jmaslak/perl5/perlbrew/perls/perl-5.23.1-ld/lib/site_perl/5.23.1/Try/Tiny.pm line 77
	eval {...} called at /export/home/jmaslak/perl5/perlbrew/perls/perl-5.23.1-ld/lib/site_perl/5.23.1/Try/Tiny.pm line 72
	Try::Tiny::try(CODE(0x8b1f198), Try::Tiny::Catch=REF(0x8b87600)) called at /export/home/jmaslak/perl5/perlbrew/perls/perl-5.23.1-ld/lib/site_perl/5.23.1/Class/Load.pm line 180
	Class::Load::try_load_class("Data::Pipeline::Aggregator::Pipeline", undef) called at /export/home/jmaslak/perl5/perlbrew/perls/perl-5.23.1-ld/lib/site_perl/5.23.1/Class/Load.pm line 35
	Class::Load::load_class("Data::Pipeline::Aggregator::Pipeline") called at /export/home/jmaslak/.cpan/build/Data-Pipeline-0.02-L2FZbF/blib/lib/Data/Pipeline.pm line 70
	eval {...} called at /export/home/jmaslak/.cpan/build/Data-Pipeline-0.02-L2FZbF/blib/lib/Data/Pipeline.pm line 70
	Data::Pipeline::_find_class("Pipeline") called at /export/home/jmaslak/.cpan/build/Data-Pipeline-0.02-L2FZbF/blib/lib/Data/Pipeline.pm line 23
	Data::Pipeline::import("Data::Pipeline", "Pipeline", "Count", "CSV") called at t/07-csvsource.t line 23
	main::BEGIN() called at /export/home/jmaslak/.cpan/build/Data-Pipeline-0.02-L2FZbF/blib/lib/Data/Pipeline/Machine.pm line 22
	eval {...} called at /export/home/jmaslak/.cpan/build/Data-Pipeline-0.02-L2FZbF/blib/lib/Data/Pipeline/Machine.pm line 22
Class::MOP::load_class is deprecated at /export/home/jmaslak/perl5/perlbrew/perls/perl-5.23.1-ld/lib/site_perl/5.23.1/i86pc-solaris-ld/Class/MOP.pm line 69.
	Class::MOP::load_class("Data::Pipeline::Iterator") called at /export/home/jmaslak/.cpan/build/Data-Pipeline-0.02-L2FZbF/blib/lib/Data/Pipeline/Types.pm line 133
	Data::Pipeline::Types::__ANON__(Data::Pipeline::Adapter::CSV=HASH(0x821fbf8)) called at /export/home/jmaslak/perl5/perlbrew/perls/perl-5.23.1-ld/lib/site_perl/5.23.1/i86pc-solaris-ld/Moose/Meta/TypeCoercion.pm line 65
	Moose::Meta::TypeCoercion::__ANON__(Data::Pipeline::Adapter::CSV=HASH(0x821fbf8)) called at /export/home/jmaslak/perl5/perlbrew/perls/perl-5.23.1-ld/lib/site_perl/5.23.1/i86pc-solaris-ld/Moose/Meta/TypeCoercion.pm line 100
	Moose::Meta::TypeCoercion::coerce(Moose::Meta::TypeCoercion=HASH(0x8b94dc8), Data::Pipeline::Adapter::CSV=HASH(0x821fbf8)) called at /export/home/jmaslak/perl5/perlbrew/perls/perl-5.23.1-ld/lib/site_perl/5.23.1/i86pc-solaris-ld/Moose/Meta/TypeConstraint.pm line 145
	Moose::Meta::TypeConstraint::coerce(Moose::Meta::TypeConstraint=HASH(0x89fb988), Data::Pipeline::Adapter::CSV=HASH(0x821fbf8)) called at /export/home/jmaslak/perl5/perlbrew/perls/perl-5.23.1-ld/lib/site_perl/5.23.1/MooseX/Types.pm line 515
	MooseX::Types::__ANON__(Data::Pipeline::Adapter::CSV=HASH(0x821fbf8)) called at /export/home/jmaslak/.cpan/build/Data-Pipeline-0.02-L2FZbF/blib/lib/Data/Pipeline/Action.pm line 23
	Data::Pipeline::Action::transform(Data::Pipeline::Action::Count=HASH(0x820f318), Data::Pipeline::Adapter::CSV=HASH(0x821fbf8)) called at t/07-csvsource.t line 26
t/07-csvsource.t ....... ok
Class::MOP::load_class is deprecated at /export/home/jmaslak/perl5/perlbrew/perls/perl-5.23.1-ld/lib/site_perl/5.23.1/i86pc-solaris-ld/Class/MOP.pm line 69.
	Class::MOP::load_class("Data::Pipeline::Adapter::Array") called at /export/home/jmaslak/.cpan/build/Data-Pipeline-0.02-L2FZbF/blib/lib/Data/Pipeline/Types.pm line 78
	Data::Pipeline::Types::__ANON__(ARRAY(0x820e698)) called at /export/home/jmaslak/perl5/perlbrew/perls/perl-5.23.1-ld/lib/site_perl/5.23.1/i86pc-solaris-ld/Moose/Meta/TypeCoercion.pm line 65
	Moose::Meta::TypeCoercion::__ANON__(ARRAY(0x820e698)) called at /export/home/jmaslak/perl5/perlbrew/perls/perl-5.23.1-ld/lib/site_perl/5.23.1/i86pc-solaris-ld/Moose/Meta/TypeCoercion.pm line 100
	Moose::Meta::TypeCoercion::coerce(Moose::Meta::TypeCoercion=HASH(0x8b5fe98), ARRAY(0x820e698)) called at /export/home/jmaslak/perl5/perlbrew/perls/perl-5.23.1-ld/lib/site_perl/5.23.1/i86pc-solaris-ld/Moose/Meta/TypeConstraint.pm line 145
	Moose::Meta::TypeConstraint::coerce(Moose::Meta::TypeConstraint=HASH(0x8b68d60), ARRAY(0x820e698)) called at /export/home/jmaslak/perl5/perlbrew/perls/perl-5.23.1-ld/lib/site_perl/5.23.1/MooseX/Types.pm line 515
	MooseX::Types::__ANON__(ARRAY(0x820e698)) called at t/08-types.t line 28
Class::MOP::load_class is deprecated at /export/home/jmaslak/perl5/perlbrew/perls/perl-5.23.1-ld/lib/site_perl/5.23.1/i86pc-solaris-ld/Class/MOP.pm line 69.
	Class::MOP::load_class("Data::Pipeline::Aggregator::Machine") called at /export/home/jmaslak/.cpan/build/Data-Pipeline-0.02-L2FZbF/blib/lib/Data/Pipeline/Machine.pm line 20
	Data::Pipeline::Machine::BEGIN() called at /export/home/jmaslak/.cpan/build/Data-Pipeline-0.02-L2FZbF/blib/lib/Data/Pipeline/Machine.pm line 22
	eval {...} called at /export/home/jmaslak/.cpan/build/Data-Pipeline-0.02-L2FZbF/blib/lib/Data/Pipeline/Machine.pm line 22
	require Data/Pipeline/Machine.pm called at /export/home/jmaslak/.cpan/build/Data-Pipeline-0.02-L2FZbF/blib/lib/Data/Pipeline/Aggregator/Machine.pm line 6
	Data::Pipeline::Aggregator::Machine::BEGIN() called at /export/home/jmaslak/.cpan/build/Data-Pipeline-0.02-L2FZbF/blib/lib/Data/Pipeline/Machine.pm line 22
	eval {...} called at /export/home/jmaslak/.cpan/build/Data-Pipeline-0.02-L2FZbF/blib/lib/Data/Pipeline/Machine.pm line 22
	require Data/Pipeline/Aggregator/Machine.pm called at /export/home/jmaslak/.cpan/build/Data-Pipeline-0.02-L2FZbF/blib/lib/Data/Pipeline/Adapter.pm line 9
	Data::Pipeline::Adapter::BEGIN() called at /export/home/jmaslak/.cpan/build/Data-Pipeline-0.02-L2FZbF/blib/lib/Data/Pipeline/Machine.pm line 22
	eval {...} called at /export/home/jmaslak/.cpan/build/Data-Pipeline-0.02-L2FZbF/blib/lib/Data/Pipeline/Machine.pm line 22
	require Data/Pipeline/Adapter.pm called at /export/home/jmaslak/perl5/perlbrew/perls/perl-5.23.1-ld/lib/site_perl/5.23.1/Module/Runtime.pm line 317
	Module::Runtime::require_module("Data::Pipeline::Adapter") called at /export/home/jmaslak/perl5/perlbrew/perls/perl-5.23.1-ld/lib/site_perl/5.23.1/Module/Runtime.pm line 381
	eval {...} called at /export/home/jmaslak/perl5/perlbrew/perls/perl-5.23.1-ld/lib/site_perl/5.23.1/Module/Runtime.pm line 381
	Module::Runtime::use_package_optimistically("Data::Pipeline::Adapter") called at /export/home/jmaslak/perl5/perlbrew/perls/perl-5.23.1-ld/lib/site_perl/5.23.1/i86pc-solaris-ld/Moose/Util.pm line 352
	Moose::Util::_load_user_class("Data::Pipeline::Adapter", undef) called at /export/home/jmaslak/perl5/perlbrew/perls/perl-5.23.1-ld/lib/site_perl/5.23.1/i86pc-solaris-ld/Moose/Meta/Class.pm line 557
	Moose::Meta::Class::superclasses(undef, "Data::Pipeline::Adapter") called at /export/home/jmaslak/perl5/perlbrew/perls/perl-5.23.1-ld/lib/site_perl/5.23.1/i86pc-solaris-ld/Moose.pm line 55
	Moose::extends(Moose::Meta::Class=HASH(0x8bbd8c8), "Data::Pipeline::Adapter") called at /export/home/jmaslak/perl5/perlbrew/perls/perl-5.23.1-ld/lib/site_perl/5.23.1/i86pc-solaris-ld/Moose/Exporter.pm line 419
	Moose::extends("Data::Pipeline::Adapter") called at /export/home/jmaslak/.cpan/build/Data-Pipeline-0.02-L2FZbF/blib/lib/Data/Pipeline/Adapter/Array.pm line 4
	require Data/Pipeline/Adapter/Array.pm called at /export/home/jmaslak/perl5/perlbrew/perls/perl-5.23.1-ld/lib/site_perl/5.23.1/Module/Runtime.pm line 317
	Module::Runtime::require_module("Data::Pipeline::Adapter::Array") called at /export/home/jmaslak/perl5/perlbrew/perls/perl-5.23.1-ld/lib/site_perl/5.23.1/Class/Load.pm line 174
	Class::Load::try {...} () called at /export/home/jmaslak/perl5/perlbrew/perls/perl-5.23.1-ld/lib/site_perl/5.23.1/Try/Tiny.pm line 77
	eval {...} called at /export/home/jmaslak/perl5/perlbrew/perls/perl-5.23.1-ld/lib/site_perl/5.23.1/Try/Tiny.pm line 72
	Try::Tiny::try(CODE(0x8b7d2a0), Try::Tiny::Catch=REF(0x8bb4e88)) called at /export/home/jmaslak/perl5/perlbrew/perls/perl-5.23.1-ld/lib/site_perl/5.23.1/Class/Load.pm line 180
	Class::Load::try_load_class("Data::Pipeline::Adapter::Array", undef) called at /export/home/jmaslak/perl5/perlbrew/perls/perl-5.23.1-ld/lib/site_perl/5.23.1/Class/Load.pm line 35
	Class::Load::load_class("Data::Pipeline::Adapter::Array") called at /export/home/jmaslak/.cpan/build/Data-Pipeline-0.02-L2FZbF/blib/lib/Data/Pipeline/Types.pm line 78
	Data::Pipeline::Types::__ANON__(ARRAY(0x820e698)) called at /export/home/jmaslak/perl5/perlbrew/perls/perl-5.23.1-ld/lib/site_perl/5.23.1/i86pc-solaris-ld/Moose/Meta/TypeCoercion.pm line 65
	Moose::Meta::TypeCoercion::__ANON__(ARRAY(0x820e698)) called at /export/home/jmaslak/perl5/perlbrew/perls/perl-5.23.1-ld/lib/site_perl/5.23.1/i86pc-solaris-ld/Moose/Meta/TypeCoercion.pm line 100
	Moose::Meta::TypeCoercion::coerce(Moose::Meta::TypeCoercion=HASH(0x8b5fe98), ARRAY(0x820e698)) called at /export/home/jmaslak/perl5/perlbrew/perls/perl-5.23.1-ld/lib/site_perl/5.23.1/i86pc-solaris-ld/Moose/Meta/TypeConstraint.pm line 145
	Moose::Meta::TypeConstraint::coerce(Moose::Meta::TypeConstraint=HASH(0x8b68d60), ARRAY(0x820e698)) called at /export/home/jmaslak/perl5/perlbrew/perls/perl-5.23.1-ld/lib/site_perl/5.23.1/MooseX/Types.pm line 515
	MooseX::Types::__ANON__(ARRAY(0x820e698)) called at t/08-types.t line 28
t/08-types.t ........... ok
t/09-rename.t .......... ok
Class::MOP::load_class is deprecated at /export/home/jmaslak/perl5/perlbrew/perls/perl-5.23.1-ld/lib/site_perl/5.23.1/i86pc-solaris-ld/Class/MOP.pm line 69.
	Class::MOP::load_class("Data::Pipeline::Aggregator::Machine") called at /export/home/jmaslak/.cpan/build/Data-Pipeline-0.02-L2FZbF/blib/lib/Data/Pipeline/Machine.pm line 20
	Data::Pipeline::Machine::BEGIN() called at /export/home/jmaslak/.cpan/build/Data-Pipeline-0.02-L2FZbF/blib/lib/Data/Pipeline/Machine.pm line 22
	eval {...} called at /export/home/jmaslak/.cpan/build/Data-Pipeline-0.02-L2FZbF/blib/lib/Data/Pipeline/Machine.pm line 22
	require Data/Pipeline/Machine.pm called at t/11-machine.t line 6
	My::Machine::BEGIN() called at /export/home/jmaslak/.cpan/build/Data-Pipeline-0.02-L2FZbF/blib/lib/Data/Pipeline/Machine.pm line 22
	eval {...} called at /export/home/jmaslak/.cpan/build/Data-Pipeline-0.02-L2FZbF/blib/lib/Data/Pipeline/Machine.pm line 22
Class::MOP::load_class is deprecated at /export/home/jmaslak/perl5/perlbrew/perls/perl-5.23.1-ld/lib/site_perl/5.23.1/i86pc-solaris-ld/Class/MOP.pm line 69.
	Class::MOP::load_class("Data::Pipeline::Aggregator::Array") called at /export/home/jmaslak/.cpan/build/Data-Pipeline-0.02-L2FZbF/blib/lib/Data/Pipeline.pm line 70
	eval {...} called at /export/home/jmaslak/.cpan/build/Data-Pipeline-0.02-L2FZbF/blib/lib/Data/Pipeline.pm line 70
	Data::Pipeline::_find_class("Array") called at /export/home/jmaslak/.cpan/build/Data-Pipeline-0.02-L2FZbF/blib/lib/Data/Pipeline.pm line 23
	Data::Pipeline::import("Data::Pipeline", "Array", "Count", "CSV") called at t/11-machine.t line 7
	My::Machine::BEGIN() called at t/11-machine.t line 7
	eval {...} called at t/11-machine.t line 7
Class::MOP::load_class is deprecated at /export/home/jmaslak/perl5/perlbrew/perls/perl-5.23.1-ld/lib/site_perl/5.23.1/i86pc-solaris-ld/Class/MOP.pm line 69.
	Class::MOP::load_class("Data::Pipeline::Iterator") called at /export/home/jmaslak/.cpan/build/Data-Pipeline-0.02-L2FZbF/blib/lib/Data/Pipeline/Types.pm line 133
	Data::Pipeline::Types::__ANON__(Data::Pipeline::Adapter::Array=HASH(0x8d85bb8)) called at /export/home/jmaslak/perl5/perlbrew/perls/perl-5.23.1-ld/lib/site_perl/5.23.1/i86pc-solaris-ld/Moose/Meta/TypeCoercion.pm line 65
	Moose::Meta::TypeCoercion::__ANON__(Data::Pipeline::Adapter::Array=HASH(0x8d85bb8)) called at /export/home/jmaslak/perl5/perlbrew/perls/perl-5.23.1-ld/lib/site_perl/5.23.1/i86pc-solaris-ld/Moose/Meta/TypeCoercion.pm line 100
	Moose::Meta::TypeCoercion::coerce(Moose::Meta::TypeCoercion=HASH(0x8b8f070), Data::Pipeline::Adapter::Array=HASH(0x8d85bb8)) called at /export/home/jmaslak/perl5/perlbrew/perls/perl-5.23.1-ld/lib/site_perl/5.23.1/i86pc-solaris-ld/Moose/Meta/TypeConstraint.pm line 145
	Moose::Meta::TypeConstraint::coerce(Moose::Meta::TypeConstraint=HASH(0x8b9cd88), Data::Pipeline::Adapter::Array=HASH(0x8d85bb8)) called at /export/home/jmaslak/perl5/perlbrew/perls/perl-5.23.1-ld/lib/site_perl/5.23.1/MooseX/Types.pm line 515
	MooseX::Types::__ANON__(Data::Pipeline::Adapter::Array=HASH(0x8d85bb8)) called at /export/home/jmaslak/.cpan/build/Data-Pipeline-0.02-L2FZbF/blib/lib/Data/Pipeline/Aggregator/Pipeline.pm line 30
	Data::Pipeline::Aggregator::Pipeline::from(Data::Pipeline::Aggregator::Pipeline=HASH(0x8dcfcf0), "array", Data::Pipeline::Iterator=HASH(0x8dd08a0)) called at /export/home/jmaslak/.cpan/build/Data-Pipeline-0.02-L2FZbF/blib/lib/Data/Pipeline/Aggregator/Machine.pm line 124
	Data::Pipeline::Aggregator::Machine::__ANON__() called at /export/home/jmaslak/.cpan/build/Data-Pipeline-0.02-L2FZbF/blib/lib/Data/Pipeline/Machine.pm line 162
	Data::Pipeline::Machine::with_options(CODE(0x8d856e8), HASH(0x8d85768)) called at /export/home/jmaslak/.cpan/build/Data-Pipeline-0.02-L2FZbF/blib/lib/Data/Pipeline/Aggregator/Machine.pm line 125
	Data::Pipeline::Aggregator::Machine::from(Data::Pipeline::Aggregator::Machine=HASH(0x8bc1d18), "foo", "array", Data::Pipeline::Iterator=HASH(0x8dd08a0)) called at /export/home/jmaslak/.cpan/build/Data-Pipeline-0.02-L2FZbF/blib/lib/Data/Pipeline/Machine/Surrogate.pm line 38
	Data::Pipeline::Machine::Surrogate::from(Data::Pipeline::Machine::Surrogate=HASH(0x8dd0860)) called at /export/home/jmaslak/.cpan/build/Data-Pipeline-0.02-L2FZbF/blib/lib/Data/Pipeline/Types.pm line 143
	Data::Pipeline::Types::__ANON__(Data::Pipeline::Machine::Surrogate=HASH(0x8dd0860)) called at /export/home/jmaslak/perl5/perlbrew/perls/perl-5.23.1-ld/lib/site_perl/5.23.1/i86pc-solaris-ld/Moose/Meta/TypeCoercion.pm line 65
	Moose::Meta::TypeCoercion::__ANON__(Data::Pipeline::Machine::Surrogate=HASH(0x8dd0860)) called at /export/home/jmaslak/perl5/perlbrew/perls/perl-5.23.1-ld/lib/site_perl/5.23.1/i86pc-solaris-ld/Moose/Meta/TypeCoercion.pm line 100
	Moose::Meta::TypeCoercion::coerce(Moose::Meta::TypeCoercion=HASH(0x8b8f070), Data::Pipeline::Machine::Surrogate=HASH(0x8dd0860)) called at /export/home/jmaslak/perl5/perlbrew/perls/perl-5.23.1-ld/lib/site_perl/5.23.1/i86pc-solaris-ld/Moose/Meta/TypeConstraint.pm line 145
	Moose::Meta::TypeConstraint::coerce(Moose::Meta::TypeConstraint=HASH(0x8b9cd88), Data::Pipeline::Machine::Surrogate=HASH(0x8dd0860)) called at /export/home/jmaslak/perl5/perlbrew/perls/perl-5.23.1-ld/lib/site_perl/5.23.1/MooseX/Types.pm line 515
	MooseX::Types::__ANON__(Data::Pipeline::Machine::Surrogate=HASH(0x8dd0860)) called at /export/home/jmaslak/.cpan/build/Data-Pipeline-0.02-L2FZbF/blib/lib/Data/Pipeline/Aggregator/Pipeline.pm line 30
	Data::Pipeline::Aggregator::Pipeline::from(Data::Pipeline::Aggregator::Pipeline=HASH(0x8d84fc8), "array", ARRAY(0x8d851d8)) called at /export/home/jmaslak/.cpan/build/Data-Pipeline-0.02-L2FZbF/blib/lib/Data/Pipeline/Aggregator/Machine.pm line 124
	Data::Pipeline::Aggregator::Machine::__ANON__() called at /export/home/jmaslak/.cpan/build/Data-Pipeline-0.02-L2FZbF/blib/lib/Data/Pipeline/Machine.pm line 162
	Data::Pipeline::Machine::with_options(CODE(0x8d85208), HASH(0x8d85498)) called at /export/home/jmaslak/.cpan/build/Data-Pipeline-0.02-L2FZbF/blib/lib/Data/Pipeline/Aggregator/Machine.pm line 125
	Data::Pipeline::Aggregator::Machine::from(Data::Pipeline::Aggregator::Machine=HASH(0x8bc1d18), "array", ARRAY(0x8d851d8)) called at /export/home/jmaslak/perl5/perlbrew/perls/perl-5.23.1-ld/lib/site_perl/5.23.1/i86pc-solaris-ld/Moose/Meta/Method/Delegation.pm line 110
	Data::Pipeline::Machine::from(My::Machine=HASH(0x8d6e870), "array", ARRAY(0x8d851d8)) called at t/11-machine.t line 42
t/11-machine.t ......... ok
Class::MOP::load_class is deprecated at /export/home/jmaslak/perl5/perlbrew/perls/perl-5.23.1-ld/lib/site_perl/5.23.1/i86pc-solaris-ld/Class/MOP.pm line 69.
	Class::MOP::load_class("Data::Pipeline::Aggregator::Pipeline") called at /export/home/jmaslak/.cpan/build/Data-Pipeline-0.02-L2FZbF/blib/lib/Data/Pipeline.pm line 70
	eval {...} called at /export/home/jmaslak/.cpan/build/Data-Pipeline-0.02-L2FZbF/blib/lib/Data/Pipeline.pm line 70
	Data::Pipeline::_find_class("Pipeline") called at /export/home/jmaslak/.cpan/build/Data-Pipeline-0.02-L2FZbF/blib/lib/Data/Pipeline.pm line 23
	Data::Pipeline::import("Data::Pipeline", "Pipeline", "Count", "Array") called at t/12-options.t line 3
	main::BEGIN() called at t/12-options.t line 3
	eval {...} called at t/12-options.t line 3
Class::MOP::load_class is deprecated at /export/home/jmaslak/perl5/perlbrew/perls/perl-5.23.1-ld/lib/site_perl/5.23.1/i86pc-solaris-ld/Class/MOP.pm line 69.
	Class::MOP::load_class("Data::Pipeline::Aggregator::Machine") called at /export/home/jmaslak/.cpan/build/Data-Pipeline-0.02-L2FZbF/blib/lib/Data/Pipeline/Machine.pm line 20
	Data::Pipeline::Machine::BEGIN() called at /export/home/jmaslak/.cpan/build/Data-Pipeline-0.02-L2FZbF/blib/lib/Data/Pipeline/Machine.pm line 22
	eval {...} called at /export/home/jmaslak/.cpan/build/Data-Pipeline-0.02-L2FZbF/blib/lib/Data/Pipeline/Machine.pm line 22
	require Data/Pipeline/Machine.pm called at /export/home/jmaslak/.cpan/build/Data-Pipeline-0.02-L2FZbF/blib/lib/Data/Pipeline/Aggregator/Pipeline.pm line 10
	Data::Pipeline::Aggregator::Pipeline::BEGIN() called at /export/home/jmaslak/.cpan/build/Data-Pipeline-0.02-L2FZbF/blib/lib/Data/Pipeline/Machine.pm line 22
	eval {...} called at /export/home/jmaslak/.cpan/build/Data-Pipeline-0.02-L2FZbF/blib/lib/Data/Pipeline/Machine.pm line 22
	require Data/Pipeline/Aggregator/Pipeline.pm called at /export/home/jmaslak/perl5/perlbrew/perls/perl-5.23.1-ld/lib/site_perl/5.23.1/Module/Runtime.pm line 317
	Module::Runtime::require_module("Data::Pipeline::Aggregator::Pipeline") called at /export/home/jmaslak/perl5/perlbrew/perls/perl-5.23.1-ld/lib/site_perl/5.23.1/Class/Load.pm line 174
	Class::Load::try {...} () called at /export/home/jmaslak/perl5/perlbrew/perls/perl-5.23.1-ld/lib/site_perl/5.23.1/Try/Tiny.pm line 77
	eval {...} called at /export/home/jmaslak/perl5/perlbrew/perls/perl-5.23.1-ld/lib/site_perl/5.23.1/Try/Tiny.pm line 72
	Try::Tiny::try(CODE(0x8b4c460), Try::Tiny::Catch=REF(0x8b90df0)) called at /export/home/jmaslak/perl5/perlbrew/perls/perl-5.23.1-ld/lib/site_perl/5.23.1/Class/Load.pm line 180
	Class::Load::try_load_class("Data::Pipeline::Aggregator::Pipeline", undef) called at /export/home/jmaslak/perl5/perlbrew/perls/perl-5.23.1-ld/lib/site_perl/5.23.1/Class/Load.pm line 35
	Class::Load::load_class("Data::Pipeline::Aggregator::Pipeline") called at /export/home/jmaslak/.cpan/build/Data-Pipeline-0.02-L2FZbF/blib/lib/Data/Pipeline.pm line 70
	eval {...} called at /export/home/jmaslak/.cpan/build/Data-Pipeline-0.02-L2FZbF/blib/lib/Data/Pipeline.pm line 70
	Data::Pipeline::_find_class("Pipeline") called at /export/home/jmaslak/.cpan/build/Data-Pipeline-0.02-L2FZbF/blib/lib/Data/Pipeline.pm line 23
	Data::Pipeline::import("Data::Pipeline", "Pipeline", "Count", "Array") called at t/12-options.t line 3
	main::BEGIN() called at /export/home/jmaslak/.cpan/build/Data-Pipeline-0.02-L2FZbF/blib/lib/Data/Pipeline/Machine.pm line 22
	eval {...} called at /export/home/jmaslak/.cpan/build/Data-Pipeline-0.02-L2FZbF/blib/lib/Data/Pipeline/Machine.pm line 22
Class::MOP::load_class is deprecated at /export/home/jmaslak/perl5/perlbrew/perls/perl-5.23.1-ld/lib/site_perl/5.23.1/i86pc-solaris-ld/Class/MOP.pm line 69.
	Class::MOP::load_class("Data::Pipeline::Adapter::Array") called at /export/home/jmaslak/.cpan/build/Data-Pipeline-0.02-L2FZbF/blib/lib/Data/Pipeline/Types.pm line 83
	Data::Pipeline::Types::__ANON__(1) called at /export/home/jmaslak/perl5/perlbrew/perls/perl-5.23.1-ld/lib/site_perl/5.23.1/i86pc-solaris-ld/Moose/Meta/TypeCoercion.pm line 65
	Moose::Meta::TypeCoercion::__ANON__(1) called at /export/home/jmaslak/perl5/perlbrew/perls/perl-5.23.1-ld/lib/site_perl/5.23.1/i86pc-solaris-ld/Moose/Meta/TypeCoercion.pm line 100
	Moose::Meta::TypeCoercion::coerce(Moose::Meta::TypeCoercion=HASH(0x8b829a8), 1) called at /export/home/jmaslak/perl5/perlbrew/perls/perl-5.23.1-ld/lib/site_perl/5.23.1/i86pc-solaris-ld/Moose/Meta/TypeConstraint.pm line 145
	Moose::Meta::TypeConstraint::coerce(Moose::Meta::TypeConstraint=HASH(0x8b788e0), 1) called at /export/home/jmaslak/perl5/perlbrew/perls/perl-5.23.1-ld/lib/site_perl/5.23.1/MooseX/Types.pm line 515
	MooseX::Types::__ANON__(1) called at /export/home/jmaslak/perl5/perlbrew/perls/perl-5.23.1-ld/lib/site_perl/5.23.1/MooseX/Types.pm line 382
	Data::Pipeline::Types::to_Adapter(1) called at /export/home/jmaslak/.cpan/build/Data-Pipeline-0.02-L2FZbF/blib/lib/Data/Pipeline/Types.pm line 128
	Data::Pipeline::Types::__ANON__(1) called at /export/home/jmaslak/perl5/perlbrew/perls/perl-5.23.1-ld/lib/site_perl/5.23.1/i86pc-solaris-ld/Moose/Meta/TypeCoercion.pm line 65
	Moose::Meta::TypeCoercion::__ANON__(1) called at /export/home/jmaslak/perl5/perlbrew/perls/perl-5.23.1-ld/lib/site_perl/5.23.1/i86pc-solaris-ld/Moose/Meta/TypeCoercion.pm line 100
	Moose::Meta::TypeCoercion::coerce(Moose::Meta::TypeCoercion=HASH(0x8b98278), 1) called at /export/home/jmaslak/perl5/perlbrew/perls/perl-5.23.1-ld/lib/site_perl/5.23.1/i86pc-solaris-ld/Moose/Meta/TypeConstraint.pm line 145
	Moose::Meta::TypeConstraint::coerce(Moose::Meta::TypeConstraint=HASH(0x8b78b70), 1) called at /export/home/jmaslak/perl5/perlbrew/perls/perl-5.23.1-ld/lib/site_perl/5.23.1/MooseX/Types.pm line 515
	MooseX::Types::__ANON__(1) called at /export/home/jmaslak/.cpan/build/Data-Pipeline-0.02-L2FZbF/blib/lib/Data/Pipeline/Iterator/Options.pm line 45
	Data::Pipeline::Iterator::Options::build_source(Data::Pipeline::Iterator::Options=HASH(0x8c8d6f8)) called at /export/home/jmaslak/.cpan/build/Data-Pipeline-0.02-L2FZbF/blib/lib/Data/Pipeline/Iterator/Options.pm line 24
	Data::Pipeline::Iterator::Options::__ANON__(Data::Pipeline::Iterator::Options=HASH(0x8c8d6f8)) called at accessor Data::Pipeline::Iterator::Options::source (defined at /export/home/jmaslak/.cpan/build/Data-Pipeline-0.02-L2FZbF/blib/lib/Data/Pipeline/Iterator/Options.pm line 27) line 17
	Data::Pipeline::Iterator::Options::source(Data::Pipeline::Iterator::Options=HASH(0x8c8d6f8)) called at /export/home/jmaslak/.cpan/build/Data-Pipeline-0.02-L2FZbF/blib/lib/Data/Pipeline/Iterator.pm line 53
	Data::Pipeline::Iterator::finished(Data::Pipeline::Iterator::Options=HASH(0x8c8d6f8)) called at t/12-options.t line 23
t/12-options.t ......... ok
Class::MOP::load_class is deprecated at /export/home/jmaslak/perl5/perlbrew/perls/perl-5.23.1-ld/lib/site_perl/5.23.1/i86pc-solaris-ld/Class/MOP.pm line 69.
	Class::MOP::load_class("Data::Pipeline::Aggregator::Pipeline") called at /export/home/jmaslak/.cpan/build/Data-Pipeline-0.02-L2FZbF/blib/lib/Data/Pipeline.pm line 70
	eval {...} called at /export/home/jmaslak/.cpan/build/Data-Pipeline-0.02-L2FZbF/blib/lib/Data/Pipeline.pm line 70
	Data::Pipeline::_find_class("Pipeline") called at /export/home/jmaslak/.cpan/build/Data-Pipeline-0.02-L2FZbF/blib/lib/Data/Pipeline.pm line 23
	Data::Pipeline::import("Data::Pipeline", "Pipeline", "UrlBuilder") called at t/13-uribuilder.t line 3
	main::BEGIN() called at t/13-uribuilder.t line 3
	eval {...} called at t/13-uribuilder.t line 3
Class::MOP::load_class is deprecated at /export/home/jmaslak/perl5/perlbrew/perls/perl-5.23.1-ld/lib/site_perl/5.23.1/i86pc-solaris-ld/Class/MOP.pm line 69.
	Class::MOP::load_class("Data::Pipeline::Aggregator::Machine") called at /export/home/jmaslak/.cpan/build/Data-Pipeline-0.02-L2FZbF/blib/lib/Data/Pipeline/Machine.pm line 20
	Data::Pipeline::Machine::BEGIN() called at /export/home/jmaslak/.cpan/build/Data-Pipeline-0.02-L2FZbF/blib/lib/Data/Pipeline/Machine.pm line 22
	eval {...} called at /export/home/jmaslak/.cpan/build/Data-Pipeline-0.02-L2FZbF/blib/lib/Data/Pipeline/Machine.pm line 22
	require Data/Pipeline/Machine.pm called at /export/home/jmaslak/.cpan/build/Data-Pipeline-0.02-L2FZbF/blib/lib/Data/Pipeline/Aggregator/Pipeline.pm line 10
	Data::Pipeline::Aggregator::Pipeline::BEGIN() called at /export/home/jmaslak/.cpan/build/Data-Pipeline-0.02-L2FZbF/blib/lib/Data/Pipeline/Machine.pm line 22
	eval {...} called at /export/home/jmaslak/.cpan/build/Data-Pipeline-0.02-L2FZbF/blib/lib/Data/Pipeline/Machine.pm line 22
	require Data/Pipeline/Aggregator/Pipeline.pm called at /export/home/jmaslak/perl5/perlbrew/perls/perl-5.23.1-ld/lib/site_perl/5.23.1/Module/Runtime.pm line 317
	Module::Runtime::require_module("Data::Pipeline::Aggregator::Pipeline") called at /export/home/jmaslak/perl5/perlbrew/perls/perl-5.23.1-ld/lib/site_perl/5.23.1/Class/Load.pm line 174
	Class::Load::try {...} () called at /export/home/jmaslak/perl5/perlbrew/perls/perl-5.23.1-ld/lib/site_perl/5.23.1/Try/Tiny.pm line 77
	eval {...} called at /export/home/jmaslak/perl5/perlbrew/perls/perl-5.23.1-ld/lib/site_perl/5.23.1/Try/Tiny.pm line 72
	Try::Tiny::try(CODE(0x8b228a8), Try::Tiny::Catch=REF(0x8b89930)) called at /export/home/jmaslak/perl5/perlbrew/perls/perl-5.23.1-ld/lib/site_perl/5.23.1/Class/Load.pm line 180
	Class::Load::try_load_class("Data::Pipeline::Aggregator::Pipeline", undef) called at /export/home/jmaslak/perl5/perlbrew/perls/perl-5.23.1-ld/lib/site_perl/5.23.1/Class/Load.pm line 35
	Class::Load::load_class("Data::Pipeline::Aggregator::Pipeline") called at /export/home/jmaslak/.cpan/build/Data-Pipeline-0.02-L2FZbF/blib/lib/Data/Pipeline.pm line 70
	eval {...} called at /export/home/jmaslak/.cpan/build/Data-Pipeline-0.02-L2FZbF/blib/lib/Data/Pipeline.pm line 70
	Data::Pipeline::_find_class("Pipeline") called at /export/home/jmaslak/.cpan/build/Data-Pipeline-0.02-L2FZbF/blib/lib/Data/Pipeline.pm line 23
	Data::Pipeline::import("Data::Pipeline", "Pipeline", "UrlBuilder") called at t/13-uribuilder.t line 3
	main::BEGIN() called at /export/home/jmaslak/.cpan/build/Data-Pipeline-0.02-L2FZbF/blib/lib/Data/Pipeline/Machine.pm line 22
	eval {...} called at /export/home/jmaslak/.cpan/build/Data-Pipeline-0.02-L2FZbF/blib/lib/Data/Pipeline/Machine.pm line 22
Class::MOP::load_class is deprecated at /export/home/jmaslak/perl5/perlbrew/perls/perl-5.23.1-ld/lib/site_perl/5.23.1/i86pc-solaris-ld/Class/MOP.pm line 69.
	Class::MOP::load_class("Data::Pipeline::Iterator") called at /export/home/jmaslak/.cpan/build/Data-Pipeline-0.02-L2FZbF/blib/lib/Data/Pipeline/Types.pm line 133
	Data::Pipeline::Types::__ANON__(Data::Pipeline::Adapter::UrlBuilder=HASH(0x8d3ee18)) called at /export/home/jmaslak/perl5/perlbrew/perls/perl-5.23.1-ld/lib/site_perl/5.23.1/i86pc-solaris-ld/Moose/Meta/TypeCoercion.pm line 65
	Moose::Meta::TypeCoercion::__ANON__(Data::Pipeline::Adapter::UrlBuilder=HASH(0x8d3ee18)) called at /export/home/jmaslak/perl5/perlbrew/perls/perl-5.23.1-ld/lib/site_perl/5.23.1/i86pc-solaris-ld/Moose/Meta/TypeCoercion.pm line 100
	Moose::Meta::TypeCoercion::coerce(Moose::Meta::TypeCoercion=HASH(0x8b978f8), Data::Pipeline::Adapter::UrlBuilder=HASH(0x8d3ee18)) called at /export/home/jmaslak/perl5/perlbrew/perls/perl-5.23.1-ld/lib/site_perl/5.23.1/i86pc-solaris-ld/Moose/Meta/TypeConstraint.pm line 145
	Moose::Meta::TypeConstraint::coerce(Moose::Meta::TypeConstraint=HASH(0x8af90d8), Data::Pipeline::Adapter::UrlBuilder=HASH(0x8d3ee18)) called at /export/home/jmaslak/perl5/perlbrew/perls/perl-5.23.1-ld/lib/site_perl/5.23.1/MooseX/Types.pm line 515
	MooseX::Types::__ANON__(Data::Pipeline::Adapter::UrlBuilder=HASH(0x8d3ee18)) called at /export/home/jmaslak/.cpan/build/Data-Pipeline-0.02-L2FZbF/blib/lib/Data/Pipeline/Aggregator/Pipeline.pm line 47
	Data::Pipeline::Aggregator::Pipeline::transform(Data::Pipeline::Aggregator::Pipeline=HASH(0x8aef740), Data::Pipeline::Adapter::UrlBuilder=HASH(0x8d3ee18)) called at t/13-uribuilder.t line 16
t/13-uribuilder.t ...... ok
Class::MOP::load_class is deprecated at /export/home/jmaslak/perl5/perlbrew/perls/perl-5.23.1-ld/lib/site_perl/5.23.1/i86pc-solaris-ld/Class/MOP.pm line 69.
	Class::MOP::load_class("Data::Pipeline::Aggregator::Machine") called at /export/home/jmaslak/.cpan/build/Data-Pipeline-0.02-L2FZbF/blib/lib/Data/Pipeline/Machine.pm line 20
	Data::Pipeline::Machine::BEGIN() called at /export/home/jmaslak/.cpan/build/Data-Pipeline-0.02-L2FZbF/blib/lib/Data/Pipeline/Machine.pm line 22
	eval {...} called at /export/home/jmaslak/.cpan/build/Data-Pipeline-0.02-L2FZbF/blib/lib/Data/Pipeline/Machine.pm line 22
	require Data/Pipeline/Machine.pm called at unkown line 638
	Data::Pipeline::Parser::BEGIN() called at /export/home/jmaslak/.cpan/build/Data-Pipeline-0.02-L2FZbF/blib/lib/Data/Pipeline/Machine.pm line 22
	eval {...} called at /export/home/jmaslak/.cpan/build/Data-Pipeline-0.02-L2FZbF/blib/lib/Data/Pipeline/Machine.pm line 22
	require Data/Pipeline/Parser.pm called at t/20-script.t line 3
	main::BEGIN() called at /export/home/jmaslak/.cpan/build/Data-Pipeline-0.02-L2FZbF/blib/lib/Data/Pipeline/Machine.pm line 22
	eval {...} called at /export/home/jmaslak/.cpan/build/Data-Pipeline-0.02-L2FZbF/blib/lib/Data/Pipeline/Machine.pm line 22
Class::MOP::load_class is deprecated at /export/home/jmaslak/perl5/perlbrew/perls/perl-5.23.1-ld/lib/site_perl/5.23.1/i86pc-solaris-ld/Class/MOP.pm line 69.
	Class::MOP::load_class("Data::Pipeline::Adapter::Array") called at unkown line 1005
	eval {...} called at unkown line 1005
	Data::Pipeline::Parser::_load_filter(Data::Pipeline::Parser=HASH(0x8d282e8), "Adapter", "Array") called at unkown line 988
	Data::Pipeline::Parser::load_actions(Data::Pipeline::Parser=HASH(0x8d282e8), "Adapter", "Array") called at unkown line 264
	Data::Pipeline::Parser::__ANON__() called at unkown line 61
	Data::Pipeline::Parser::__ANON__() called at unkown line 978
	Data::Pipeline::Parser::_eval_in_m(Data::Pipeline::Parser=HASH(0x8d282e8), "", CODE(0x8d08e00)) called at unkown line 883
	Data::Pipeline::Parser::parse(Data::Pipeline::Parser=HASH(0x8d0cc68), HASH(0x820e728), "\x{a}    IN: Array\x{a}    OUT: Array\x{a}    USE: Identity\x{a}\x{a}    PIPELINE"..., HASH(0x820f298)) called at t/20-script.t line 9
Class::MOP::load_class is deprecated at /export/home/jmaslak/perl5/perlbrew/perls/perl-5.23.1-ld/lib/site_perl/5.23.1/i86pc-solaris-ld/Class/MOP.pm line 69.
	Class::MOP::load_class("Data::Pipeline::Iterator") called at /export/home/jmaslak/.cpan/build/Data-Pipeline-0.02-L2FZbF/blib/lib/Data/Pipeline/Types.pm line 133
	Data::Pipeline::Types::__ANON__(Data::Pipeline::Adapter::Array=HASH(0x8cf40a8)) called at /export/home/jmaslak/perl5/perlbrew/perls/perl-5.23.1-ld/lib/site_perl/5.23.1/i86pc-solaris-ld/Moose/Meta/TypeCoercion.pm line 65
	Moose::Meta::TypeCoercion::__ANON__(Data::Pipeline::Adapter::Array=HASH(0x8cf40a8)) called at /export/home/jmaslak/perl5/perlbrew/perls/perl-5.23.1-ld/lib/site_perl/5.23.1/i86pc-solaris-ld/Moose/Meta/TypeCoercion.pm line 100
	Moose::Meta::TypeCoercion::coerce(Moose::Meta::TypeCoercion=HASH(0x8681398), Data::Pipeline::Adapter::Array=HASH(0x8cf40a8)) called at /export/home/jmaslak/perl5/perlbrew/perls/perl-5.23.1-ld/lib/site_perl/5.23.1/i86pc-solaris-ld/Moose/Meta/TypeConstraint.pm line 145
	Moose::Meta::TypeConstraint::coerce(Moose::Meta::TypeConstraint=HASH(0x8c3d158), Data::Pipeline::Adapter::Array=HASH(0x8cf40a8)) called at /export/home/jmaslak/perl5/perlbrew/perls/perl-5.23.1-ld/lib/site_perl/5.23.1/MooseX/Types.pm line 515
	MooseX::Types::__ANON__(Data::Pipeline::Adapter::Array=HASH(0x8cf40a8)) called at /export/home/jmaslak/.cpan/build/Data-Pipeline-0.02-L2FZbF/blib/lib/Data/Pipeline/Aggregator/Pipeline.pm line 30
	Data::Pipeline::Aggregator::Pipeline::from(Data::Pipeline::Aggregator::Pipeline=HASH(0x8d030c8), "array", ARRAY(0x820f298)) called at /export/home/jmaslak/.cpan/build/Data-Pipeline-0.02-L2FZbF/blib/lib/Data/Pipeline/Aggregator/Machine.pm line 124
	Data::Pipeline::Aggregator::Machine::__ANON__() called at /export/home/jmaslak/.cpan/build/Data-Pipeline-0.02-L2FZbF/blib/lib/Data/Pipeline/Machine.pm line 162
	Data::Pipeline::Machine::with_options(CODE(0x83d5c68), HASH(0x83c22a8)) called at /export/home/jmaslak/.cpan/build/Data-Pipeline-0.02-L2FZbF/blib/lib/Data/Pipeline/Aggregator/Machine.pm line 125
	Data::Pipeline::Aggregator::Machine::from(Data::Pipeline::Aggregator::Machine=HASH(0x8cf9598), "array", ARRAY(0x820f298)) called at unkown line 966
	Data::Pipeline::Parser::run(Data::Pipeline::Parser=HASH(0x8d282e8), "from", HASH(0x8d08d38), "to", ARRAY(0x8cf57b8)) called at t/20-script.t line 24
t/20-script.t .......... ok
All tests successful.
Files=14, Tests=136,  5 wallclock secs ( 0.08 usr  0.07 sys +  3.63 cusr  1.56 csys =  5.34 CPU)
Result: PASS

------------------------------
PREREQUISITES
------------------------------

Prerequisite modules loaded:

requires:

    Module              Need Have    
    ------------------- ---- --------
    Moose               2.06 2.1405  

build_requires:

    Module              Need Have    
    ------------------- ---- --------
    ExtUtils::MakeMaker 6.36 7.04_01 
    Test::More          0    1.001014

configure_requires:

    Module              Need Have    
    ------------------- ---- --------
    ExtUtils::MakeMaker 6.36 7.04_01 


------------------------------
ENVIRONMENT AND OTHER CONTEXT
------------------------------

Environment variables:

    AUTOMATED_TESTING = 1
    LANG = en_US.UTF-8
    LC_ALL = 
    LC_COLLATE = 
    LC_CTYPE = 
    LC_MESSAGES = 
    LC_MONETARY = 
    LC_NUMERIC = 
    LC_TIME = 
    NONINTERACTIVE_TESTING = 1
    PATH = /export/home/jmaslak/perl5/perlbrew/bin:/export/home/jmaslak/perl5/perlbrew/perls/perl-5.23.1-ld/bin:/export/home/jmaslak/perltest/bin:/export/home/jmaslak/perltest/bin:/export/home/jmaslak/perltest/bin:/export/home/jmaslak/bin:~/bin:/export/home/jmaslak/perl5/perlbrew/bin:/export/home/jmaslak/perl5/perlbrew/perls/perl-5.23.1/bin:/usr/bin:/bin:/usr/ccs/bin:/usr/sbin:/usr/ccs/bin:/opt/solarisstudio12.4/bin:/usr/ucb:~/perltest/bin
    PERL5LIB = 
    PERL5OPT = 
    PERL5_CPANPLUS_IS_RUNNING = 26740
    PERL5_CPAN_IS_RUNNING = 26740
    PERL5_CPAN_IS_RUNNING_IN_RECURSION = 25853,26740
    PERLBREW_BASHRC_VERSION = 0.73
    PERLBREW_HOME = /export/home/jmaslak/.perlbrew
    PERLBREW_LIB = 
    PERLBREW_MANPATH = /export/home/jmaslak/perl5/perlbrew/perls/perl-5.23.1-ld/man
    PERLBREW_PATH = /export/home/jmaslak/perl5/perlbrew/bin:/export/home/jmaslak/perl5/perlbrew/perls/perl-5.23.1-ld/bin
    PERLBREW_PERL = perl-5.23.1-ld
    PERLBREW_ROOT = /export/home/jmaslak/perl5/perlbrew
    PERLBREW_VERSION = 0.73
    PERL_CR_SMOKER_CURRENT = Data-Pipeline-0.02
    PERL_EXTUTILS_AUTOINSTALL = --defaultdeps
    PERL_LOCAL_LIB_ROOT = 
    PERL_MM_USE_DEFAULT = 1
    SHELL = /usr/bin/bash
    TERM = screen

Perl special variables (and OS-specific diagnostics, for MSWin32):

    $^X = /export/home/jmaslak/perl5/perlbrew/perls/perl-5.23.1-ld/bin/perl5.23.1
    $UID/$EUID = 100 / 100
    $GID = 10 10
    $EGID = 10 10

Perl module toolchain versions installed:

    Module              Have    
    ------------------- --------
    CPAN                2.11    
    CPAN::Meta          2.150005
    Cwd                 3.56    
    ExtUtils::CBuilder  0.280223
    ExtUtils::Command   1.20    
    ExtUtils::Install   2.04    
    ExtUtils::MakeMaker 7.04_01 
    ExtUtils::Manifest  1.70    
    ExtUtils::ParseXS   3.28    
    File::Spec          3.56    
    JSON                2.90    
    JSON::PP            2.27300 
    Module::Build       0.4214  
    Module::Signature   n/a     
    Parse::CPAN::Meta   1.4417  
    Test::Harness       3.35    
    Test::More          1.001014
    YAML                1.15    
    YAML::Syck          n/a     
    version             0.9909  


--

Summary of my perl5 (revision 5 version 23 subversion 1) configuration:
   
  Platform:
    osname=solaris, osvers=2.11, archname=i86pc-solaris-ld
    uname='sunos solaris.antelope.net 5.11 11.2 i86pc i386 i86pc '
    config_args='-de -Dprefix=/export/home/jmaslak/perl5/perlbrew/perls/perl-5.23.1-ld -Duselongdouble -Dusedevel -Aeval:scriptdir=/export/home/jmaslak/perl5/perlbrew/perls/perl-5.23.1-ld/bin'
    hint=recommended, useposix=true, d_sigaction=define
    useithreads=undef, usemultiplicity=undef
    use64bitint=undef, use64bitall=undef, uselongdouble=define
    usemymalloc=n, bincompat5005=undef
  Compiler:
    cc='/opt/solarisstudio12.4/bin/cc', ccflags ='-I/usr/gnu/include -D_LARGEFILE_SOURCE -D_FILE_OFFSET_BITS=64 -DPERL_USE_SAFE_PUTENV',
    optimize='-O',
    cppflags='-I/usr/gnu/include'
    ccversion='Sun C 5.13 SunOS_i386 2014/10/20', gccversion='', gccosandvers=''
    intsize=4, longsize=4, ptrsize=4, doublesize=8, byteorder=1234, doublekind=3
    d_longlong=define, longlongsize=8, d_longdbl=define, longdblsize=12, longdblkind=3
    ivtype='long', ivsize=4, nvtype='long double', nvsize=12, Off_t='off_t', lseeksize=8
    alignbytes=4, prototype=define
  Linker and Libraries:
    ld='/opt/solarisstudio12.4/bin/cc', ldflags =' -L/usr/lib -L/usr/ccs/lib -L/opt/solarisstudio12.4/lib/compilers/staticlib -L/opt/solarisstudio12.4/lib/compilers/sse2 -L/opt/solarisstudio12.4/lib/compilers -L/lib -L/usr/gnu/lib '
    libpth=/usr/lib /usr/ccs/lib /opt/solarisstudio12.4/lib/compilers/staticlib /opt/solarisstudio12.4/lib/compilers/sse2 /opt/solarisstudio12.4/lib/compilers /lib /usr/gnu/lib
    libs=-lpthread -lsocket -lnsl -lgdbm -ldb -ldl -lm -lc -lsunmath
    perllibs=-lpthread -lsocket -lnsl -ldl -lm -lc -lsunmath
    libc=/lib/libc.so, so=so, useshrplib=false, libperl=libperl.a
    gnulibc_version=''
  Dynamic Linking:
    dlsrc=dl_dlopen.xs, dlext=so, d_dlsymun=undef, ccdlflags=' '
    cccdlflags='-KPIC', lddlflags='-G -L/usr/lib -L/usr/ccs/lib -L/opt/solarisstudio12.4/lib/compilers/staticlib -L/opt/solarisstudio12.4/lib/compilers/sse2 -L/opt/solarisstudio12.4/lib/compilers -L/lib -L/usr/gnu/lib'


Characteristics of this binary (from libperl): 
  Compile-time options: HAS_TIMES PERLIO_LAYERS PERL_COPY_ON_WRITE
                        PERL_DONT_CREATE_GVSV
                        PERL_HASH_FUNC_ONE_AT_A_TIME_HARD PERL_MALLOC_WRAP
                        PERL_PRESERVE_IVUV PERL_USE_DEVEL
                        PERL_USE_SAFE_PUTENV USE_LARGE_FILES USE_LOCALE
                        USE_LOCALE_COLLATE USE_LOCALE_CTYPE
                        USE_LOCALE_NUMERIC USE_LOCALE_TIME USE_LONG_DOUBLE
                        USE_PERLIO USE_PERL_ATOF
  Locally applied patches:
	Devel::PatchPerl 1.38
  Built under solaris
  Compiled at Jul 25 2015 00:29:56
  %ENV:
    PERL5LIB=""
    PERL5OPT=""
    PERL5_CPANPLUS_IS_RUNNING="26740"
    PERL5_CPAN_IS_RUNNING="26740"
    PERL5_CPAN_IS_RUNNING_IN_RECURSION="25853,26740"
    PERLBREW_BASHRC_VERSION="0.73"
    PERLBREW_HOME="/export/home/jmaslak/.perlbrew"
    PERLBREW_LIB=""
    PERLBREW_MANPATH="/export/home/jmaslak/perl5/perlbrew/perls/perl-5.23.1-ld/man"
    PERLBREW_PATH="/export/home/jmaslak/perl5/perlbrew/bin:/export/home/jmaslak/perl5/perlbrew/perls/perl-5.23.1-ld/bin"
    PERLBREW_PERL="perl-5.23.1-ld"
    PERLBREW_ROOT="/export/home/jmaslak/perl5/perlbrew"
    PERLBREW_VERSION="0.73"
    PERL_CR_SMOKER_CURRENT="Data-Pipeline-0.02"
    PERL_EXTUTILS_AUTOINSTALL="--defaultdeps"
    PERL_LOCAL_LIB_ROOT=""
    PERL_MM_USE_DEFAULT="1"
  @INC:
    /export/home/jmaslak/perl5/perlbrew/perls/perl-5.23.1-ld/lib/site_perl/5.23.1/i86pc-solaris-ld
    /export/home/jmaslak/perl5/perlbrew/perls/perl-5.23.1-ld/lib/site_perl/5.23.1
    /export/home/jmaslak/perl5/perlbrew/perls/perl-5.23.1-ld/lib/5.23.1/i86pc-solaris-ld
    /export/home/jmaslak/perl5/perlbrew/perls/perl-5.23.1-ld/lib/5.23.1
    .