Plack-Middleware-Session v0.33 Perl 5 v5.24.3 x86_64-linux
- Status
- Pass
- From
- Andreas J. König (ANDK)
- Dist
-
Plack-Middleware-Session v0.33
- Platform
- Perl 5 v5.24.3 x86_64-linux
- Date
- 2022-05-13 13:01:55
- ID
- ddc486a4-d2bc-11ec-a27a-9ab3cc76a987
This distribution has been tested as part of the CPAN Testers
project, supporting the Perl programming language. See
http://wiki.cpantesters.org/ for more information or email
questions to cpan-testers-discuss@perl.org
--
Dear Tatsuhiko Miyagawa,
This is a computer-generated report for Plack-Middleware-Session-0.33
on perl 5.24.3, created by CPAN-Reporter-1.2018.
Thank you for uploading your work to CPAN. Congratulations!
All tests were successful.
Sections of this report:
* Tester comments
* Program output
* Prerequisites
* Environment and other context
------------------------------
TESTER COMMENTS
------------------------------
Additional comments from tester:
this report is from an automated smoke testing program
and was not reviewed by a human for accuracy
------------------------------
PROGRAM OUTPUT
------------------------------
Output from './Build test':
t/000_load.t ................... ok
t/001_basic.t .................. ok
t/001a_basic.t ................. ok
t/002_basic_w_cookie.t ......... ok
t/002a_basic_w_cookie.t ........ ok
t/003_basic_w_file_store.t ..... ok
t/003a_basic_w_file_store.t .... ok
t/004_basic_file_w_customs.t ... ok
t/004a_basic_file_w_customs.t .. ok
t/005_basic_w_cache_store.t .... ok
t/005a_basic_w_cache_store.t ... ok
t/006_basic_w_dbi_store.t ...... ok
t/010_middleware.t ............. ok
t/010a_middleware.t ............ ok
t/012_streaming.t .............. ok
t/013_cookiestore.t ............ ok
t/014_cookie_options.t ......... ok
t/015_cookie_options_mw.t ...... ok
t/016_cookiestore_w_customs.t .. ok
t/author-pod-syntax.t .......... skipped: these tests are for testing by the author
All tests successful.
Files=20, Tests=513, 6 wallclock secs ( 0.07 usr 0.06 sys + 1.97 cusr 0.70 csys = 2.80 CPU)
Result: PASS
------------------------------
PREREQUISITES
------------------------------
Prerequisite modules loaded:
requires:
Module Need Have
--------------------- ------ --------
Cookie::Baker 0.10 0.11
Digest::HMAC_SHA1 1.03 1.04
Digest::SHA 0 6.02
Plack 0.9910 1.0048
build_requires:
Module Need Have
--------------------- ------ --------
HTTP::Cookies 0 6.10
HTTP::Request::Common 0 6.36
LWP::UserAgent 0 6.61
Test::Fatal 0.006 0.016
Test::More 0.88 1.302190
Test::Requires 0 0.11
configure_requires:
Module Need Have
--------------------- ------ --------
Module::Build::Tiny 0.034 0.039
------------------------------
ENVIRONMENT AND OTHER CONTEXT
------------------------------
Environment variables:
AUTOMATED_TESTING = 1
LANG = en_US.UTF-8
PATH = /home/sand/bin:/usr/local/bin:/usr/bin:/bin:/usr/games:/usr/local/perl/bin:/usr/X11/bin:/sbin:/usr/sbin
PERL5LIB =
PERL5OPT =
PERL5_CPANPLUS_IS_RUNNING = 43505
PERL5_CPAN_IS_RUNNING = 43505
PERL_CANARY_STABILITY_NOPROMPT = 1
PERL_MM_USE_DEFAULT = 1
PERL_USE_UNSAFE_INC = 1
SHELL = /usr/bin/zsh
TERM = screen
Perl special variables (and OS-specific diagnostics, for MSWin32):
$^X = /home/sand/src/perl/repoperls/installed-perls/host/k93msid/v5.24.3/bb7f/bin/perl
$UID/$EUID = 1005 / 1005
$GID = 1005 1005
$EGID = 1005 1005
Perl module toolchain versions installed:
Module Have
------------------- --------
CPAN 2.33
CPAN::Meta 2.150010
Cwd 3.75
ExtUtils::CBuilder 0.280236
ExtUtils::Command 7.64
ExtUtils::Install 2.06
ExtUtils::MakeMaker 7.64
ExtUtils::Manifest 1.70
ExtUtils::ParseXS 3.44
File::Spec 3.75
JSON 4.05
JSON::PP 4.08
Module::Build 0.4231
Module::Signature 0.88
Parse::CPAN::Meta 2.150010
Test::Harness 3.42
Test::More 1.302190
YAML 1.30
YAML::Syck 1.34
version 0.9929
--
Summary of my perl5 (revision 5 version 24 subversion 3) configuration:
Derived from: 9f1d3884c227a955e9ecaaadba4cba3280c47e3a
Platform:
osname=linux, osvers=5.15.0-2-amd64, archname=x86_64-linux
uname='linux k93msid 5.15.0-2-amd64 #1 smp debian 5.15.5-2 (2021-12-18) x86_64 gnulinux '
config_args='-Dprefix=/home/sand/src/perl/repoperls/installed-perls/host/k93msid/v5.24.3/bb7f -Dmyhostname=k93msid -Dinstallusrbinperl=n -Uversiononly -Dusedevel -des -Ui_db -Dlibswanted=cl pthread socket inet nsl gdbm dbm malloc dl ld sun m crypt sec util c cposix posix ucb BSD gdbm_compat -Uuseithreads -Uuselongdouble -DEBUGGING=both'
hint=recommended, useposix=true, d_sigaction=define
useithreads=undef, usemultiplicity=undef
use64bitint=define, use64bitall=define, uselongdouble=undef
usemymalloc=n, bincompat5005=undef
Compiler:
cc='cc', ccflags ='-fwrapv -DDEBUGGING -fno-strict-aliasing -pipe -fstack-protector-strong -I/usr/local/include -D_LARGEFILE_SOURCE -D_FILE_OFFSET_BITS=64 -D_FORTIFY_SOURCE=2',
optimize='-O2 -g',
cppflags='-fwrapv -DDEBUGGING -fno-strict-aliasing -pipe -fstack-protector-strong -I/usr/local/include'
ccversion='', gccversion='11.2.0', gccosandvers=''
intsize=4, longsize=8, ptrsize=8, doublesize=8, byteorder=12345678, doublekind=3
d_longlong=define, longlongsize=8, d_longdbl=define, longdblsize=16, longdblkind=3
ivtype='long', ivsize=8, nvtype='double', nvsize=8, Off_t='off_t', lseeksize=8
alignbytes=8, prototype=define
Linker and Libraries:
ld='cc', ldflags =' -fstack-protector-strong -L/usr/local/lib'
libpth=/usr/local/lib /usr/include/x86_64-linux-gnu /usr/lib /lib/x86_64-linux-gnu /lib/../lib /usr/lib/x86_64-linux-gnu /usr/lib/../lib /lib
libs=-lpthread -lnsl -ldl -lm -lcrypt -lutil -lc
perllibs=-lpthread -lnsl -ldl -lm -lcrypt -lutil -lc
libc=libc-2.33.so, so=so, useshrplib=false, libperl=libperl.a
gnulibc_version='2.33'
Dynamic Linking:
dlsrc=dl_dlopen.xs, dlext=so, d_dlsymun=undef, ccdlflags='-Wl,-E'
cccdlflags='-fPIC', lddlflags='-shared -O2 -g -L/usr/local/lib -fstack-protector-strong'
Characteristics of this binary (from libperl):
Compile-time options: DEBUGGING HAS_TIMES PERLIO_LAYERS PERL_COPY_ON_WRITE
PERL_DONT_CREATE_GVSV
PERL_HASH_FUNC_ONE_AT_A_TIME_HARD PERL_MALLOC_WRAP
PERL_PRESERVE_IVUV PERL_USE_DEVEL USE_64_BIT_ALL
USE_64_BIT_INT USE_LARGE_FILES USE_LOCALE
USE_LOCALE_COLLATE USE_LOCALE_CTYPE
USE_LOCALE_NUMERIC USE_LOCALE_TIME USE_PERLIO
USE_PERL_ATOF
Locally applied patches:
uncommitted-changes
Built under linux
Compiled at Mar 17 2022 12:01:29
%ENV:
PERL5LIB=""
PERL5OPT=""
PERL5_CPANPLUS_IS_RUNNING="43505"
PERL5_CPAN_IS_RUNNING="43505"
PERL_CANARY_STABILITY_NOPROMPT="1"
PERL_MM_USE_DEFAULT="1"
PERL_USE_UNSAFE_INC="1"
@INC:
/home/sand/src/perl/repoperls/installed-perls/host/k93msid/v5.24.3/bb7f/lib/site_perl/5.24.3/x86_64-linux
/home/sand/src/perl/repoperls/installed-perls/host/k93msid/v5.24.3/bb7f/lib/site_perl/5.24.3
/home/sand/src/perl/repoperls/installed-perls/host/k93msid/v5.24.3/bb7f/lib/5.24.3/x86_64-linux
/home/sand/src/perl/repoperls/installed-perls/host/k93msid/v5.24.3/bb7f/lib/5.24.3
.