Locale-TextDomain-OO-Extract v2.017 Perl 5 v5.30.3 x86_64-linux-thread-multi-ld
- Status
- Pass
- From
- Andreas J. König (ANDK)
- Dist
-
Locale-TextDomain-OO-Extract v2.017
- Platform
- Perl 5 v5.30.3 x86_64-linux-thread-multi-ld
- Date
- 2025-01-15 13:58:57
- ID
- dd87716c-d348-11ef-bc4e-d9ae814c45b4
This distribution has been tested as part of the CPAN Testers
project, supporting the Perl programming language. See
http://wiki.cpantesters.org/ for more information or email
questions to cpan-testers-discuss@perl.org
--
Dear Steffen Winkler,
This is a computer-generated report for Locale-TextDomain-OO-Extract-2.017
on perl 5.30.3, created by CPAN-Reporter-1.2018.
Thank you for uploading your work to CPAN. Congratulations!
All tests were successful.
Sections of this report:
* Tester comments
* Program output
* Prerequisites
* Environment and other context
------------------------------
TESTER COMMENTS
------------------------------
Additional comments from tester:
this report is from an automated smoke testing program
and was not reviewed by a human for accuracy
------------------------------
PROGRAM OUTPUT
------------------------------
Output from '/usr/bin/make test':
PERL_DL_NONLAZY=1 "/home/sand/src/perl/repoperls/installed-perls/host/k93msid/v5.30.3/ac75/bin/perl" "-MExtUtils::Command::MM" "-MTest::Harness" "-e" "undef *Test::Harness::Switches; test_harness(0, 'blib/lib', 'blib/arch')" t/*.t
t/01_debug.t ............................... skipped: Author test. Set $ENV{AUTHOR_TESTING} to a true value to run.
t/11_extract_perl_filter_ignore.t .......... ok
t/11_extract_perl_filter_only_babelfish.t .. ok
t/12_extract_tt_utf-8.t .................... ok
t/13_extract_js.t .......................... ok
t/14_extract_html.t ........................ ok
t/15_extract_yaml.t ........................ ok
t/21_process_utf-8.t ....................... skipped: Set $ENV{AUTHOR_TESTING} to run this test.
t/22_process_extended_skip_utf-8.t ......... skipped: Set $ENV{AUTHOR_TESTING} to run this test.
t/31_test_examples_utf-8.t ................. skipped: Set $ENV{AUTHOR_TESTING} to run this test.
t/chars.t .................................. skipped: Author test. Set $ENV{AUTHOR_TESTING} to a true value to run.
t/perl_critic.t ............................ skipped: Author test. Set $ENV{AUTHOR_TESTING} to a true value to run.
t/pod.t .................................... ok
t/pod_coverage.t ........................... ok
t/prereq_build.t ........................... skipped: Author test. Set $ENV{RELEASE_TESTING} to a true value to run.
All tests successful.
Files=15, Tests=78, 4 wallclock secs ( 0.07 usr 0.03 sys + 2.80 cusr 0.49 csys = 3.39 CPU)
Result: PASS
------------------------------
PREREQUISITES
------------------------------
Prerequisite modules loaded:
requires:
Module Need Have
-------------------------------------------------- -------- --------
Carp 0 1.50
Class::Load 0 0.25
Clone 0 0.46
Cwd 0 3.78
Data::Dumper 0 2.183
Encode 0 3.21
Locale::MO::File 0.05 0.09
Locale::PO 0.25 0.27
Locale::TextDomain::OO::Util 3.001 4.002
Locale::TextDomain::OO::Util::ExtractHeader 0 4.001
Locale::TextDomain::OO::Util::JoinSplitLexiconKeys 0 4.001
Locale::Utils::PlaceholderMaketext 0 1.005
Moo 1.003001 2.005005
Moo::Role 0 2.005005
MooX::StrictConstructor 0 0.011
MooX::Types::MooseLike::Base 0 0.29
namespace::autoclean 0 0.29
Path::Tiny 0 0.146
Set::Scalar 0 1.29
Test::Differences 0.60 0.69
Test::Exception 0 0.43
Test::More 0 1.302204
Test::NoWarnings 0 1.06
build_requires:
Module Need Have
-------------------------------------------------- -------- --------
ExtUtils::MakeMaker 0 7.70
opt_requires:
Module Need Have
-------------------------------------------------- -------- --------
Path::Iterator::Rule 0 1.015
Test::Pod 1.14 1.52
Test::Pod::Coverage 1.04 1.10
------------------------------
ENVIRONMENT AND OTHER CONTEXT
------------------------------
Environment variables:
AUTOMATED_TESTING = 1
LANG = en_US.UTF-8
LANGUAGE = en_US:en
PATH = /home/sand/bin:/usr/local/bin:/usr/bin:/bin:/usr/games:/usr/local/perl/bin:/usr/X11/bin:/sbin:/usr/sbin
PERL5LIB =
PERL5OPT =
PERL5_CPANPLUS_IS_RUNNING = 464000
PERL5_CPAN_IS_RUNNING = 464000
PERL_CANARY_STABILITY_NOPROMPT = 1
PERL_MM_USE_DEFAULT = 1
PERL_USE_UNSAFE_INC = 1
SHELL = /usr/bin/zsh
TERM = screen
Perl special variables (and OS-specific diagnostics, for MSWin32):
$^X = /home/sand/src/perl/repoperls/installed-perls/host/k93msid/v5.30.3/ac75/bin/perl
$UID/$EUID = 1005 / 1005
$GID = 1005 1005
$EGID = 1005 1005
Perl module toolchain versions installed:
Module Have
------------------- --------
CPAN 2.37
CPAN::Meta 2.150010
Cwd 3.78
ExtUtils::CBuilder 0.280236
ExtUtils::Command 7.70
ExtUtils::Install 2.22
ExtUtils::MakeMaker 7.70
ExtUtils::Manifest 1.75
ExtUtils::ParseXS 3.51
File::Spec 3.78
JSON 4.10
JSON::PP 4.12
Module::Build 0.4234
Module::Signature 0.88
Parse::CPAN::Meta 2.150010
Test::Harness 3.50
Test::More 1.302204
YAML 1.30
YAML::Syck 1.34
version 0.9933
--
Summary of my perl5 (revision 5 version 30 subversion 3) configuration:
Commit id: 65ddc30325817c6cd4df6ca1d4a1af2383875c3f
Platform:
osname=linux
osvers=5.16.0-5-amd64
archname=x86_64-linux-thread-multi-ld
uname='linux k93msid 5.16.0-5-amd64 #1 smp preempt debian 5.16.14-1 (2022-03-15) x86_64 gnulinux '
config_args='-Dprefix=/home/sand/src/perl/repoperls/installed-perls/host/k93msid/v5.30.3/ac75 -Dmyhostname=k93msid -Dinstallusrbinperl=n -Uversiononly -Dusedevel -des -Ui_db -Dlibswanted=cl pthread socket inet nsl gdbm dbm malloc dl ld sun m crypt sec util c cposix posix ucb BSD gdbm_compat -Duseithreads -Duselongdouble -DEBUGGING=both'
hint=recommended
useposix=true
d_sigaction=define
useithreads=define
usemultiplicity=define
use64bitint=define
use64bitall=define
uselongdouble=define
usemymalloc=n
default_inc_excludes_dot=define
bincompat5005=undef
Compiler:
cc='cc'
ccflags ='-D_REENTRANT -D_GNU_SOURCE -fwrapv -DDEBUGGING -fno-strict-aliasing -pipe -fstack-protector-strong -I/usr/local/include -D_LARGEFILE_SOURCE -D_FILE_OFFSET_BITS=64 -D_FORTIFY_SOURCE=2'
optimize='-O2 -g'
cppflags='-D_REENTRANT -D_GNU_SOURCE -fwrapv -DDEBUGGING -fno-strict-aliasing -pipe -fstack-protector-strong -I/usr/local/include'
ccversion=''
gccversion='11.2.0'
gccosandvers=''
intsize=4
longsize=8
ptrsize=8
doublesize=8
byteorder=12345678
doublekind=3
d_longlong=define
longlongsize=8
d_longdbl=define
longdblsize=16
longdblkind=3
ivtype='long'
ivsize=8
nvtype='long double'
nvsize=16
Off_t='off_t'
lseeksize=8
alignbytes=16
prototype=define
Linker and Libraries:
ld='cc'
ldflags =' -fstack-protector-strong -L/usr/local/lib'
libpth=/usr/local/lib /usr/include/x86_64-linux-gnu /usr/lib /lib/x86_64-linux-gnu /lib/../lib /usr/lib/x86_64-linux-gnu /usr/lib/../lib /lib
libs=-lpthread -lnsl -ldl -lm -lcrypt -lutil -lc
perllibs=-lpthread -lnsl -ldl -lm -lcrypt -lutil -lc
libc=libc-2.33.so
so=so
useshrplib=false
libperl=libperl.a
gnulibc_version='2.33'
Dynamic Linking:
dlsrc=dl_dlopen.xs
dlext=so
d_dlsymun=undef
ccdlflags='-Wl,-E'
cccdlflags='-fPIC'
lddlflags='-shared -O2 -g -L/usr/local/lib -fstack-protector-strong'
Characteristics of this binary (from libperl):
Compile-time options:
DEBUGGING
HAS_TIMES
MULTIPLICITY
PERLIO_LAYERS
PERL_COPY_ON_WRITE
PERL_DONT_CREATE_GVSV
PERL_IMPLICIT_CONTEXT
PERL_MALLOC_WRAP
PERL_OP_PARENT
PERL_PRESERVE_IVUV
PERL_TRACK_MEMPOOL
PERL_USE_DEVEL
USE_64_BIT_ALL
USE_64_BIT_INT
USE_ITHREADS
USE_LARGE_FILES
USE_LOCALE
USE_LOCALE_COLLATE
USE_LOCALE_CTYPE
USE_LOCALE_NUMERIC
USE_LOCALE_TIME
USE_LONG_DOUBLE
USE_PERLIO
USE_PERL_ATOF
USE_REENTRANT_API
USE_THREAD_SAFE_LOCALE
Built under linux
Compiled at Mar 19 2022 13:58:39
%ENV:
PERL5LIB=""
PERL5OPT=""
PERL5_CPANPLUS_IS_RUNNING="464000"
PERL5_CPAN_IS_RUNNING="464000"
PERL_CANARY_STABILITY_NOPROMPT="1"
PERL_MM_USE_DEFAULT="1"
PERL_USE_UNSAFE_INC="1"
@INC:
/home/sand/src/perl/repoperls/installed-perls/host/k93msid/v5.30.3/ac75/lib/site_perl/5.30.3/x86_64-linux-thread-multi-ld
/home/sand/src/perl/repoperls/installed-perls/host/k93msid/v5.30.3/ac75/lib/site_perl/5.30.3
/home/sand/src/perl/repoperls/installed-perls/host/k93msid/v5.30.3/ac75/lib/5.30.3/x86_64-linux-thread-multi-ld
/home/sand/src/perl/repoperls/installed-perls/host/k93msid/v5.30.3/ac75/lib/5.30.3
.