Catalyst-Controller-ActionRole v0.17 Perl 5 v5.24.1 x86_64-linux

Status
Pass
From
Andreas J. König (ANDK)
Dist
Catalyst-Controller-ActionRole v0.17
Platform
Perl 5 v5.24.1 x86_64-linux
Date
2018-04-09 21:13:35
ID
dd78a4f4-3c3a-11e8-aaba-6c38becc577d
This distribution has been tested as part of the CPAN Testers
project, supporting the Perl programming language.  See
http://wiki.cpantesters.org/ for more information or email
questions to cpan-testers-discuss@perl.org


--
Dear Karen Etheridge,

This is a computer-generated report for Catalyst-Controller-ActionRole-0.17
on perl 5.24.1, created by CPAN-Reporter-1.2018.

Thank you for uploading your work to CPAN.  Congratulations!
All tests were successful.

Sections of this report:

    * Tester comments
    * Program output
    * Prerequisites
    * Environment and other context

------------------------------
TESTER COMMENTS
------------------------------

Additional comments from tester:

this report is from an automated smoke testing program
and was not reviewed by a human for accuracy

------------------------------
PROGRAM OUTPUT
------------------------------

Output from './Build test':

# 
# Versions for all modules listed in MYMETA.json (including optional ones):
# 
# === Configure Requires ===
# 
#     Module               Want  Have
#     ------------------- ----- -----
#     Module::Build::Tiny 0.039 0.039
# 
# === Test Requires ===
# 
#     Module                 Want     Have
#     ---------------------- ---- --------
#     Catalyst                any  5.90117
#     Catalyst::Action        any    undef
#     Catalyst::Action::REST 0.74     1.21
#     Catalyst::Test          any    undef
#     ExtUtils::MakeMaker     any     7.34
#     File::Spec              any     3.74
#     FindBin                 any     1.51
#     Moose::Role             any   2.2010
#     Test::More              any 1.302135
#     lib                     any     0.63
#     namespace::clean        any     0.27
#     parent                  any    0.236
#     strict                  any     1.11
#     warnings                any     1.36
# 
# === Test Recommends ===
# 
#     Module         Want     Have
#     ---------- -------- --------
#     CPAN::Meta 2.120900 2.150010
# 
# === Runtime Requires ===
# 
#     Module                   Want    Have
#     --------------------- ------- -------
#     Catalyst::Controller      any   undef
#     Catalyst::Runtime     5.80025 5.90117
#     Catalyst::Utils           any   undef
#     Class::Load               any    0.24
#     List::Util                any    1.50
#     Moose                     any  2.2010
#     Moose::Meta::Class        any  2.2010
#     MooseX::Types::Moose      any    0.50
#     String::RewritePrefix   0.004   0.007
#     namespace::autoclean      any    0.28
# 
t/00-report-prereqs.t ..... ok
t/action-class.t .......... ok
t/basic.t ................. ok
t/basic_rest.t ............ ok
t/execution-via-config.t .. ok
t/execution-via-does.t .... ok
All tests successful.
Files=6, Tests=44,  9 wallclock secs ( 0.03 usr  0.04 sys +  3.78 cusr  0.37 csys =  4.22 CPU)
Result: PASS

------------------------------
PREREQUISITES
------------------------------

Prerequisite modules loaded:

requires:

    Module                 Need    Have    
    ---------------------- ------- --------
    Catalyst::Controller   0       0       
    Catalyst::Runtime      5.80025 5.90117 
    Catalyst::Utils        0       0       
    Class::Load            0       0.24    
    List::Util             0       1.50    
    Moose                  0       2.2010  
    Moose::Meta::Class     0       2.2010  
    MooseX::Types::Moose   0       0.50    
    namespace::autoclean   0       0.28    
    perl                   5.006   5.024001
    String::RewritePrefix  0.004   0.007   

build_requires:

    Module                 Need    Have    
    ---------------------- ------- --------
    Catalyst               0       5.90117 
    Catalyst::Action       0       0       
    Catalyst::Action::REST 0.74    1.21    
    Catalyst::Test         0       0       
    ExtUtils::MakeMaker    0       7.34    
    File::Spec             0       3.74    
    FindBin                0       1.51    
    lib                    0       0.63    
    Moose::Role            0       2.2010  
    namespace::clean       0       0.27    
    parent                 0       0.236   
    perl                   5.006   5.024001
    strict                 0       1.11    
    Test::More             0       1.302135
    warnings               0       1.36    

configure_requires:

    Module                 Need    Have    
    ---------------------- ------- --------
    Module::Build::Tiny    0.039   0.039   
    perl                   5.006   5.024001


------------------------------
ENVIRONMENT AND OTHER CONTEXT
------------------------------

Environment variables:

    AUTOMATED_TESTING = 1
    LANG = en_US.UTF-8
    PATH = /home/sand/bin:/usr/local/bin:/usr/bin:/bin:/usr/games:/usr/local/perl/bin:/usr/X11/bin:/sbin:/usr/sbin
    PERL5LIB = 
    PERL5OPT = 
    PERL5_CPANPLUS_IS_RUNNING = 30597
    PERL5_CPAN_IS_RUNNING = 30597
    PERL_CANARY_STABILITY_NOPROMPT = 1
    PERL_MM_USE_DEFAULT = 1
    PERL_USE_UNSAFE_INC = 1
    SHELL = /usr/bin/zsh
    TERM = screen

Perl special variables (and OS-specific diagnostics, for MSWin32):

    $^X = /home/sand/src/perl/repoperls/installed-perls/host/k93msid/v5.24.1/da1c/bin/perl
    $UID/$EUID = 1005 / 1005
    $GID = 1005 1005
    $EGID = 1005 1005

Perl module toolchain versions installed:

    Module              Have      
    ------------------- ----------
    CPAN                2.20      
    CPAN::Meta          2.150010  
    Cwd                 3.74      
    ExtUtils::CBuilder  0.280230  
    ExtUtils::Command   7.34      
    ExtUtils::Install   2.06      
    ExtUtils::MakeMaker 7.34      
    ExtUtils::Manifest  1.70      
    ExtUtils::ParseXS   3.31      
    File::Spec          3.74      
    JSON                2.97001   
    JSON::PP            2.27300_01
    Module::Build       0.4224    
    Module::Signature   0.81      
    Parse::CPAN::Meta   2.150010  
    Test::Harness       3.42      
    Test::More          1.302135  
    YAML                1.24      
    YAML::Syck          1.30      
    version             0.992     


--

Summary of my perl5 (revision 5 version 24 subversion 1) configuration:
  Derived from: 443bd156a6baaf7a8fe6b6b05fcf6c4178140ed2
  Platform:
    osname=linux, osvers=4.14.0-3-amd64, archname=x86_64-linux
    uname='linux k93msid 4.14.0-3-amd64 #1 smp debian 4.14.12-2 (2018-01-06) x86_64 gnulinux '
    config_args='-Dprefix=/home/sand/src/perl/repoperls/installed-perls/host/k93msid/v5.24.1/da1c -Dmyhostname=k93msid -Dinstallusrbinperl=n -Uversiononly -Dusedevel -des -Ui_db -Dlibswanted=cl pthread socket inet nsl gdbm dbm malloc dl ld sun m crypt sec util c cposix posix ucb BSD gdbm_compat -Uuseithreads -Uuselongdouble -DEBUGGING=-g'
    hint=recommended, useposix=true, d_sigaction=define
    useithreads=undef, usemultiplicity=undef
    use64bitint=define, use64bitall=define, uselongdouble=undef
    usemymalloc=n, bincompat5005=undef
  Compiler:
    cc='cc', ccflags ='-fwrapv -fno-strict-aliasing -pipe -fstack-protector-strong -I/usr/local/include -D_LARGEFILE_SOURCE -D_FILE_OFFSET_BITS=64',
    optimize='-O2 -g',
    cppflags='-fwrapv -fno-strict-aliasing -pipe -fstack-protector-strong -I/usr/local/include'
    ccversion='', gccversion='7.2.0', gccosandvers=''
    intsize=4, longsize=8, ptrsize=8, doublesize=8, byteorder=12345678, doublekind=3
    d_longlong=define, longlongsize=8, d_longdbl=define, longdblsize=16, longdblkind=3
    ivtype='long', ivsize=8, nvtype='double', nvsize=8, Off_t='off_t', lseeksize=8
    alignbytes=8, prototype=define
  Linker and Libraries:
    ld='cc', ldflags =' -fstack-protector-strong -L/usr/local/lib'
    libpth=/usr/local/lib /usr/lib/gcc/x86_64-linux-gnu/7/include-fixed /usr/include/x86_64-linux-gnu /usr/lib /lib/x86_64-linux-gnu /lib/../lib /usr/lib/x86_64-linux-gnu /usr/lib/../lib /lib
    libs=-lpthread -lnsl -ldl -lm -lcrypt -lutil -lc
    perllibs=-lpthread -lnsl -ldl -lm -lcrypt -lutil -lc
    libc=libc-2.26.so, so=so, useshrplib=false, libperl=libperl.a
    gnulibc_version='2.26'
  Dynamic Linking:
    dlsrc=dl_dlopen.xs, dlext=so, d_dlsymun=undef, ccdlflags='-Wl,-E'
    cccdlflags='-fPIC', lddlflags='-shared -O2 -g -L/usr/local/lib -fstack-protector-strong'


Characteristics of this binary (from libperl): 
  Compile-time options: HAS_TIMES PERLIO_LAYERS PERL_COPY_ON_WRITE
                        PERL_DONT_CREATE_GVSV
                        PERL_HASH_FUNC_ONE_AT_A_TIME_HARD PERL_MALLOC_WRAP
                        PERL_PRESERVE_IVUV PERL_USE_DEVEL USE_64_BIT_ALL
                        USE_64_BIT_INT USE_LARGE_FILES USE_LOCALE
                        USE_LOCALE_COLLATE USE_LOCALE_CTYPE
                        USE_LOCALE_NUMERIC USE_LOCALE_TIME USE_PERLIO
                        USE_PERL_ATOF
  Locally applied patches:
	uncommitted-changes
  Built under linux
  Compiled at Mar  6 2018 21:19:13
  %ENV:
    PERL5LIB=""
    PERL5OPT=""
    PERL5_CPANPLUS_IS_RUNNING="30597"
    PERL5_CPAN_IS_RUNNING="30597"
    PERL_CANARY_STABILITY_NOPROMPT="1"
    PERL_MM_USE_DEFAULT="1"
    PERL_USE_UNSAFE_INC="1"
  @INC:
    /home/sand/src/perl/repoperls/installed-perls/host/k93msid/v5.24.1/da1c/lib/site_perl/5.24.1/x86_64-linux
    /home/sand/src/perl/repoperls/installed-perls/host/k93msid/v5.24.1/da1c/lib/site_perl/5.24.1
    /home/sand/src/perl/repoperls/installed-perls/host/k93msid/v5.24.1/da1c/lib/5.24.1/x86_64-linux
    /home/sand/src/perl/repoperls/installed-perls/host/k93msid/v5.24.1/da1c/lib/5.24.1
    .