Facebook-OpenGraph v1.31 Perl 5 v5.32.0 amd64-freebsd

Status
Pass
From
Michele Beltrame
Dist
Facebook-OpenGraph v1.31
Platform
Perl 5 v5.32.0 amd64-freebsd
Date
2021-05-14 13:04:06
ID
dd72de20-b4b4-11eb-b78c-e95ca54cc2bb
This distribution has been tested as part of the CPAN Testers
project, supporting the Perl programming language.  See
http://wiki.cpantesters.org/ for more information or email
questions to cpan-testers-discuss@perl.org


--
Dear Go Hagiwara,

This is a computer-generated report for Facebook-OpenGraph-1.31
on perl 5.32.0, created by CPAN-Reporter-1.2018.

Thank you for uploading your work to CPAN.  Congratulations!
All tests were successful.

Sections of this report:

    * Tester comments
    * Program output
    * Prerequisites
    * Environment and other context

------------------------------
TESTER COMMENTS
------------------------------

Additional comments from tester:

none provided

------------------------------
PROGRAM OUTPUT
------------------------------

Output from './Build test':

t/000_compile.t ............................... ok
t/001_basic/01_initialize.t ................... ok
t/001_basic/02_uri.t .......................... ok
t/001_basic/03_video_uri.t .................... ok
t/001_basic/04_auth_uri.t ..................... ok
t/001_basic/05_signed_request.t ............... ok
t/001_basic/06_prep_param.t ................... ok
t/001_basic/07_field_expansion.t .............. ok
t/001_basic/08_appsecret_proof.t .............. ok
t/001_basic/09_js_cookie_name.t ............... ok
t/001_basic/10_gen_versioned_path.t ........... ok
t/002_retrieve/01_get_app_token.t ............. ok
t/002_retrieve/02_get_user_token.t ............ ok
t/002_retrieve/03_fetch.t ..................... ok
t/002_retrieve/04_field_expansion.t ........... ok
t/002_retrieve/05_fetch_with_etag.t ........... ok
t/002_retrieve/06_batch.t ..................... ok
t/002_retrieve/07_bulk_fetch.t ................ ok
t/002_retrieve/08_fql.t ....................... ok
t/002_retrieve/09_bulk_fql.t .................. ok
t/002_retrieve/10_check_object.t .............. ok
t/002_retrieve/11_appsecret_proof.t ........... ok
t/002_retrieve/12_use_post_method.t ........... ok
t/002_retrieve/13_paging.t .................... ok
t/002_retrieve/14_exchange_token.t ............ ok
t/002_retrieve/15_get_user_token_by_cookie.t .. ok
t/003_publish/01_post.t ....................... ok
t/003_publish/02_post_photo.t ................. ok
t/003_publish/03_post_movie.t ................. ok
t/003_publish/04_create_test_users.t .......... ok
t/003_publish/05_publish_action.t ............. ok
t/003_publish/06_publish_staging_resource.t ... ok
t/003_publish/07_post_like.t .................. ok
t/004_response/01_basic.t ..................... ok
All tests successful.
Files=34, Tests=74,  5 wallclock secs ( 0.12 usr  0.05 sys +  3.53 cusr  0.71 csys =  4.41 CPU)
Result: PASS

------------------------------
PREREQUISITES
------------------------------

Prerequisite modules loaded:

requires:

    Module                  Need     Have      
    ----------------------- -------- ----------
    CGI                     0        4.50      
    Data::Recursive::Encode 0        0.07      
    Digest::SHA             0        6.02      
    Furl                    0        3.14      
    HTTP::Message           0        6.25      
    HTTP::Request::Common   0        6.25      
    JSON                    2        4.02      
    MIME::Base64::URLSafe   0        0.01      
    Module::Build           0        0.4231    
    parent                  0        0.238     
    Parse::CPAN::Meta       0        2.150010  
    perl                    5.008001 5.032000  
    Scalar::Util            0        1.55      
    Sub::Uplevel            0        0.2800    
    URI                     0        1.76      

build_requires:

    Module                  Need     Have      
    ----------------------- -------- ----------
    Test::Exception         0        0.43      
    Test::Mock::Furl        0        0.05      
    Test::MockObject        0        1.20200122
    Test::More              0.98     1.302177  

configure_requires:

    Module                  Need     Have      
    ----------------------- -------- ----------
    Module::Build::Tiny     0.035    0.039     


------------------------------
ENVIRONMENT AND OTHER CONTEXT
------------------------------

Environment variables:

    LANG = en_US.UTF-8
    LC_ALL = en_US.UTF-8
    NONINTERACTIVE_TESTING = 1
    PATH = /usr/home/italpro/perl5/perlbrew/bin:/usr/home/italpro/perl5/perlbrew/perls/wperl32/bin:/home/italpro/bin:/usr/local/pgsql/bin:/sbin:/bin:/usr/sbin:/usr/bin:/usr/local/sbin:/usr/local/bin:/usr/home/italpro/bin
    PERL5LIB = 
    PERL5OPT = 
    PERL5_CPANPLUS_IS_RUNNING = 18304
    PERL5_CPAN_IS_RUNNING = 18304
    PERLBREW_HOME = /usr/home/italpro/.perlbrew
    PERLBREW_MANPATH = /usr/home/italpro/perl5/perlbrew/perls/wperl32/man
    PERLBREW_PATH = /usr/home/italpro/perl5/perlbrew/bin:/usr/home/italpro/perl5/perlbrew/perls/wperl32/bin
    PERLBREW_PERL = wperl32
    PERLBREW_ROOT = /usr/home/italpro/perl5/perlbrew
    PERLBREW_SHELLRC_VERSION = 0.88
    PERLBREW_VERSION = 0.88
    PERL_MM_USE_DEFAULT = 1
    PERL_USE_UNSAFE_INC = 1
    SHELL = /usr/local/bin/bash
    TERM = xterm-256color

Perl special variables (and OS-specific diagnostics, for MSWin32):

    $^X = /usr/home/italpro/perl5/perlbrew/perls/perl-5.32.0/bin/perl5.32.0
    $UID/$EUID = 41869 / 41869
    $GID = 1000 1000 861
    $EGID = 1000 1000 861

Perl module toolchain versions installed:

    Module              Have    
    ------------------- --------
    CPAN                2.28    
    CPAN::Meta          2.150010
    Cwd                 3.78    
    ExtUtils::CBuilder  0.280234
    ExtUtils::Command   7.44    
    ExtUtils::Install   2.14    
    ExtUtils::MakeMaker 7.44    
    ExtUtils::Manifest  1.72    
    ExtUtils::ParseXS   3.40    
    File::Spec          3.78    
    JSON                4.02    
    JSON::PP            4.04    
    Module::Build       0.4231  
    Module::Signature   0.87    
    Parse::CPAN::Meta   2.150010
    Test::Harness       3.42    
    Test::More          1.302177
    YAML                1.30    
    YAML::Syck          n/a     
    version             0.9924  


--

Summary of my perl5 (revision 5 version 32 subversion 0) configuration:
   
  Platform:
    osname=freebsd
    osvers=12.1-release-p3
    archname=amd64-freebsd
    uname='freebsd qs4387.pair.com 12.1-release-p3 freebsd 12.1-release-p3 generic amd64 '
    config_args='-de -Dprefix=/usr/home/italpro/perl5/perlbrew/perls/perl-5.32.0 -Aeval:scriptdir=/usr/home/italpro/perl5/perlbrew/perls/perl-5.32.0/bin'
    hint=recommended
    useposix=true
    d_sigaction=define
    useithreads=undef
    usemultiplicity=undef
    use64bitint=define
    use64bitall=define
    uselongdouble=undef
    usemymalloc=n
    default_inc_excludes_dot=define
    bincompat5005=undef
  Compiler:
    cc='cc'
    ccflags ='-DHAS_FPSETMASK -DHAS_FLOATINGPOINT_H -fno-strict-aliasing -pipe -fstack-protector-strong -I/usr/local/include -D_FORTIFY_SOURCE=2'
    optimize='-O2'
    cppflags='-DHAS_FPSETMASK -DHAS_FLOATINGPOINT_H -fno-strict-aliasing -pipe -fstack-protector-strong -I/usr/local/include'
    ccversion=''
    gccversion='4.2.1 Compatible FreeBSD Clang 8.0.1 (tags/RELEASE_801/final 366581)'
    gccosandvers=''
    intsize=4
    longsize=8
    ptrsize=8
    doublesize=8
    byteorder=12345678
    doublekind=3
    d_longlong=define
    longlongsize=8
    d_longdbl=define
    longdblsize=16
    longdblkind=3
    ivtype='long'
    ivsize=8
    nvtype='double'
    nvsize=8
    Off_t='off_t'
    lseeksize=8
    alignbytes=8
    prototype=define
  Linker and Libraries:
    ld='cc'
    ldflags ='-Wl,-E  -fstack-protector-strong -L/usr/local/lib'
    libpth=/usr/lib /usr/local/lib /usr/lib/clang/8.0.1/lib /usr/lib
    libs=-lpthread -lgdbm -ldl -lm -lcrypt -lutil -lc
    perllibs=-lpthread -ldl -lm -lcrypt -lutil -lc
    libc=
    so=so
    useshrplib=false
    libperl=libperl.a
    gnulibc_version=''
  Dynamic Linking:
    dlsrc=dl_dlopen.xs
    dlext=so
    d_dlsymun=undef
    ccdlflags=' '
    cccdlflags='-DPIC -fPIC'
    lddlflags='-shared  -L/usr/local/lib -fstack-protector-strong'


Characteristics of this binary (from libperl): 
  Compile-time options:
    HAS_TIMES
    PERLIO_LAYERS
    PERL_COPY_ON_WRITE
    PERL_DONT_CREATE_GVSV
    PERL_MALLOC_WRAP
    PERL_OP_PARENT
    PERL_PRESERVE_IVUV
    USE_64_BIT_ALL
    USE_64_BIT_INT
    USE_LARGE_FILES
    USE_LOCALE
    USE_LOCALE_COLLATE
    USE_LOCALE_CTYPE
    USE_LOCALE_NUMERIC
    USE_LOCALE_TIME
    USE_PERLIO
    USE_PERL_ATOF
  Built under freebsd
  Compiled at Jul 21 2020 09:00:00
  %ENV:
    PERL5LIB=""
    PERL5OPT=""
    PERL5_CPANPLUS_IS_RUNNING="18304"
    PERL5_CPAN_IS_RUNNING="18304"
    PERLBREW_HOME="/usr/home/italpro/.perlbrew"
    PERLBREW_MANPATH="/usr/home/italpro/perl5/perlbrew/perls/wperl32/man"
    PERLBREW_PATH="/usr/home/italpro/perl5/perlbrew/bin:/usr/home/italpro/perl5/perlbrew/perls/wperl32/bin"
    PERLBREW_PERL="wperl32"
    PERLBREW_ROOT="/usr/home/italpro/perl5/perlbrew"
    PERLBREW_SHELLRC_VERSION="0.88"
    PERLBREW_VERSION="0.88"
    PERL_MM_USE_DEFAULT="1"
    PERL_USE_UNSAFE_INC="1"
  @INC:
    /usr/home/italpro/perl5/perlbrew/perls/perl-5.32.0/lib/site_perl/5.32.0/amd64-freebsd
    /usr/home/italpro/perl5/perlbrew/perls/perl-5.32.0/lib/site_perl/5.32.0
    /usr/home/italpro/perl5/perlbrew/perls/perl-5.32.0/lib/5.32.0/amd64-freebsd
    /usr/home/italpro/perl5/perlbrew/perls/perl-5.32.0/lib/5.32.0
    .