Plack-Middleware-Greylist vv0.8.1 Perl 5 v5.38.2 amd64-freebsd

Status
Pass
From
Slaven Rezić
Dist
Plack-Middleware-Greylist vv0.8.1
Platform
Perl 5 v5.38.2 amd64-freebsd
Date
2024-07-15 12:36:31
ID
dd6d1dae-42a6-11ef-bcdd-c4296e8775ea
This distribution has been tested as part of the CPAN Testers
project, supporting the Perl programming language.  See
http://wiki.cpantesters.org/ for more information or email
questions to cpan-testers-discuss@perl.org


--
Dear Robert Rothenberg,

This is a computer-generated report for Plack-Middleware-Greylist-v0.8.1
on perl 5.38.2, created by CPAN-Reporter-1.2019.

Thank you for uploading your work to CPAN.  Congratulations!
All tests were successful.

Sections of this report:

    * Tester comments
    * Program output
    * Prerequisites
    * Environment and other context

------------------------------
TESTER COMMENTS
------------------------------

Additional comments from tester:

none provided

------------------------------
PROGRAM OUTPUT
------------------------------

Output from '/usr/bin/make test':

PERL_DL_NONLAZY=1 "/usr/perl5.38.2/bin/perl" "-MExtUtils::Command::MM" "-MTest::Harness" "-e" "undef *Test::Harness::Switches; test_harness(0, 'blib/lib', 'blib/arch')" t/*.t
# 
# Versions for all modules listed in MYMETA.json (including optional ones):
# 
# === Configure Requires ===
# 
#     Module              Want Have
#     ------------------- ---- ----
#     ExtUtils::MakeMaker  any 7.70
# 
# === Build Requires ===
# 
#     Module              Want Have
#     ------------------- ---- ----
#     ExtUtils::MakeMaker  any 7.70
# 
# === Test Requires ===
# 
#     Module                           Want     Have
#     -------------------------------- ---- --------
#     Cache::FastMmap                  1.52     1.57
#     File::Spec                        any     3.88
#     HTTP::Request::Common             any     6.46
#     IO::Scalar                        any    2.113
#     Module::Metadata                  any 1.000037
#     Path::Tiny                        any    0.146
#     Plack::Builder                    any    undef
#     Plack::Middleware::ContentLength  any    undef
#     Plack::Middleware::Head           any    undef
#     Plack::Middleware::ReverseProxy   any     0.16
#     Plack::Response                   any   1.0051
#     Plack::Test                       any    undef
#     Test2::Tools::Compare             any 0.000162
#     Test2::V0                         any 0.000162
#     Test::More                        any 1.302198
#     strict                            any     1.12
# 
# === Test Recommends ===
# 
#     Module         Want     Have
#     ---------- -------- --------
#     CPAN::Meta 2.120900 2.150010
# 
# === Runtime Requires ===
# 
#     Module                Want     Have
#     ----------------- -------- --------
#     HTTP::Status           any     6.46
#     List::Util            1.29     1.63
#     Module::Load           any     0.36
#     Net::IP::LPM           any     1.10
#     Plack::Middleware      any    undef
#     Ref::Util              any    0.204
#     Time::Seconds          any   1.3401
#     experimental           any    0.031
#     parent                 any    0.241
#     perl              5.020000 5.038002
#     warnings               any     1.65
# 
# === Runtime Recommends ===
# 
#     Module          Want  Have
#     --------------- ---- -----
#     Cache::FastMmap 1.52  1.57
#     Ref::Util::XS    any 0.117
# 
# === Other Modules ===
# 
#     Module   Have
#     ------ ------
#     Plack  1.0051
# 
t/00-report-prereqs.t ....... ok
t/01-greylist.t ............. ok
t/02-rate-codes.t ........... ok
t/03-override.t ............. ok
t/04-ip6.t .................. ok
t/05-callback.t ............. ok
t/author-changes.t .......... skipped: these tests are for testing by the author
t/author-critic.t ........... skipped: these tests are for testing by the author
t/author-eof.t .............. skipped: these tests are for testing by the author
t/author-eol.t .............. skipped: these tests are for testing by the author
t/author-minimum-version.t .. skipped: these tests are for testing by the author
t/author-no-tabs.t .......... skipped: these tests are for testing by the author
t/author-pod-coverage.t ..... skipped: these tests are for testing by the author
t/author-pod-linkcheck.t .... skipped: these tests are for testing by the author
t/author-pod-syntax.t ....... skipped: these tests are for testing by the author
t/author-portability.t ...... skipped: these tests are for testing by the author
t/author-vars.t ............. skipped: these tests are for testing by the author
t/release-dist-manifest.t ... skipped: these tests are for release candidate testing
t/release-fixme.t ........... skipped: these tests are for release candidate testing
t/release-kwalitee.t ........ skipped: these tests are for release candidate testing
t/release-trailing-space.t .. skipped: these tests are for release candidate testing
All tests successful.
Files=21, Tests=17,  2 wallclock secs ( 0.06 usr  0.02 sys +  1.00 cusr  0.19 csys =  1.27 CPU)
Result: PASS

------------------------------
PREREQUISITES
------------------------------

Prerequisite modules loaded:

requires:

    Module                           Need     Have    
    -------------------------------- -------- --------
    experimental                     0        0.031   
    HTTP::Status                     0        6.46    
    List::Util                       1.29     1.63    
    Module::Load                     0        0.36    
    Net::IP::LPM                     0        1.10    
    parent                           0        0.241   
    perl                             5.020000 5.038002
    Plack::Middleware                0        0       
    Ref::Util                        0        0.204   
    Time::Seconds                    0        1.3401  
    warnings                         0        1.65    

build_requires:

    Module                           Need     Have    
    -------------------------------- -------- --------
    Cache::FastMmap                  1.52     1.57    
    ExtUtils::MakeMaker              0        7.70    
    File::Spec                       0        3.88    
    HTTP::Request::Common            0        6.46    
    IO::Scalar                       0        2.113   
    Module::Metadata                 0        1.000037
    Path::Tiny                       0        0.146   
    Plack::Builder                   0        0       
    Plack::Middleware::ContentLength 0        0       
    Plack::Middleware::Head          0        0       
    Plack::Middleware::ReverseProxy  0        0.16    
    Plack::Response                  0        1.0051  
    Plack::Test                      0        0       
    strict                           0        1.12    
    Test2::Tools::Compare            0        0.000162
    Test2::V0                        0        0.000162
    Test::More                       0        1.302198

configure_requires:

    Module                           Need     Have    
    -------------------------------- -------- --------
    ExtUtils::MakeMaker              0        7.70    


------------------------------
ENVIRONMENT AND OTHER CONTEXT
------------------------------

Environment variables:

    LANG = C.UTF-8
    PATH = /usr/local/bin:/usr/bin:/bin:/usr/local/sbin:/usr/sbin:/sbin:/home/cpansand/bin/sh:/home/cpansand/bin:/usr/games:/home/cpansand/devel:/home/eserte/src/srezic-misc/scripts
    PERL5LIB = 
    PERL5OPT = 
    PERL5_CPANPLUS_IS_RUNNING = 6701
    PERL5_CPAN_IS_RUNNING = 6701
    PERL5_CPAN_IS_RUNNING_IN_RECURSION = 6678,6701
    PERL_BATCH = yes
    PERL_CANARY_STABILITY_NOPROMPT = 1
    PERL_CPAN_REPORTER_CONFIG = /var/tmp/cpansmoker-1023/2024071512/cpanreporter_000_config.ini
    PERL_EXTUTILS_AUTOINSTALL = --defaultdeps
    PERL_USE_UNSAFE_INC = 1
    SHELL = /bin/sh
    TMPDIR = /var/tmp/cpansmoker-1023/2024071512

Perl special variables (and OS-specific diagnostics, for MSWin32):

    $^X = /usr/perl5.38.2/bin/perl
    $UID/$EUID = 1023 / 1023
    $GID = 1023 1023
    $EGID = 1023 1023

Perl module toolchain versions installed:

    Module              Have    
    ------------------- --------
    CPAN                2.36    
    CPAN::Meta          2.150010
    Cwd                 3.89    
    ExtUtils::CBuilder  0.280238
    ExtUtils::Command   7.70    
    ExtUtils::Install   2.22    
    ExtUtils::MakeMaker 7.70    
    ExtUtils::Manifest  1.75    
    ExtUtils::ParseXS   3.51    
    File::Spec          3.88    
    JSON                4.10    
    JSON::PP            4.16    
    Module::Build       0.4234  
    Module::Signature   0.88    
    Parse::CPAN::Meta   2.150010
    Test2               1.302198
    Test::Harness       3.44    
    Test::More          1.302198
    YAML                1.31    
    YAML::Syck          1.34    
    version             0.9932  


--

Summary of my perl5 (revision 5 version 38 subversion 2) configuration:
   
  Platform:
    osname=freebsd
    osvers=15.0-current
    archname=amd64-freebsd
    uname='freebsd cloud2.bbbike.org 15.0-current freebsd 15.0-current #0 main-5bc10feacc: tue dec 26 13:29:01 utc 2023 root@cloud2.bbbike.org:usrobjhomeprojectsfreebsd-srcamd64.amd64sysgeneric amd64 '
    config_args='-ds -e -Dprefix=/usr/perl5.38.2 -Dcf_email=srezic@cpan.org -Doptimize=-O2 -pipe'
    hint=recommended
    useposix=true
    d_sigaction=define
    useithreads=undef
    usemultiplicity=undef
    use64bitint=define
    use64bitall=define
    uselongdouble=undef
    usemymalloc=n
    default_inc_excludes_dot=define
  Compiler:
    cc='cc'
    ccflags ='-DHAS_FPSETMASK -DHAS_FLOATINGPOINT_H -fno-strict-aliasing -pipe -fstack-protector-strong -I/usr/local/include'
    optimize='-O2 -pipe'
    cppflags='-DHAS_FPSETMASK -DHAS_FLOATINGPOINT_H -fno-strict-aliasing -pipe -fstack-protector-strong -I/usr/local/include'
    ccversion=''
    gccversion='FreeBSD Clang 17.0.6 (https://github.com/llvm/llvm-project.git llvmorg-17.0.6-0-g6009708b4367)'
    gccosandvers=''
    intsize=4
    longsize=8
    ptrsize=8
    doublesize=8
    byteorder=12345678
    doublekind=3
    d_longlong=define
    longlongsize=8
    d_longdbl=define
    longdblsize=16
    longdblkind=3
    ivtype='long'
    ivsize=8
    nvtype='double'
    nvsize=8
    Off_t='off_t'
    lseeksize=8
    alignbytes=8
    prototype=define
  Linker and Libraries:
    ld='cc'
    ldflags ='-Wl,-E  -fstack-protector-strong -L/usr/local/lib'
    libpth=/usr/lib /usr/local/lib /usr/lib/clang/17/lib
    libs=-lpthread -lgdbm -ldl -lm -lcrypt -lutil -lc
    perllibs=-lpthread -ldl -lm -lcrypt -lutil -lc
    libc=
    so=so
    useshrplib=false
    libperl=libperl.a
    gnulibc_version=''
  Dynamic Linking:
    dlsrc=dl_dlopen.xs
    dlext=so
    d_dlsymun=undef
    ccdlflags=' '
    cccdlflags='-DPIC -fPIC'
    lddlflags='-shared  -L/usr/local/lib -fstack-protector-strong'


Characteristics of this binary (from libperl): 
  Compile-time options:
    HAS_LONG_DOUBLE
    HAS_STRTOLD
    HAS_TIMES
    PERLIO_LAYERS
    PERL_COPY_ON_WRITE
    PERL_DONT_CREATE_GVSV
    PERL_HASH_FUNC_SIPHASH13
    PERL_HASH_USE_SBOX32
    PERL_MALLOC_WRAP
    PERL_OP_PARENT
    PERL_PRESERVE_IVUV
    PERL_USE_SAFE_PUTENV
    USE_64_BIT_ALL
    USE_64_BIT_INT
    USE_LARGE_FILES
    USE_LOCALE
    USE_LOCALE_COLLATE
    USE_LOCALE_CTYPE
    USE_LOCALE_NUMERIC
    USE_LOCALE_TIME
    USE_PERLIO
    USE_PERL_ATOF
  Built under freebsd
  Compiled at Dec 26 2023 16:19:55
  %ENV:
    PERL5LIB=""
    PERL5OPT=""
    PERL5_CPANPLUS_IS_RUNNING="6701"
    PERL5_CPAN_IS_RUNNING="6701"
    PERL5_CPAN_IS_RUNNING_IN_RECURSION="6678,6701"
    PERL_BATCH="yes"
    PERL_CANARY_STABILITY_NOPROMPT="1"
    PERL_CPAN_REPORTER_CONFIG="/var/tmp/cpansmoker-1023/2024071512/cpanreporter_000_config.ini"
    PERL_EXTUTILS_AUTOINSTALL="--defaultdeps"
    PERL_USE_UNSAFE_INC="1"
  @INC:
    /usr/perl5.38.2/lib/site_perl/5.38.2/amd64-freebsd
    /usr/perl5.38.2/lib/site_perl/5.38.2
    /usr/perl5.38.2/lib/5.38.2/amd64-freebsd
    /usr/perl5.38.2/lib/5.38.2
    .