Report for PostScript-ScheduleGrid-0.05

Back
From: metabase:user:30977d10-2aae-11df-837a-5e0a49663a4f
Subject: PASS PostScript-ScheduleGrid-0.05 v5.12.4 GNU/Linux
Date: 2015-08-30T06:39:29Z

This distribution has been tested as part of the CPAN Testers
project, supporting the Perl programming language.  See
http://wiki.cpantesters.org/ for more information or email
questions to cpan-testers-discuss@perl.org


--
Dear Christopher J. Madsen,

This is a computer-generated report for PostScript-ScheduleGrid-0.05
on perl 5.12.4, created by CPAN-Reporter-1.2015.

Thank you for uploading your work to CPAN.  Congratulations!
All tests were successful.

Sections of this report:

    * Tester comments
    * Program output
    * Prerequisites
    * Environment and other context

------------------------------
TESTER COMMENTS
------------------------------

Additional comments from tester:

this report is from an automated smoke testing program
and was not reviewed by a human for accuracy

------------------------------
PROGRAM OUTPUT
------------------------------

Output from '/usr/bin/make test':

PERL_DL_NONLAZY=1 "/home/stro/perl/5.12.4t/bin/perl" "-MExtUtils::Command::MM" "-MTest::Harness" "-e" "undef *Test::Harness::Switches; test_harness(0, 'blib/lib', 'blib/arch')" t/*.t
# Listing %INC
#                                      AutoLoader 5.70
#                                               B 1.23
#                            B::Hooks::EndOfScope 0.15
#                        B::Hooks::EndOfScope::XS 0.15
#                                            Carp 1.36
#                                      Carp::Clan 6.04
#                                     Class::Load 0.23
#                                 Class::Load::XS 0.09
#                                      Class::MOP 2.1602
#                           Class::MOP::Attribute 2.1602
#                               Class::MOP::Class 2.1602
# Class::MOP::Class::Immutable::Class::MOP::Class undef
#             Class::MOP::Class::Immutable::Trait 2.1602
#                          Class::MOP::Deprecated 2.1602
#                            Class::MOP::Instance 2.1602
#                              Class::MOP::Method 2.1602
#                    Class::MOP::Method::Accessor 2.1602
#                 Class::MOP::Method::Constructor 2.1602
#                   Class::MOP::Method::Generated 2.1602
#                     Class::MOP::Method::Inlined 2.1602
#                        Class::MOP::Method::Meta 2.1602
#                     Class::MOP::Method::Wrapped 2.1602
#                           Class::MOP::MiniTrait 2.1602
#                               Class::MOP::Mixin 2.1602
#                Class::MOP::Mixin::AttributeCore 2.1602
#                Class::MOP::Mixin::HasAttributes 2.1602
#                   Class::MOP::Mixin::HasMethods 2.1602
#                 Class::MOP::Mixin::HasOverloads 2.1602
#                              Class::MOP::Module 2.1602
#                              Class::MOP::Object 2.1602
#                            Class::MOP::Overload 2.1602
#                             Class::MOP::Package 2.1602
#                                Class::Singleton 1.5
#                                          Config undef
#                                   Data::OptList 0.109
#                                        DateTime 1.20
#                              DateTime::Duration 1.20
#                               DateTime::Helpers 1.20
#                              DateTime::Infinite 1.20
#                                DateTime::Locale 0.46
#                          DateTime::Locale::Base 0.46
#                       DateTime::Locale::Catalog 0.46
#                            DateTime::Locale::en 0.46
#                         DateTime::Locale::en_US 0.46
#                          DateTime::Locale::root 0.46
#                              DateTime::TimeZone 1.93
#                     DateTime::TimeZone::Catalog 1.93
#                    DateTime::TimeZone::Floating 1.93
#                       DateTime::TimeZone::Local 1.93
#                  DateTime::TimeZone::OffsetOnly 1.93
#             DateTime::TimeZone::OlsonDB::Change 1.93
#                         DateTime::TimeZone::UTC 1.93
#                        Devel::GlobalDestruction 0.13
#                    Devel::GlobalDestruction::XS 0.01
#                             Devel::OverloadInfo 0.004
#                                      DynaLoader 1.10
#                                   Eval::Closure 0.13
#                                        Exporter 5.72
#                                  Exporter::Tiny 0.042
#                                           Fcntl 1.06
#                                      File::Spec 3.47
#                                File::Spec::Unix 3.47
#                                 List::MoreUtils 0.413
#                             List::MoreUtils::PP 0.413
#                             List::MoreUtils::XS 0.413
#                                      List::Util 1.42
#                                     MRO::Compat 0.12
#                          Module::Implementation 0.09
#                                 Module::Runtime 0.014
#                                           Moose 2.1602
#                               Moose::Deprecated 2.1602
#                                 Moose::Exporter 2.1602
#                          Moose::Meta::Attribute 2.1602
#                  Moose::Meta::Attribute::Native 2.1602
#                              Moose::Meta::Class 2.1602
#            Moose::Meta::Class::Immutable::Trait 2.1602
#                           Moose::Meta::Instance 2.1602
#                             Moose::Meta::Method 2.1602
#                   Moose::Meta::Method::Accessor 2.1602
#                  Moose::Meta::Method::Augmented 2.1602
#                Moose::Meta::Method::Constructor 2.1602
#                 Moose::Meta::Method::Delegation 2.1602
#                 Moose::Meta::Method::Destructor 2.1602
#                       Moose::Meta::Method::Meta 2.1602
#                 Moose::Meta::Method::Overridden 2.1602
#               Moose::Meta::Mixin::AttributeCore 2.1602
#                      Moose::Meta::Object::Trait 2.1602
#                               Moose::Meta::Role 2.1602
#                  Moose::Meta::Role::Application 2.1602
#   Moose::Meta::Role::Application::RoleSummation 2.1602
#         Moose::Meta::Role::Application::ToClass 2.1602
#      Moose::Meta::Role::Application::ToInstance 2.1602
#          Moose::Meta::Role::Application::ToRole 2.1602
#                    Moose::Meta::Role::Attribute 2.1602
#                    Moose::Meta::Role::Composite 2.1602
#                       Moose::Meta::Role::Method 2.1602
#          Moose::Meta::Role::Method::Conflicting 2.1602
#             Moose::Meta::Role::Method::Required 2.1602
#                       Moose::Meta::TypeCoercion 2.1602
#                Moose::Meta::TypeCoercion::Union 2.1602
#                     Moose::Meta::TypeConstraint 2.1602
#              Moose::Meta::TypeConstraint::Class 2.1602
#           Moose::Meta::TypeConstraint::DuckType 2.1602
#               Moose::Meta::TypeConstraint::Enum 2.1602
#    Moose::Meta::TypeConstraint::Parameterizable 2.1602
#      Moose::Meta::TypeConstraint::Parameterized 2.1602
#           Moose::Meta::TypeConstraint::Registry 2.1602
#               Moose::Meta::TypeConstraint::Role 2.1602
#              Moose::Meta::TypeConstraint::Union 2.1602
#                                   Moose::Object 2.1602
#                                     Moose::Role 2.1602
#                                     Moose::Util 2.1602
#                           Moose::Util::MetaRole 2.1602
#                    Moose::Util::TypeConstraints 2.1602
#          Moose::Util::TypeConstraints::Builtins 2.1602
#                                   MooseX::Types 0.45
#                             MooseX::Types::Base 0.45
#               MooseX::Types::CheckedUtilExports 0.45
#                         MooseX::Types::DateTime 0.10
#                            MooseX::Types::Moose 0.45
#                    MooseX::Types::TypeDecorator 0.45
#                    MooseX::Types::UndefinedType 0.45
#                             MooseX::Types::Util 0.45
#                                           POSIX 1.19
#                     Package::DeprecationManager 0.14
#                                  Package::Stash 0.37
#                              Package::Stash::XS 0.28
#                                    Params::Util 1.07
#                                Params::Validate 1.21
#                     Params::Validate::Constants 1.21
#                            Params::Validate::XS 1.21
#                                PostScript::File 2.22
#                                    Scalar::Util 1.42
#                                   Sub::Exporter 0.987
#                      Sub::Exporter::Progressive 0.001011
#                                   Sub::Identify 0.10
#                                    Sub::Install 0.928
#                                       Sub::Name 0.14
#                                       Tie::Hash 1.03
#                                       Try::Tiny 0.22
#                                 Variable::Magic 0.58
#                                        XSLoader 0.10
#                                            base 2.18
#                                        constant 1.33
#                                              if 0.05
#                                         integer 1.00
#                                       metaclass 2.1602
#                                             mro 1.02
#                            namespace::autoclean 0.26
#                                namespace::clean 0.25
#                                        overload 1.10
#                                          parent 0.234
#                                              re 0.11
#                                          strict 1.04
#                                            utf8 1.08
#                                            vars 1.01
#                                        warnings 1.09
#                              warnings::register 1.01
t/00-all_prereqs.t .. ok
# Testing PostScript::ScheduleGrid 0.05
t/00-load.t ......... ok
t/10-content.t ...... ok
t/20-wrapping.t ..... ok
All tests successful.
Files=4, Tests=71,  1 wallclock secs ( 0.02 usr  0.00 sys +  1.10 cusr  0.02 csys =  1.14 CPU)
Result: PASS

------------------------------
PREREQUISITES
------------------------------

Prerequisite modules loaded:

requires:

    Module                       Need  Have    
    ---------------------------- ----- --------
    DateTime                     0     1.20    
    DateTime::TimeZone           0     1.93    
    List::Util                   1.20  1.42    
    Module::Runtime              0     0.014   
    Moose                        0     2.1602  
    Moose::Role                  0     2.1602  
    Moose::Util::TypeConstraints 0     2.1602  
    MooseX::Types                0     0.45    
    MooseX::Types::DateTime      0     0.10    
    MooseX::Types::Moose         0     0.45    
    namespace::autoclean         0     0.26    
    POSIX                        0     1.19    
    PostScript::File             2.20  2.22    

build_requires:

    Module                       Need  Have    
    ---------------------------- ----- --------
    Data::Dumper                 0     2.154   
    Encode                       0     2.76    
    ExtUtils::MakeMaker          0     7.04    
    Test::More                   0.88  1.001014

configure_requires:

    Module                       Need  Have    
    ---------------------------- ----- --------
    ExtUtils::MakeMaker          6.30  7.04    
    Moose                        0     2.1602  
    MooseX::Types                0     0.45    
    perl                         5.008 5.012004
    version                      0.77  0.9912  


------------------------------
ENVIRONMENT AND OTHER CONTEXT
------------------------------

Environment variables:

    AUTOMATED_TESTING = 1
    LANG = en_US.UTF-8
    PATH = /usr/local/bin:/usr/bin:/bin:/usr/local/games:/usr/games
    PERL5LIB = 
    PERL5OPT = 
    PERL5_CPANPLUS_IS_RUNNING = 13226
    PERL5_CPAN_IS_RUNNING = 13226
    PERL5_CPAN_IS_RUNNING_IN_RECURSION = 5552,13226
    PERL_CR_SMOKER_CURRENT = PostScript-ScheduleGrid-0.05
    PERL_EXTUTILS_AUTOINSTALL = --defaultdeps
    PERL_MM_USE_DEFAULT = 1
    SHELL = /bin/bash
    TERM = xterm

Perl special variables (and OS-specific diagnostics, for MSWin32):

    $^X = /home/stro/perl/5.12.4t/bin/perl
    $UID/$EUID = 1000 / 1000
    $GID = 1000 24 25 29 30 44 46 108 114 1000
    $EGID = 1000 24 25 29 30 44 46 108 114 1000

Perl module toolchain versions installed:

    Module              Have    
    ------------------- --------
    CPAN                1.94_56 
    CPAN::Meta          2.150005
    Cwd                 3.47    
    ExtUtils::CBuilder  0.280223
    ExtUtils::Command   1.16    
    ExtUtils::Install   1.55    
    ExtUtils::MakeMaker 7.04    
    ExtUtils::Manifest  1.70    
    ExtUtils::ParseXS   3.24    
    File::Spec          3.47    
    JSON                2.90    
    JSON::PP            2.27203 
    Module::Build       0.4214  
    Module::Signature   n/a     
    Parse::CPAN::Meta   1.4417  
    Test::Harness       3.35    
    Test::More          1.001014
    YAML                1.15    
    YAML::Syck          1.29    
    version             0.9912  


--

Summary of my perl5 (revision 5 version 12 subversion 4) configuration:
   
  Platform:
    osname=linux, osvers=3.16.0-4-amd64, archname=x86_64-linux-thread-multi
    uname='linux vm-debian-001 3.16.0-4-amd64 #1 smp debian 3.16.7-ckt11-1 (2015-05-24) x86_64 gnulinux '
    config_args=''
    hint=recommended, useposix=true, d_sigaction=define
    useithreads=define, usemultiplicity=define
    useperlio=define, d_sfio=undef, uselargefiles=define, usesocks=undef
    use64bitint=define, use64bitall=define, uselongdouble=undef
    usemymalloc=n, bincompat5005=undef
  Compiler:
    cc='cc', ccflags ='-D_REENTRANT -D_GNU_SOURCE -fno-strict-aliasing -pipe -fstack-protector -I/usr/local/include -D_LARGEFILE_SOURCE -D_FILE_OFFSET_BITS=64',
    optimize='-O2',
    cppflags='-D_REENTRANT -D_GNU_SOURCE -fno-strict-aliasing -pipe -fstack-protector -I/usr/local/include'
    ccversion='', gccversion='4.9.2', gccosandvers=''
    intsize=4, longsize=8, ptrsize=8, doublesize=8, byteorder=12345678
    d_longlong=define, longlongsize=8, d_longdbl=define, longdblsize=16
    ivtype='long', ivsize=8, nvtype='double', nvsize=8, Off_t='off_t', lseeksize=8
    alignbytes=8, prototype=define
  Linker and Libraries:
    ld='cc', ldflags =' -fstack-protector -L/usr/local/lib'
    libpth=/usr/local/lib /lib/x86_64-linux-gnu /lib/../lib /usr/lib/x86_64-linux-gnu /usr/lib/../lib /lib /usr/lib
    libs=-lnsl -ldl -lm -lcrypt -lutil -lpthread -lc
    perllibs=-lnsl -ldl -lm -lcrypt -lutil -lpthread -lc
    libc=, so=so, useshrplib=false, libperl=libperl.a
    gnulibc_version='2.19'
  Dynamic Linking:
    dlsrc=dl_dlopen.xs, dlext=so, d_dlsymun=undef, ccdlflags='-Wl,-E'
    cccdlflags='-fPIC', lddlflags='-shared -O2 -L/usr/local/lib -fstack-protector'


Characteristics of this binary (from libperl): 
  Compile-time options: MULTIPLICITY PERL_DONT_CREATE_GVSV
                        PERL_IMPLICIT_CONTEXT PERL_MALLOC_WRAP USE_64_BIT_ALL
                        USE_64_BIT_INT USE_ITHREADS USE_LARGE_FILES
                        USE_PERLIO USE_PERL_ATOF USE_REENTRANT_API
  Built under linux
  Compiled at Jul 17 2015 18:39:48
  %ENV:
    PERL5LIB=""
    PERL5OPT=""
    PERL5_CPANPLUS_IS_RUNNING="13226"
    PERL5_CPAN_IS_RUNNING="13226"
    PERL5_CPAN_IS_RUNNING_IN_RECURSION="5552,13226"
    PERL_CR_SMOKER_CURRENT="PostScript-ScheduleGrid-0.05"
    PERL_EXTUTILS_AUTOINSTALL="--defaultdeps"
    PERL_MM_USE_DEFAULT="1"
  @INC:
    /home/stro/perl/5.12.4t/lib/site_perl/5.12.4/x86_64-linux-thread-multi
    /home/stro/perl/5.12.4t/lib/site_perl/5.12.4
    /home/stro/perl/5.12.4t/lib/5.12.4/x86_64-linux-thread-multi
    /home/stro/perl/5.12.4t/lib/5.12.4
    .