Back
From: metabase:user:314402c4-2aae-11df-837a-5e0a49663a4f
Subject: PASS Alien-automake-0.11 v5.26.0 GNU/Linux
Date: 2017-08-08T10:03:45Z
This distribution has been tested as part of the CPAN Testers
project, supporting the Perl programming language. See
http://wiki.cpantesters.org/ for more information or email
questions to cpan-testers-discuss@perl.org
--
Dear Graham Ollis,
This is a computer-generated report for Alien-automake-0.11
on perl 5.26.0, created by CPAN-Reporter-1.2018.
Thank you for uploading your work to CPAN. Congratulations!
All tests were successful.
Sections of this report:
* Tester comments
* Program output
* Prerequisites
* Environment and other context
------------------------------
TESTER COMMENTS
------------------------------
Additional comments from tester:
none provided
------------------------------
PROGRAM OUTPUT
------------------------------
Output from '/usr/bin/make test':
PERL_DL_NONLAZY=1 "/opt/perl-5.26.0/bin/perl5.26.0" "-MExtUtils::Command::MM" "-MTest::Harness" "-e" "undef *Test::Harness::Switches; test_harness(0, 'blib/lib', 'blib/arch')" t/*.t
#
#
#
# HARNESS_ACTIVE=1
# HARNESS_VERSION=3.38
# LANG=en_US.UTF-8
# PERL5LIB=/home/cpansand/.cpan/build/2017080809/Alien-automake-0.11-0/blib/lib:/home/cpansand/.cpan/build/2017080809/Alien-automake-0.11-0/blib/arch:/home/cpansand/.cpan/build/2017080809/Alien-autoconf-0.07-0/blib/arch:/home/cpansand/.cpan/build/2017080809/Alien-autoconf-0.07-0/blib/lib:/home/cpansand/.cpan/build/2017080809/Alien-Build-0.91-1/blib/arch:/home/cpansand/.cpan/build/2017080809/Alien-Build-0.91-1/blib/lib:/home/cpansand/.cpan/build/2017080809/Alien-autoconf-0.07-0/blib/arch:/home/cpansand/.cpan/build/2017080809/Alien-autoconf-0.07-0/blib/lib:/home/cpansand/.cpan/build/2017080809/Alien-Build-0.91-1/blib/arch:/home/cpansand/.cpan/build/2017080809/Alien-Build-0.91-1/blib/lib
# PERL5OPT=
# PERL5_CPANPLUS_IS_RUNNING=14583
# PERL5_CPAN_IS_RUNNING=14583
# PERL5_CPAN_IS_RUNNING_IN_RECURSION=14497,14583
# PERLDOC=-MPod::Perldoc::ToTextOverstrike
# PERL_BATCH=yes
# PERL_CANARY_STABILITY_NOPROMPT=1
# PERL_CPAN_REPORTER_CONFIG=/var/tmp/cpansmoker-1023/2017080809/cpanreporter_000_config.ini
# PERL_DL_NONLAZY=1
# PERL_EXTUTILS_AUTOINSTALL=--defaultdeps
# PERL_USE_UNSAFE_INC=1
# SHELL=/usr/bin/zsh
#
#
#
# PERL5LIB path
# /home/cpansand/.cpan/build/2017080809/Alien-automake-0.11-0/blib/lib
# /home/cpansand/.cpan/build/2017080809/Alien-automake-0.11-0/blib/arch
# /home/cpansand/.cpan/build/2017080809/Alien-autoconf-0.07-0/blib/arch
# /home/cpansand/.cpan/build/2017080809/Alien-autoconf-0.07-0/blib/lib
# /home/cpansand/.cpan/build/2017080809/Alien-Build-0.91-1/blib/arch
# /home/cpansand/.cpan/build/2017080809/Alien-Build-0.91-1/blib/lib
# /home/cpansand/.cpan/build/2017080809/Alien-autoconf-0.07-0/blib/arch
# /home/cpansand/.cpan/build/2017080809/Alien-autoconf-0.07-0/blib/lib
# /home/cpansand/.cpan/build/2017080809/Alien-Build-0.91-1/blib/arch
# /home/cpansand/.cpan/build/2017080809/Alien-Build-0.91-1/blib/lib
#
#
#
# perl 5.026000
# Alien::Base 0.91
# Alien::Build 0.91
# Alien::Build::MM 0.91
# Alien::Build::Plugin::Build::Autoconf 0.91
# Alien::Build::Plugin::Build::MSYS 0.91
# Alien::autoconf 0.07
# Env 1.04
# ExtUtils::MakeMaker 7.24
# Test2::V0 0.000072
# Test::Alien 0.91
# Test::More 1.302086
#
#
#
t/00_diag.t ......... ok
t/01_use.t .......... ok
t/alien_automake.t .. ok
All tests successful.
Files=3, Tests=7, 1 wallclock secs ( 0.02 usr 0.01 sys + 0.33 cusr 0.08 csys = 0.44 CPU)
Result: PASS
------------------------------
PREREQUISITES
------------------------------
Prerequisite modules loaded:
requires:
Module Need Have
------------------------------------- -------- --------
Alien::Base 0.038 0.91
Alien::Build 0.25 0.91
perl 5.008001 5.026000
build_requires:
Module Need Have
------------------------------------- -------- --------
Alien::autoconf 0.05 0.07
Alien::Build 0.49 0.91
Alien::Build::MM 0.32 0.91
Alien::Build::Plugin::Build::Autoconf 0.47 0.91
Alien::m4 0.11 0.12
Archive::Tar 0 2.24
Config 0 5.026000
Env 0 1.04
ExtUtils::MakeMaker 6.52 7.24
IO::Zlib 0 1.10
Net::FTP 0 3.10
Path::Tiny 0.077 0.104
Sort::Versions 0 1.62
Test2::V0 0.000060 0.000072
Test::Alien 0 0.91
Test::More 0.94 1.302086
URI 0 1.71
configure_requires:
Module Need Have
------------------------------------- -------- --------
Alien::Build 0.32 0.91
Alien::Build::MM 0.32 0.91
Alien::Build::Plugin::Build::MSYS 0.84 0.91
ExtUtils::MakeMaker 6.52 7.24
perl 5.008001 5.026000
------------------------------
ENVIRONMENT AND OTHER CONTEXT
------------------------------
Environment variables:
LANG = en_US.UTF-8
PATH = /usr/local/bin:/usr/bin:/bin:/usr/local/sbin:/usr/sbin:/sbin:/home/cpansand/bin/linux-gnu:/home/cpansand/bin/sh:/home/cpansand/bin:/usr/games:/home/cpansand/devel:/home/eserte/src/srezic-misc/scripts
PERL5LIB = /home/cpansand/.cpan/build/2017080809/Alien-autoconf-0.07-0/blib/arch:/home/cpansand/.cpan/build/2017080809/Alien-autoconf-0.07-0/blib/lib:/home/cpansand/.cpan/build/2017080809/Alien-Build-0.91-1/blib/arch:/home/cpansand/.cpan/build/2017080809/Alien-Build-0.91-1/blib/lib
PERL5OPT =
PERL5_CPANPLUS_IS_RUNNING = 14583
PERL5_CPAN_IS_RUNNING = 14583
PERL5_CPAN_IS_RUNNING_IN_RECURSION = 14497,14583
PERLDOC = -MPod::Perldoc::ToTextOverstrike
PERL_BATCH = yes
PERL_CANARY_STABILITY_NOPROMPT = 1
PERL_CPAN_REPORTER_CONFIG = /var/tmp/cpansmoker-1023/2017080809/cpanreporter_000_config.ini
PERL_EXTUTILS_AUTOINSTALL = --defaultdeps
PERL_USE_UNSAFE_INC = 1
SHELL = /usr/bin/zsh
TERM = screen
TMPDIR = /var/tmp/cpansmoker-1023/2017080809
Perl special variables (and OS-specific diagnostics, for MSWin32):
$^X = /opt/perl-5.26.0/bin/perl5.26.0
$UID/$EUID = 1023 / 1023
$GID = 1023 1023
$EGID = 1023 1023
Perl module toolchain versions installed:
Module Have
------------------- ----------
CPAN 2.18
CPAN::Meta 2.150010
Cwd 3.67
ExtUtils::CBuilder 0.280225
ExtUtils::Command 7.24
ExtUtils::Install 2.04
ExtUtils::MakeMaker 7.24
ExtUtils::Manifest 1.70
ExtUtils::ParseXS 3.34
File::Spec 3.67
JSON 2.94
JSON::PP 2.27400_02
Module::Build 0.4224
Module::Signature 0.81
Parse::CPAN::Meta 2.150010
Test::Harness 3.38
Test::More 1.302086
YAML 1.23
YAML::Syck 1.30
version 0.9917
--
Summary of my perl5 (revision 5 version 26 subversion 0) configuration:
Platform:
osname=linux
osvers=4.4.0-79-generic
archname=x86_64-linux
uname='linux ubuntu16 4.4.0-79-generic #100-ubuntu smp wed may 17 19:58:14 utc 2017 x86_64 x86_64 x86_64 gnulinux '
config_args='-ds -e -Dprefix=/opt/perl-5.26.0 -Dcf_email=srezic@cpan.org'
hint=recommended
useposix=true
d_sigaction=define
useithreads=undef
usemultiplicity=undef
use64bitint=define
use64bitall=define
uselongdouble=undef
usemymalloc=n
default_inc_excludes_dot=define
bincompat5005=undef
Compiler:
cc='cc'
ccflags ='-fwrapv -fno-strict-aliasing -pipe -fstack-protector-strong -I/usr/local/include -D_LARGEFILE_SOURCE -D_FILE_OFFSET_BITS=64'
optimize='-O2'
cppflags='-fwrapv -fno-strict-aliasing -pipe -fstack-protector-strong -I/usr/local/include'
ccversion=''
gccversion='5.4.0 20160609'
gccosandvers=''
intsize=4
longsize=8
ptrsize=8
doublesize=8
byteorder=12345678
doublekind=3
d_longlong=define
longlongsize=8
d_longdbl=define
longdblsize=16
longdblkind=3
ivtype='long'
ivsize=8
nvtype='double'
nvsize=8
Off_t='off_t'
lseeksize=8
alignbytes=8
prototype=define
Linker and Libraries:
ld='cc'
ldflags =' -fstack-protector-strong -L/usr/local/lib'
libpth=/usr/local/lib /usr/lib/gcc/x86_64-linux-gnu/5/include-fixed /usr/include/x86_64-linux-gnu /usr/lib /lib/x86_64-linux-gnu /lib/../lib /usr/lib/x86_64-linux-gnu /usr/lib/../lib /lib
libs=-lpthread -lnsl -lgdbm -ldb -ldl -lm -lcrypt -lutil -lc -lgdbm_compat
perllibs=-lpthread -lnsl -ldl -lm -lcrypt -lutil -lc
libc=libc-2.23.so
so=so
useshrplib=false
libperl=libperl.a
gnulibc_version='2.23'
Dynamic Linking:
dlsrc=dl_dlopen.xs
dlext=so
d_dlsymun=undef
ccdlflags='-Wl,-E'
cccdlflags='-fPIC'
lddlflags='-shared -O2 -L/usr/local/lib -fstack-protector-strong'
Characteristics of this binary (from libperl):
Compile-time options:
HAS_TIMES
PERLIO_LAYERS
PERL_COPY_ON_WRITE
PERL_DONT_CREATE_GVSV
PERL_MALLOC_WRAP
PERL_OP_PARENT
PERL_PRESERVE_IVUV
USE_64_BIT_ALL
USE_64_BIT_INT
USE_LARGE_FILES
USE_LOCALE
USE_LOCALE_COLLATE
USE_LOCALE_CTYPE
USE_LOCALE_NUMERIC
USE_LOCALE_TIME
USE_PERLIO
USE_PERL_ATOF
Built under linux
Compiled at Jun 19 2017 20:33:19
%ENV:
PERL5LIB="/home/cpansand/.cpan/build/2017080809/Alien-autoconf-0.07-0/blib/arch:/home/cpansand/.cpan/build/2017080809/Alien-autoconf-0.07-0/blib/lib:/home/cpansand/.cpan/build/2017080809/Alien-Build-0.91-1/blib/arch:/home/cpansand/.cpan/build/2017080809/Alien-Build-0.91-1/blib/lib"
PERL5OPT=""
PERL5_CPANPLUS_IS_RUNNING="14583"
PERL5_CPAN_IS_RUNNING="14583"
PERL5_CPAN_IS_RUNNING_IN_RECURSION="14497,14583"
PERLDOC="-MPod::Perldoc::ToTextOverstrike"
PERL_BATCH="yes"
PERL_CANARY_STABILITY_NOPROMPT="1"
PERL_CPAN_REPORTER_CONFIG="/var/tmp/cpansmoker-1023/2017080809/cpanreporter_000_config.ini"
PERL_EXTUTILS_AUTOINSTALL="--defaultdeps"
PERL_USE_UNSAFE_INC="1"
@INC:
/home/cpansand/.cpan/build/2017080809/Alien-autoconf-0.07-0/blib/arch
/home/cpansand/.cpan/build/2017080809/Alien-autoconf-0.07-0/blib/lib
/home/cpansand/.cpan/build/2017080809/Alien-Build-0.91-1/blib/arch
/home/cpansand/.cpan/build/2017080809/Alien-Build-0.91-1/blib/lib
/opt/perl-5.26.0/lib/site_perl/5.26.0/x86_64-linux
/opt/perl-5.26.0/lib/site_perl/5.26.0
/opt/perl-5.26.0/lib/5.26.0/x86_64-linux
/opt/perl-5.26.0/lib/5.26.0
.