Back
From: metabase:user:314402c4-2aae-11df-837a-5e0a49663a4f
Subject: PASS Mojolicious-Plugin-Vparam-2.11 v5.24.1 GNU/Linux
Date: 2017-06-16T16:57:21Z
This distribution has been tested as part of the CPAN Testers
project, supporting the Perl programming language. See
http://wiki.cpantesters.org/ for more information or email
questions to cpan-testers-discuss@perl.org
--
Dear Roman V. Nikolaev,
This is a computer-generated report for Mojolicious-Plugin-Vparam-2.11
on perl 5.24.1, created by CPAN-Reporter-1.2018.
Thank you for uploading your work to CPAN. Congratulations!
All tests were successful.
Sections of this report:
* Tester comments
* Program output
* Prerequisites
* Environment and other context
------------------------------
TESTER COMMENTS
------------------------------
Additional comments from tester:
none provided
------------------------------
PROGRAM OUTPUT
------------------------------
Output from '/usr/bin/make test':
PERL_DL_NONLAZY=1 "/opt/perl-5.24.1t/bin/perl" "-MExtUtils::Command::MM" "-MTest::Harness" "-e" "undef *Test::Harness::Switches; test_harness(0, 'blib/lib', 'blib/arch')" t/*.t
t/001_use_ok.t .............. ok
t/005_compile.t ............. ok
t/007_vtype.t ............... ok
t/008_vconf.t ............... ok
t/009_vfilter.t ............. ok
t/010_vparam.t .............. ok
t/011_vparam_attr.t ......... ok
t/020_simple.t .............. ok
t/022_vparams.t ............. ok
t/023_vsort.t ............... ok
t/024_vsort_disable.t ....... ok
t/030_optional.t ............ ok
t/031_as.t .................. ok
t/032_skip.t ................ ok
t/033_isa.t ................. ok
t/034_skipundef.t ........... ok
t/035_blessed.t ............. ok
t/036_unknown.t ............. ok
t/040_array.t ............... ok
t/041_multiline.t ........... ok
t/042_multijoin.t ........... ok
t/045_load.t ................ ok
t/046_load-array.t .......... ok
t/047_load-code.t ........... ok
t/049_hash.t ................ ok
t/050_vclass.t .............. ok
t/060_vvalue.t .............. ok
t/080_mojo_validator.t ...... ok
t/090_errors.t .............. ok
t/091_verror_manual.t ....... ok
t/100_int.t ................. ok
t/110_numeric.t ............. ok
t/120_money.t ............... ok
t/130_percent.t ............. ok
t/140_lon_lat.t ............. ok
t/200_str.t ................. ok
t/210_text.t ................ ok
t/220_password.t ............ ok
t/230_uuid.t ................ ok
t/300_datetime.t ............ ok
t/303_datetime_timestamp.t .. ok
t/306_datetime_relative.t ... ok
t/310_time.t ................ ok
t/320_date.t ................ ok
t/325_date_dt.t ............. ok
t/400_bool.t ................ ok
t/500_email.t ............... ok
t/510_url.t ................. ok
t/600_phone.t ............... ok
t/605_phone_defaults.t ...... ok
t/607_phone_fix.t ........... ok
t/700_json.t ................ ok
t/710_address.t ............. ok
t/714_address_signing.t ..... ok
t/715_address-optional.t .... ok
t/716_address_json.t ........ ok
t/720_jpath.t ............... ok
t/721_jpath_array.t ......... ok
t/730_cpath.t ............... ok
t/740_xpath.t ............... ok
t/800_inn.t ................. ok
t/805_kpp.t ................. ok
t/840_isin.t ................ ok
t/841_maestro.t ............. ok
t/842_creditcard.t .......... ok
t/850_barcode.t ............. ok
t/900_regexp.t .............. ok
t/905_in.t .................. ok
t/910_numbers.t ............. ok
t/915_strings.t ............. ok
t/920_range.t ............... ok
t/925_size.t ................ ok
t/990_manifest.t ............ ok
t/995_pod.t ................. ok
All tests successful.
Files=74, Tests=1407, 53 wallclock secs ( 0.60 usr 0.16 sys + 46.02 cusr 4.26 csys = 51.04 CPU)
Result: PASS
------------------------------
PREREQUISITES
------------------------------
Prerequisite modules loaded:
requires:
Module Need Have
--------------------------- -------- --------
DateTime 0 1.42
DateTime::Format::DateParse 0 0.05
List::MoreUtils 0 0.419
Mail::RFC822::Address 0 0.3
Mojolicious 0 7.30
perl 5.010000 5.024001
Test::Compile 0 v1.3.0
Test::More 0 1.302085
XML::LibXML 0 2.0129
build_requires:
Module Need Have
--------------------------- -------- --------
ExtUtils::MakeMaker 0 7.24
configure_requires:
Module Need Have
--------------------------- -------- --------
ExtUtils::MakeMaker 0 7.24
------------------------------
ENVIRONMENT AND OTHER CONTEXT
------------------------------
Environment variables:
LANG = de_DE.UTF-8
PATH = /usr/local/bin:/usr/bin:/bin:/usr/local/sbin:/usr/sbin:/sbin:/home/cpansand/bin/linux-gnu:/home/cpansand/bin/sh:/home/cpansand/bin:/usr/games:/home/cpansand/devel:/home/eserte/src/srezic-misc/scripts
PERL5LIB =
PERL5OPT =
PERL5_CPANPLUS_IS_RUNNING = 26838
PERL5_CPAN_IS_RUNNING = 26838
PERL5_CPAN_IS_RUNNING_IN_RECURSION = 26749,26838
PERLDOC = -MPod::Perldoc::ToTextOverstrike
PERL_BATCH = yes
PERL_CANARY_STABILITY_NOPROMPT = 1
PERL_CPAN_REPORTER_CONFIG = /var/tmp/cpansmoker-1002/2017061612/cpanreporter_000_config.ini
PERL_EXTUTILS_AUTOINSTALL = --defaultdeps
SHELL = /bin/zsh
TERM = screen
TMPDIR = /var/tmp/cpansmoker-1002/2017061612
Perl special variables (and OS-specific diagnostics, for MSWin32):
$^X = /opt/perl-5.24.1t/bin/perl
$UID/$EUID = 1002 / 1002
$GID = 1002 1002
$EGID = 1002 1002
Perl module toolchain versions installed:
Module Have
------------------- ----------
CPAN 2.16
CPAN::Meta 2.150005
Cwd 3.63_01
ExtUtils::CBuilder 0.280225
ExtUtils::Command 7.24
ExtUtils::Install 2.12
ExtUtils::MakeMaker 7.24
ExtUtils::Manifest 1.70
ExtUtils::ParseXS 3.31
File::Spec 3.63_01
JSON 2.94
JSON::PP 2.27400
Module::Build 0.4220
Module::Signature 0.81
Parse::CPAN::Meta 1.4417_001
Test::Harness 3.38
Test::More 1.302085
YAML 1.23
YAML::Syck 1.30
version 0.9916
--
Summary of my perl5 (revision 5 version 24 subversion 1) configuration:
Platform:
osname=linux, osvers=3.10.0-514.6.2.el7.x86_64, archname=x86_64-linux-thread-multi
uname='linux prod5 3.10.0-514.6.2.el7.x86_64 #1 smp thu feb 23 03:04:39 utc 2017 x86_64 x86_64 x86_64 gnulinux '
config_args='-ds -e -Dprefix=/opt/perl-5.24.1t -Dusethreads -Dcf_email=srezic@cpan.org'
hint=recommended, useposix=true, d_sigaction=define
useithreads=define, usemultiplicity=define
use64bitint=define, use64bitall=define, uselongdouble=undef
usemymalloc=n, bincompat5005=undef
Compiler:
cc='cc', ccflags ='-D_REENTRANT -D_GNU_SOURCE -fwrapv -fno-strict-aliasing -pipe -fstack-protector-strong -I/usr/local/include -D_LARGEFILE_SOURCE -D_FILE_OFFSET_BITS=64 -D_FORTIFY_SOURCE=2',
optimize='-O2',
cppflags='-D_REENTRANT -D_GNU_SOURCE -fwrapv -fno-strict-aliasing -pipe -fstack-protector-strong -I/usr/local/include'
ccversion='', gccversion='4.8.5 20150623 (Red Hat 4.8.5-11)', gccosandvers=''
intsize=4, longsize=8, ptrsize=8, doublesize=8, byteorder=12345678, doublekind=3
d_longlong=define, longlongsize=8, d_longdbl=define, longdblsize=16, longdblkind=3
ivtype='long', ivsize=8, nvtype='double', nvsize=8, Off_t='off_t', lseeksize=8
alignbytes=8, prototype=define
Linker and Libraries:
ld='cc', ldflags =' -fstack-protector-strong -L/usr/local/lib'
libpth=/usr/local/lib /usr/lib /lib/../lib64 /usr/lib/../lib64 /lib /lib64 /usr/lib64 /usr/local/lib64
libs=-lpthread -lnsl -lgdbm -ldb -ldl -lm -lcrypt -lutil -lc -lgdbm_compat
perllibs=-lpthread -lnsl -ldl -lm -lcrypt -lutil -lc
libc=libc-2.17.so, so=so, useshrplib=false, libperl=libperl.a
gnulibc_version='2.17'
Dynamic Linking:
dlsrc=dl_dlopen.xs, dlext=so, d_dlsymun=undef, ccdlflags='-Wl,-E'
cccdlflags='-fPIC', lddlflags='-shared -O2 -L/usr/local/lib -fstack-protector-strong'
Characteristics of this binary (from libperl):
Compile-time options: HAS_TIMES MULTIPLICITY PERLIO_LAYERS
PERL_COPY_ON_WRITE PERL_DONT_CREATE_GVSV
PERL_HASH_FUNC_ONE_AT_A_TIME_HARD
PERL_IMPLICIT_CONTEXT PERL_MALLOC_WRAP
PERL_PRESERVE_IVUV USE_64_BIT_ALL USE_64_BIT_INT
USE_ITHREADS USE_LARGE_FILES USE_LOCALE
USE_LOCALE_COLLATE USE_LOCALE_CTYPE
USE_LOCALE_NUMERIC USE_LOCALE_TIME USE_PERLIO
USE_PERL_ATOF USE_REENTRANT_API
Built under linux
Compiled at Feb 23 2017 21:20:48
%ENV:
PERL5LIB=""
PERL5OPT=""
PERL5_CPANPLUS_IS_RUNNING="26838"
PERL5_CPAN_IS_RUNNING="26838"
PERL5_CPAN_IS_RUNNING_IN_RECURSION="26749,26838"
PERLDOC="-MPod::Perldoc::ToTextOverstrike"
PERL_BATCH="yes"
PERL_CANARY_STABILITY_NOPROMPT="1"
PERL_CPAN_REPORTER_CONFIG="/var/tmp/cpansmoker-1002/2017061612/cpanreporter_000_config.ini"
PERL_EXTUTILS_AUTOINSTALL="--defaultdeps"
@INC:
/opt/perl-5.24.1t/lib/site_perl/5.24.1/x86_64-linux-thread-multi
/opt/perl-5.24.1t/lib/site_perl/5.24.1
/opt/perl-5.24.1t/lib/5.24.1/x86_64-linux-thread-multi
/opt/perl-5.24.1t/lib/5.24.1
.