Database-Async v0.019 Perl 5 v5.38.0 x86_64-linux
- Status
- Pass
- From
- Slaven Rezić
- Dist
-
Database-Async v0.019
- Platform
- Perl 5 v5.38.0 x86_64-linux
- Date
- 2024-01-08 06:26:31
- ID
- dd1f45e0-adee-11ee-88db-e6426e8775ea
This distribution has been tested as part of the CPAN Testers
project, supporting the Perl programming language. See
http://wiki.cpantesters.org/ for more information or email
questions to cpan-testers-discuss@perl.org
--
Dear Tom Molesworth,
This is a computer-generated report for Database-Async-0.019
on perl 5.38.0, created by CPAN-Reporter-1.2019.
Thank you for uploading your work to CPAN. Congratulations!
All tests were successful.
Sections of this report:
* Tester comments
* Program output
* Prerequisites
* Environment and other context
------------------------------
TESTER COMMENTS
------------------------------
Additional comments from tester:
none provided
------------------------------
PROGRAM OUTPUT
------------------------------
Output from '/usr/bin/make test':
PERL_DL_NONLAZY=1 "/opt/perl-5.38.0/bin/perl" "-MExtUtils::Command::MM" "-MTest::Harness" "-e" "undef *Test::Harness::Switches; test_harness(0, 'blib/lib', 'blib/arch')" t/*.t
t/00-check-deps.t ...... ok
t/00-compile.t ......... ok
#
# Versions for all modules listed in MYMETA.json (including optional ones):
#
# === Configure Requires ===
#
# Module Want Have
# ------------------- ---- ----
# ExtUtils::MakeMaker any 7.70
#
# === Build Requires ===
#
# Module Want Have
# ------------------- ---- ----
# ExtUtils::MakeMaker any 7.70
#
# === Test Requires ===
#
# Module Want Have
# ------------------- ----- --------
# ExtUtils::MakeMaker any 7.70
# File::Spec any 3.88
# IO::Handle any 1.52
# IPC::Open3 any 1.22
# Test::CheckDeps 0.010 0.010
# Test::Fatal 0.010 0.017
# Test::More 0.98 1.302194
# Test::Refcount 0.07 0.10
#
# === Test Recommends ===
#
# Module Want Have
# ---------- -------- --------
# CPAN::Meta 2.120900 2.150010
#
# === Runtime Requires ===
#
# Module Want Have
# ------------------------ ----- --------
# Class::Method::Modifiers any 2.15
# Future 0.40 0.50
# Future::AsyncAwait 0.33 0.66
# IO::Async 0.68 0.802
# IO::Async::Notifier 0.68 0.802
# JSON::MaybeUTF8 any 2.000
# List::Util 1.50 1.63
# List::UtilsBy any 0.12
# Log::Any 1.050 1.717
# Module::Load any 0.36
# Path::Tiny 0.108 0.144
# Ryu 3.002 3.005
# Ryu::Async 0.016 0.020
# Scalar::Util 1.50 1.63
# Syntax::Keyword::Try 0.11 0.29
# Template 3.000 3.101
# URI any 5.21
# URI::db 0.19 0.21
# YAML::XS any 0.88
# curry any 2.000001
# indirect any 0.39
# mro any 1.28
# parent any 0.241
# perl 5.024 5.038000
#
t/00-report-prereqs.t .. ok
t/loop_removal.t ....... ok
t/new.t ................ ok
t/pool.t ............... ok
All tests successful.
Files=6, Tests=73, 1 wallclock secs ( 0.03 usr 0.01 sys + 1.13 cusr 0.20 csys = 1.37 CPU)
Result: PASS
------------------------------
PREREQUISITES
------------------------------
Prerequisite modules loaded:
requires:
Module Need Have
------------------------ ----- --------
Class::Method::Modifiers 0 2.15
curry 0 2.000001
Future 0.40 0.50
Future::AsyncAwait 0.33 0.66
indirect 0 0.39
IO::Async 0.68 0.802
IO::Async::Notifier 0.68 0.802
JSON::MaybeUTF8 0 2.000
List::Util 1.50 1.63
List::UtilsBy 0 0.12
Log::Any 1.050 1.717
Module::Load 0 0.36
mro 0 1.28
parent 0 0.241
Path::Tiny 0.108 0.144
perl 5.024 5.038000
Ryu 3.002 3.005
Ryu::Async 0.016 0.020
Scalar::Util 1.50 1.63
Syntax::Keyword::Try 0.11 0.29
Template 3.000 3.101
URI 0 5.21
URI::db 0.19 0.21
YAML::XS 0 0.88
build_requires:
Module Need Have
------------------------ ----- --------
ExtUtils::MakeMaker 0 7.70
File::Spec 0 3.88
IO::Handle 0 1.52
IPC::Open3 0 1.22
Test::CheckDeps 0.010 0.010
Test::Fatal 0.010 0.017
Test::More 0.98 1.302194
Test::Refcount 0.07 0.10
configure_requires:
Module Need Have
------------------------ ----- --------
ExtUtils::MakeMaker 0 7.70
------------------------------
ENVIRONMENT AND OTHER CONTEXT
------------------------------
Environment variables:
LANG = en_US.UTF-8
PATH = /usr/local/bin:/usr/bin:/bin:/usr/local/sbin:/usr/sbin:/sbin:/home/cpansand/bin/linux-gnu:/home/cpansand/bin/sh:/home/cpansand/bin:/usr/games:/home/cpansand/devel:/home/eserte/src/srezic-misc/scripts
PERL5LIB = /home/cpansand/.cpan/build/2024010806/URI-db-0.21-0/blib/arch:/home/cpansand/.cpan/build/2024010806/URI-db-0.21-0/blib/lib:/home/cpansand/.cpan/build/2024010806/URI-Nested-0.10-0/blib/arch:/home/cpansand/.cpan/build/2024010806/URI-Nested-0.10-0/blib/lib
PERL5OPT =
PERL5_CPANPLUS_IS_RUNNING = 21042
PERL5_CPAN_IS_RUNNING = 21042
PERL5_CPAN_IS_RUNNING_IN_RECURSION = 20373,21042
PERLDOC = -MPod::Perldoc::ToTextOverstrike
PERL_BATCH = yes
PERL_CANARY_STABILITY_NOPROMPT = 1
PERL_CPAN_REPORTER_CONFIG = /var/tmp/cpansmoker-1023/2024010806/cpanreporter_000_config.ini
PERL_EXTUTILS_AUTOINSTALL = --defaultdeps
PERL_USE_UNSAFE_INC = 1
SHELL = /usr/bin/zsh
TERM = screen
TMPDIR = /var/tmp/cpansmoker-1023/2024010806
Perl special variables (and OS-specific diagnostics, for MSWin32):
$^X = /opt/perl-5.38.0/bin/perl
$UID/$EUID = 1023 / 1023
$GID = 1023 1023
$EGID = 1023 1023
Perl module toolchain versions installed:
Module Have
------------------- --------
CPAN 2.36
CPAN::Meta 2.150010
Cwd 3.89
ExtUtils::CBuilder 0.280238
ExtUtils::Command 7.70
ExtUtils::Install 2.22
ExtUtils::MakeMaker 7.70
ExtUtils::Manifest 1.73
ExtUtils::ParseXS 3.51
File::Spec 3.88
JSON 4.10
JSON::PP 4.16
Module::Build 0.4234
Module::Signature n/a
Parse::CPAN::Meta 2.150010
Test2 1.302194
Test::Harness 3.44
Test::More 1.302194
YAML 1.31
YAML::Syck 1.34
version 0.9929
--
Summary of my perl5 (revision 5 version 38 subversion 0) configuration:
Platform:
osname=linux
osvers=3.10.0-1160.90.1.el7.x86_64
archname=x86_64-linux
uname='linux cloud3.bbbike.org 3.10.0-1160.90.1.el7.x86_64 #1 smp thu may 4 15:21:22 utc 2023 x86_64 x86_64 x86_64 gnulinux '
config_args='-ds -e -Dprefix=/opt/perl-5.38.0 -Dcf_email=srezic@cpan.org'
hint=recommended
useposix=true
d_sigaction=define
useithreads=undef
usemultiplicity=undef
use64bitint=define
use64bitall=define
uselongdouble=undef
usemymalloc=n
default_inc_excludes_dot=define
Compiler:
cc='cc'
ccflags ='-std=gnu99 -fwrapv -fno-strict-aliasing -pipe -fstack-protector-strong -I/usr/local/include -D_LARGEFILE_SOURCE -D_FILE_OFFSET_BITS=64 -D_FORTIFY_SOURCE=2'
optimize='-O2'
cppflags='-std=gnu99 -fwrapv -fno-strict-aliasing -pipe -fstack-protector-strong -I/usr/local/include'
ccversion=''
gccversion='4.8.5 20150623 (Red Hat 4.8.5-44)'
gccosandvers=''
intsize=4
longsize=8
ptrsize=8
doublesize=8
byteorder=12345678
doublekind=3
d_longlong=define
longlongsize=8
d_longdbl=define
longdblsize=16
longdblkind=3
ivtype='long'
ivsize=8
nvtype='double'
nvsize=8
Off_t='off_t'
lseeksize=8
alignbytes=8
prototype=define
Linker and Libraries:
ld='cc'
ldflags =' -fstack-protector-strong -L/usr/local/lib'
libpth=/usr/local/lib /usr/lib /usr/lib64 /usr/local/lib64
libs=-lpthread -lgdbm -ldb -ldl -lm -lcrypt -lutil -lc -lgdbm_compat
perllibs=-lpthread -ldl -lm -lcrypt -lutil -lc
libc=libc-2.17.so
so=so
useshrplib=false
libperl=libperl.a
gnulibc_version='2.17'
Dynamic Linking:
dlsrc=dl_dlopen.xs
dlext=so
d_dlsymun=undef
ccdlflags='-Wl,-E'
cccdlflags='-fPIC'
lddlflags='-shared -O2 -L/usr/local/lib -fstack-protector-strong'
Characteristics of this binary (from libperl):
Compile-time options:
HAS_LONG_DOUBLE
HAS_STRTOLD
HAS_TIMES
PERLIO_LAYERS
PERL_COPY_ON_WRITE
PERL_DONT_CREATE_GVSV
PERL_HASH_FUNC_SIPHASH13
PERL_HASH_USE_SBOX32
PERL_MALLOC_WRAP
PERL_OP_PARENT
PERL_PRESERVE_IVUV
PERL_USE_SAFE_PUTENV
USE_64_BIT_ALL
USE_64_BIT_INT
USE_LARGE_FILES
USE_LOCALE
USE_LOCALE_COLLATE
USE_LOCALE_CTYPE
USE_LOCALE_NUMERIC
USE_LOCALE_TIME
USE_PERLIO
USE_PERL_ATOF
Built under linux
Compiled at Jul 8 2023 13:46:26
%ENV:
PERL5LIB="/home/cpansand/.cpan/build/2024010806/URI-db-0.21-0/blib/arch:/home/cpansand/.cpan/build/2024010806/URI-db-0.21-0/blib/lib:/home/cpansand/.cpan/build/2024010806/URI-Nested-0.10-0/blib/arch:/home/cpansand/.cpan/build/2024010806/URI-Nested-0.10-0/blib/lib"
PERL5OPT=""
PERL5_CPANPLUS_IS_RUNNING="21042"
PERL5_CPAN_IS_RUNNING="21042"
PERL5_CPAN_IS_RUNNING_IN_RECURSION="20373,21042"
PERLDOC="-MPod::Perldoc::ToTextOverstrike"
PERL_BATCH="yes"
PERL_CANARY_STABILITY_NOPROMPT="1"
PERL_CPAN_REPORTER_CONFIG="/var/tmp/cpansmoker-1023/2024010806/cpanreporter_000_config.ini"
PERL_EXTUTILS_AUTOINSTALL="--defaultdeps"
PERL_USE_UNSAFE_INC="1"
@INC:
/home/cpansand/.cpan/build/2024010806/URI-db-0.21-0/blib/arch
/home/cpansand/.cpan/build/2024010806/URI-db-0.21-0/blib/lib
/home/cpansand/.cpan/build/2024010806/URI-Nested-0.10-0/blib/arch
/home/cpansand/.cpan/build/2024010806/URI-Nested-0.10-0/blib/lib
/opt/perl-5.38.0/lib/site_perl/5.38.0/x86_64-linux
/opt/perl-5.38.0/lib/site_perl/5.38.0
/opt/perl-5.38.0/lib/5.38.0/x86_64-linux
/opt/perl-5.38.0/lib/5.38.0
.