Report for Scalar-Properties-1.100860

Back
From: metabase:user:088bbd1d-6d33-1014-a458-55f4d581bf18
Subject: PASS Scalar-Properties-1.100860 v5.18.2 
Date: 2014-05-06T04:00:42Z

This distribution has been tested as part of the CPAN Testers
project, supporting the Perl programming language.  See
http://wiki.cpantesters.org/ for more information or email
questions to cpan-testers-discuss@perl.org


--
Dear Marcel Gruenauer,

This is a computer-generated report for Scalar-Properties-1.100860
on perl 5.18.2, created by CPAN-Reporter-1.2011.

Thank you for uploading your work to CPAN.  Congratulations!
All tests were successful.

Sections of this report:

    * Tester comments
    * Program output
    * Prerequisites
    * Environment and other context

------------------------------
TESTER COMMENTS
------------------------------

Additional comments from tester:

none provided

------------------------------
PROGRAM OUTPUT
------------------------------

Output from 'E:/opt/pl5182/mingw32/bin/dmake.exe test':

E:\opt\pl5182\bin\perl.exe "-MExtUtils::Command::MM" "-MTest::Harness" "-e" "undef *Test::Harness::Switches; test_harness(0, 'blib\lib', 'blib\arch')" t/*.t
t/00-compile.t ............... ok
# Testing with Perl 5.018002, E:\opt\pl5182\bin\perl.exe
#     Carp version is 1.3301
#     English version is 1.06_01
#     ExtUtils::MakeMaker version is 6.98
#     File::Find version is 1.23
#     File::Temp version is 0.2304
#     Scalar::Util version is 1.38
#     Test::More version is 1.001003
#     overload version is 1.22
t/000-report-versions.t ...... ok
t/01_all.t ................... ok
t/author-critic.t ............ skipped: these tests are for testing by the author
t/release-check-changes.t .... skipped: these tests are for release candidate testing
t/release-dist-manifest.t .... skipped: these tests are for release candidate testing
t/release-has-version.t ...... skipped: these tests are for release candidate testing
t/release-kwalitee.t ......... skipped: these tests are for release candidate testing
t/release-meta-yaml.t ........ skipped: these tests are for release candidate testing
t/release-minimum-version.t .. skipped: these tests are for release candidate testing
t/release-pod-coverage.t ..... skipped: these tests are for release candidate testing
t/release-pod-spell.t ........ skipped: these tests are for release candidate testing
t/release-pod-syntax.t ....... skipped: these tests are for release candidate testing
t/release-portability.t ...... skipped: these tests are for release candidate testing
t/release-synopsis.t ......... skipped: these tests are for release candidate testing
All tests successful.
Files=15, Tests=160,  4 wallclock secs ( 0.16 usr +  0.09 sys =  0.25 CPU)
Result: PASS

------------------------------
PREREQUISITES
------------------------------

Prerequisite modules loaded:

requires:

    Module              Need Have    
    ------------------- ---- --------
    Carp                0    1.3301  
    English             0    1.06_01 
    File::Find          0    1.23    
    File::Temp          0    0.2304  
    overload            0    1.22    
    Scalar::Util        0    1.38    
    Test::More          0.88 1.001003

configure_requires:

    Module              Need Have    
    ------------------- ---- --------
    ExtUtils::MakeMaker 6.11 6.98    


------------------------------
ENVIRONMENT AND OTHER CONTEXT
------------------------------

Environment variables:

    COMSPEC = C:\WINDOWS\system32\cmd.exe
    INCLUDE = E:\opt\pl5182\mingw32\include;E:\opt\pl5182\mingw32\i686-w64-mingw32\include
    LIB = E:\opt\pl5182\mingw32\lib;E:\opt\pl5182\mingw32\i686-w64-mingw32\lib
    NUMBER_OF_PROCESSORS = 1
    PATH = E:\opt\pl5182\mingw32\bin;E:\opt\pl5182\mingw32\i686-w64-mingw32\bin;E:\opt\pl5182\mingw32\libexec\gcc\i686-w64-mingw32\4.6.3;E:\usr\site\bin;E:\usr\bin;E:\Home\GnuPG;E:\Home\unzip\bin;E:\Home\zip\bin;E:\Home\curl\bin;E:\Home\wget;E:\home\lynx;E:\etc\editors\vim\vim74;E:\Home\scripts;C:\WINDOWS\system32;C:\WINDOWS;C:\WINDOWS\System32\Wbem
    PERL5LIB = 
    PERL5OPT = 
    PERL5_CPANPLUS_HOME = E:\PerlDev\5.18.2\asp\cpanplus
    PERL5_CPANPLUS_IS_RUNNING = 2352
    PERL5_CPAN_IS_RUNNING = 2352
    PERL_CPAN_REPORTER_DIR = E:\PerlDev\5.18.2\asp\.reporter
    PERL_LWP_SSL_VERIFY_HOSTNAME = 0
    PROCESSOR_IDENTIFIER = x86 Family 15 Model 2 Stepping 7, GenuineIntel
    TEMP = E:\PerlDev\tmp
    TERM = dumb

Perl special variables (and OS-specific diagnostics, for MSWin32):

    $^X = E:\opt\pl5182\bin\perl.exe
    $UID/$EUID = 0 / 0
    $GID = 0
    $EGID = 0
    Win32::GetOSName = WinXP/.Net
    Win32::GetOSVersion = Service Pack 3, 5, 1, 2600, 2, 3, 0, 256, 1
    Win32::FsType = NTFS
    Win32::IsAdminUser = 1

Perl module toolchain versions installed:

    Module              Have    
    ------------------- --------
    CPAN                2.05    
    CPAN::Meta          2.141170
    Cwd                 3.40    
    ExtUtils::CBuilder  0.280216
    ExtUtils::Command   1.18    
    ExtUtils::Install   1.67    
    ExtUtils::MakeMaker 6.98    
    ExtUtils::Manifest  1.63    
    ExtUtils::ParseXS   3.24    
    File::Spec          3.40    
    JSON                2.90    
    JSON::PP            2.27203 
    Module::Build       0.4205  
    Module::Signature   0.73    
    Parse::CPAN::Meta   1.4414  
    Test::Harness       3.30    
    Test::More          1.001003
    YAML                0.90    
    YAML::Syck          n/a     
    version             0.9908  


--

Summary of my perl5 (revision 5 version 18 subversion 2) configuration:
   
  Platform:
    osname=MSWin32, osvers=5.2, archname=MSWin32-x86-multi-thread-64int
    uname=''
    config_args='undef'
    hint=recommended, useposix=true, d_sigaction=undef
    useithreads=define, usemultiplicity=define
    useperlio=define, d_sfio=undef, uselargefiles=define, usesocks=undef
    use64bitint=define, use64bitall=undef, uselongdouble=undef
    usemymalloc=n, bincompat5005=undef
  Compiler:
    cc='gcc', ccflags =' -s -O2 -DWIN32 -DPERL_TEXTMODE_SCRIPTS -DUSE_SITECUSTOMIZE -DPERL_IMPLICIT_CONTEXT -DPERL_IMPLICIT_SYS -DUSE_PERLIO -fno-strict-aliasing -mms-bitfields',
    optimize='-s -O2',
    cppflags='-DWIN32'
    ccversion='', gccversion='4.6.3', gccosandvers=''
    intsize=4, longsize=4, ptrsize=4, doublesize=8, byteorder=12345678
    d_longlong=define, longlongsize=8, d_longdbl=define, longdblsize=12
    ivtype='long long', ivsize=8, nvtype='double', nvsize=8, Off_t='long long', lseeksize=8
    alignbytes=8, prototype=define
  Linker and Libraries:
    ld='g++', ldflags ='-s -static-libgcc -static-libstdc++ -L"e:\opt\pl5182\lib\CORE" -L"e:\opt\pl5182\mingw32\i686-w64-mingw32\lib"'
    libpth=e:\opt\pl5182\mingw32\i686-w64-mingw32\lib
    libs=-lmoldname -lkernel32 -luser32 -lgdi32 -lwinspool -lcomdlg32 -ladvapi32 -lshell32 -lole32 -loleaut32 -lnetapi32 -luuid -lws2_32 -lmpr -lwinmm -lversion -lodbc32 -lodbccp32 -lcomctl32
    perllibs=-lmoldname -lkernel32 -luser32 -lgdi32 -lwinspool -lcomdlg32 -ladvapi32 -lshell32 -lole32 -loleaut32 -lnetapi32 -luuid -lws2_32 -lmpr -lwinmm -lversion -lodbc32 -lodbccp32 -lcomctl32
    libc=, so=dll, useshrplib=true, libperl=libperl518.a
    gnulibc_version=''
  Dynamic Linking:
    dlsrc=dl_win32.xs, dlext=dll, d_dlsymun=undef, ccdlflags=' '
    cccdlflags=' ', lddlflags='-mdll -s -static-libgcc -static-libstdc++ -L"e:\opt\pl5182\lib\CORE" -L"e:\opt\pl5182\mingw32\i686-w64-mingw32\lib"'


Characteristics of this binary (from libperl): 
  Compile-time options: HAS_TIMES HAVE_INTERP_INTERN MULTIPLICITY
                        PERLIO_LAYERS PERL_DONT_CREATE_GVSV
                        PERL_HASH_FUNC_ONE_AT_A_TIME_HARD
                        PERL_IMPLICIT_CONTEXT PERL_IMPLICIT_SYS
                        PERL_MALLOC_WRAP PERL_PRESERVE_IVUV PERL_SAWAMPERSAND
                        USE_64_BIT_INT USE_ITHREADS USE_LARGE_FILES
                        USE_LOCALE USE_LOCALE_COLLATE USE_LOCALE_CTYPE
                        USE_LOCALE_NUMERIC USE_PERLIO USE_PERL_ATOF
                        USE_SITECUSTOMIZE
  Locally applied patches:
	ActivePerl Build 1801 [297964]
  Built under MSWin32
  Compiled at Feb 23 2014 20:08:23
  %ENV:
    PERL5_CPANPLUS_HOME="E:\PerlDev\5.18.2\asp\cpanplus"
    PERL5_CPANPLUS_IS_RUNNING="2352"
    PERL5_CPAN_IS_RUNNING="2352"
    PERL_CPAN_REPORTER_DIR="E:\PerlDev\5.18.2\asp\.reporter"
    PERL_LWP_SSL_VERIFY_HOSTNAME="0"
  @INC:
    E:/opt/pl5182/site/lib
    E:/opt/pl5182/lib
    .